{"text_format":"1","workbook":"xlsx","n_sheets":3,"sheets":["Chart1","Howden_results_JLAB","Sheet1"],"not_rendered":{"charts":4,"images":2,"macros":1,"external_links":2,"defined_names":65,"comments":0,"pivot_tables":0},"unopened":[{"sheet":"Chart1","index":0,"reason":"not_a_worksheet"}],"bounds":{"document_bytes":16777216,"sheet_cells":100000,"rows_first":2000,"rows_last":500,"rows_between":2000,"halvings":0,"cell_chars":16384,"cell_head_chars":4096},"cells_cut":0,"cells_raw":0,"read":"whole","date_system":"1900"}

{"sheet":"Howden_results_JLAB","index":1,"n_rows":123,"n_cols":44,"rows_kept":123,"cut":false,"hidden":false,"merged":[[6,1,6,3],[28,1,28,3],[51,1,51,2],[75,1,75,3]]}
[null,null,null,null,null,null,null,null,null,null,null,null,null,null,null,null,null,null,null,null,null,null,null,null,"rdt soT corrigé","rdt vol corrigé"]
[null,null,null,null,null,null,null,null,null,null,null,null,null,null,null,null,null,null,null,null,null,null,null,null,{"$f":"#REF!","v":{"$error":"#REF!"}},{"$f":"#REF!","v":{"$error":"#REF!"}},null,{"$f":"[2]!extrapol_(AB1,Vol_ratio,Vol_MP_HP)/100","v":0},null,null,null,"7 Order Polynomial Trendline"]
[null,null,null,null,null,null,null,null,null,null,null,null,null,null,null,null,null,null,null,null,null,null,null,null,{"$f":"#REF!","v":{"$error":"#REF!"}},{"$f":"#REF!","v":{"$error":"#REF!"}},{"$f":"[2]!extrapol_(AA1,IsoT_ratio,IsoT_LPL_MP)/100","v":{"$error":"#VALUE!"}},{"$f":"[2]!extrapol_(AB1,IsoT_ratio,IsoT_MP_HP)/100","v":{"$error":"#VALUE!"}},null,null,null,"Equation: y = (c3 * x^3) + (c2 * x^2) + (c1 * x^1) + b"]
[null,null,null,null,null,null,null,null,null,null,null,null,null,null,null,null,null,null,null,null,null,null,null,null,{"$f":"#REF!","v":{"$error":"#REF!"}},{"$f":"#REF!","v":{"$error":"#REF!"}},null,null,null,null,null,"Xs","Pressure_ratio"]
[null,null,null,null,null,null,null,null,null,"Screw Displacement of ",6310,"m3","according to Howden documentation",null,null,null,null,null,null,null,null,null,null,null,null,null,null,null,null,null,null,"Ys","IsoT_LPL_MP"]
[null,null,null,null,null,null,null,null,null,null,null,null,null,null,null,null,null,null,null,null,null,null,null,null,null,null,null,null,null,null,null,"Order",7]
[null,"isoT efficiency",null,null,null,null,null,null,null,null,null,null,null,null,null,null,null,null,null,null,null,null,null,null,null,null,null,null,null,null,null,"Round Significants Digits",5,null,null,null,"X=",2.5]
["ratio pressure","LPL to MP","LPR to MP","MP to HP"]
[1.5,30.4,48.1,0,null,null,null,"Tin","Pin","Pout","Pr","IsoT_","Vol_","rho","m","Motor Eff.","P","Need","Number",null,"delta","delta",null,null,null,null,null,null,null,null,null,1,{"$f":"\"a\"&8-AF9&\"=\"","v":"a7="},{"$f":"INDEX(LINEST(INDIRECT($AG$5),INDIRECT($AG$4)^{1,2,3,4,5,6,7}),1,AF9)","v":5.9312817423113641E-4},7,{"$f":"\"a\"&8-AF9&\"=\"&AH9","v":"a7=0.000593128174231136"},{"$f":"ROUND(AH9,$AG$7-1-INT(LOG10(ABS(AH9))))","v":5.9312999999999998E-4},{"$f":"AK9*$AL$7^AI9","v":0.36201782226562501}]
[{"$f":"A9+0.5","v":2},43.7,53.8,0,null,null,null,"K","atm","atm",null,"%","%","kg/m3","g/s","%","kW","g/s","of unit",null,"g/s","%",null,null,null,null,null,null,null,null,null,2,"a6=",{"$f":"INDEX(LINEST(INDIRECT($AG$5),INDIRECT($AG$4)^{1,2,3,4,5,6,7}),1,AF10)","v":-2.7634246172488535E-2},{"$f":"AI9-1","v":6},"a6=-0.0276342461724885",-2.7633999999999999E-2,-6.74658203125]
[2.5,49.6,55.8,52.5,null,null,"Case 1",null,null,null,null,null,null,null,null,null,null,null,null,null,null,null,null,null,null,null,null,null,null,null,null,3,"a5=",{"$f":"INDEX(LINEST(INDIRECT($AG$5),INDIRECT($AG$4)^{1,2,3,4,5,6,7}),1,AF11)","v":0.53891446433790124},{"$f":"AI10-1","v":5},"a5=0.538914464337901",0.53891,52.6279296875]
[{"$f":"A11+0.5","v":3},50.9,55.1,52.9,{"$f":"[2]!f_reg_(K12,$A$11:$A$26,$D$11:$D$26,7,\"value\")","v":52.995610841496216},{"$f":"[2]!f_reg_(K12,$A$33:$A$48,$D$33:$D$48,7,\"value\")","v":79.035439801453066},"MP_HP",310,6,19,{"$f":"J12/I12","v":3.1666666666666665},{"$f":"[2]!extrapol_($K12,Pressure_ratio,INDIRECT(L$9&$G12))/100","v":0.52933333333333332},{"$f":"[2]!extrapol_($K12,Pressure_ratio,INDIRECT(M$9&$G12))/100","v":0.79},{"$f":"[2]!rho_(10,I12/1.013,H12)","v":0.91741520440093616},{"$f":"$K$5*N12/3.6*M12","v":1270.3397367828406},0.96,{"$f":"O12*8.0312*H12/4.002*LN(K12)/L12/1000/P12","v":1792.6397851967401},1321.4,{"$f":"R12/O12","v":1.0401941793511635},1,{"$f":"O12*T12-R12","v":-51.060263217159445},{"$f":"U12/(T12*O12)","v":-4.0194179351163588E-2},null,null,null,null,null,null,null,null,null,4,"a4=",{"$f":"INDEX(LINEST(INDIRECT($AG$5),INDIRECT($AG$4)^{1,2,3,4,5,6,7}),1,AF12)","v":-5.6917729817718046},4,"a4=-5.6917729817718",-5.6917999999999997,-222.3359375]
[3.5,50.8,53.9,53,{"$f":"[2]!f_reg_(K13,$A$9:$A$16,$C$9:$C$16,7,\"value\")","v":55.75655580948083},{"$f":"[2]!f_reg_(K13,$A$31:$A$38,$C$31:$C$38,7,\"value\")","v":87.539203784005835},"LPR_MP",306.3,2.35,6.15,{"$f":"J13/I13","v":2.6170212765957448},{"$f":"[2]!extrapol_($K13,Pressure_ratio,INDIRECT(L$9&$G13))/100","v":0.55636170212765956},{"$f":"[2]!extrapol_($K13,Pressure_ratio,INDIRECT(M$9&$G13))/100","v":0.875},{"$f":"[2]!rho_(10,I13/1.013,H13)","v":0.36423258100073713},{"$f":"$K$5*N13/3.6*M13","v":558.61642718064445},0.94,{"$f":"O13*8.0312*H13/4.002*LN(K13)/L13/1000/P13","v":631.64147635362178},562.70000000000005,{"$f":"R13/O13","v":1.0073101552705235},1,{"$f":"O13*T13-R13","v":-4.0835728193555951},-7.3101552705234999E-3,null,null,null,null,null,null,null,null,null,5,"a3=",{"$f":"INDEX(LINEST(INDIRECT($AG$5),INDIRECT($AG$4)^{1,2,3,4,5,6,7}),1,AF13)","v":35.112506543499876},3,"a3=35.1125065434999",35.113,548.640625]
[{"$f":"A13+0.5","v":4},50.6,52.3,52.4,{"$f":"[2]!f_reg_(K14,$A$9:$A$26,$B$9:$B$26,7,\"value\")","v":48.551370547241419},{"$f":"[2]!f_reg_(K14,$A$31:$A$48,$B$31:$B$48,7,\"value\")","v":84.403569796906837},"LPL_MP",306.10000000000002,1.05,6.15,5.8571428571428577,{"$f":"[2]!extrapol_($K14,Pressure_ratio,INDIRECT(L$9&$G14))/100","v":0.48499999999999999},{"$f":"[2]!extrapol_($K14,Pressure_ratio,INDIRECT(M$9&$G14))/100","v":0.84400000000000008},{"$f":"[2]!rho_(10,I14/1.013,H14)","v":0.1629416730314564},241.04685876756818,0.94,574.11352250128164,748.7,{"$f":"R14/O14","v":3.1060350830870664},3,{"$f":"O14*T14-R14","v":-25.559423697295529},{"$f":"U14/(T14*O14)","v":-3.534502769568891E-2},null,null,null,null,null,null,null,null,null,6,"a2=",{"$f":"INDEX(LINEST(INDIRECT($AG$5),INDIRECT($AG$4)^{1,2,3,4,5,6,7}),1,AF14)","v":-126.55479297869834},2,"a2=-126.554792978698",-126.55,-790.9375]
[4.5,50.2,50.8,51.3,null,null,null,null,null,null,null,null,null,null,null,"Total needed Power",{"$f":"SUMPRODUCT(Q12:Q14,T12:T14)","v":4146.6218290542065},null,null,null,null,null,null,null,null,null,null,null,null,null,null,7,"a1=",{"$f":"INDEX(LINEST(INDIRECT($AG$5),INDIRECT($AG$4)^{1,2,3,4,5,6,7}),1,AF15)","v":246.12930681387928},1,"a1=246.129306813879",246.13,615.32500000000005]
[{"$f":"A15+0.5","v":5},49.6,49.4,50.1,null,null,null,null,null,null,null,null,null,null,null,null,null,null,null,null,null,null,null,null,null,null,null,null,null,null,null,8,{"$f":"\"a\"&8-AF16&\"=\"","v":"a0="},{"$f":"INDEX(LINEST(INDIRECT($AG$5),INDIRECT($AG$4)^{1,2,3,4,5,6,7}),1,AF16)","v":-147.55744754068519},null,"a0=-147.557447540685",-147.56,-147.56]
[5.5,49,0,48.7,null,null,null,"Tin","Pin","Pout","Pr","IsoT_","Vol_","rho","m","Motor Eff.","P","Need","Number",null,"delta","delta",null,null,null,null,null,null,null,null,null,null,null,null,null,null,null,{"$f":"SUM(AL9:AL16)","v":49.375552978515657},"%"]
[{"$f":"A17+0.5","v":6},48.3,0,47.4,null,null,null,"K","atm","atm",null,"%","%","kg/m3","g/s","%","kW","g/s","of unit",null,"g/s","%",null,null,null,null,null,null,null,null,null,"variable","x",null,null,null,null,{"$f":"SUM(($AK$11:$AK$16)*AL7^($AI$11:$AI$16))","v":55.760117187500043}]
[6.5,47.5,0,46.2,null,null,"case 2",null,null,null,null,null,null,null,null,null,null,null,null,null,null,null,null,null,null,null,null,null,null,null,null,"Equation",{"$f":"TEXT(AK9,\"#0.000E+0\")&\"*x^\"&AI9&\"+(\"&AK10&\")*x^\"&AI10&\"+(\"&AK11&\")*x^\"&AI11&AI10&\"+é\"&AK11&\")*x^\"&AI12","v":"5.931E-4*x^7+(-0.027634)*x^6+(0.53891)*x^56+é0.53891)*x^4"}]
[{"$f":"A19+0.5","v":7},46.7,0,45.4,null,null,"MP_HP",300,6.06,19,{"$f":"J20/I20","v":3.1353135313531357},{"$f":"[2]!extrapol_($K20,Pressure_ratio,INDIRECT(L$9&$G20))/100","v":0.52927062706270622},{"$f":"[2]!extrapol_($K20,Pressure_ratio,INDIRECT(M$9&$G20))/100","v":0.79},{"$f":"[2]!rho_(10,I20/1.013,H20)","v":0.95735535502455127},{"$f":"$K$5*N20/3.6*M20","v":1325.6446414616348},0.96,{"$f":"O20*8.0312*H20/4.002*LN(K20)/L20/1000/P20","v":1794.9238309954585},1321.4,{"$f":"R20/O20","v":0.9967980548264016},1,{"$f":"O20*T20-R20","v":4.2446414616347283},{"$f":"U20/(T20*O20)","v":3.2019451735984493E-3},null,null,null,null,null,null,null,null,null,null,"Xs",{"$f":"CELL(\"address\",A9)&\":\"&CELL(\"address\",A26)","v":"$A$9:$A$26"},"Pressure_ratio","Pressure_ratio","Pressure_ratio","Pressure_ratio"]
[7.5,45.8,0,44.5,null,null,"LPR_MP",300,2.3079999999999998,6.06,{"$f":"J21/I21","v":2.6256499133448874},{"$f":"[2]!extrapol_($K21,Pressure_ratio,INDIRECT(L$9&$G21))/100","v":0.55624090121317149},{"$f":"[2]!extrapol_($K21,Pressure_ratio,INDIRECT(M$9&$G21))/100","v":0.875},{"$f":"[2]!rho_(10,I21/1.013,H21)","v":0.36523296556183327},{"$f":"$K$5*N21/3.6*M21","v":560.15069753007549},0.94,{"$f":"O21*8.0312*H21/4.002*LN(K21)/L21/1000/P21","v":622.60675120654571},562.70000000000005,{"$f":"R21/O21","v":1.0045511011254034},1,{"$f":"O21*T21-R21","v":-2.5493024699245552},-4.5511011254032738E-3,null,null,null,null,null,null,null,null,null,null,"Ys",{"$f":"CELL(\"address\",B9)&\":\"&CELL(\"address\",B26)","v":"$B$9:$B$26"},"IsoT_LPL_MP","IsoT_LPL_MP","IsoT_LPL_MP","IsoT_LPL_MP"]
[{"$f":"A21+0.5","v":8},45,0,43.7,null,null,"LPL_MP",300,1.05,6.06,5.7714285714285705,{"$f":"[2]!extrapol_($K22,Pressure_ratio,INDIRECT(L$9&$G22))/100","v":0.48619999999999997},{"$f":"[2]!extrapol_($K22,Pressure_ratio,INDIRECT(M$9&$G22))/100","v":0.84520000000000006},{"$f":"[2]!rho_(10,I22/1.013,H22)","v":0.16625304246382611},246.29520030682971,0.94,568.72164587789268,748.7,{"$f":"R22/O22","v":3.0398481134317046},3,{"$f":"O22*T22-R22","v":-9.8143990795108493},-1.3282704477234722E-2,null,null,null,null,null,null,null,null,null,null,"Pressure Ratio",2.5,2.5,3.5,4.5,5.5]
[8.5,44.1,0,42.9,null,null,null,null,null,null,null,null,null,null,null,"Total needed Power",{"$f":"SUMPRODUCT(Q20:Q22,T20:T22)","v":4123.6955198356827},null,null,null,null,null,null,null,null,null,null,null,null,null,null,null,"Iso_eff",{"$f":"((INDEX(LINEST(INDIRECT(AH$21),INDIRECT(AH$20)^{1,2,3,4,5,6,7}),1)*AH22^7)+(INDEX(LINEST(INDIRECT(AH$21),INDIRECT(AH$20)^{1,2,3,4,5,6,7}),1,2)*AH22^6)+(INDEX(LINEST(INDIRECT(AH$21),INDIRECT(AH$20)^{1,2,3,4,5,6,7}),1,3)*AH22^5)+(INDEX(LINEST(INDIRECT(AH$21),INDIRECT(AH$20)^{1,2,3,4,5,6,7}),1,4)*AH22^4)+(INDEX(LINEST(INDIRECT(AH$21),INDIRECT(AH$20)^{1,2,3,4,5,6,7}),1,5)*AH22^3)+(INDEX(LINEST(INDIRECT(AH$21),INDIRECT(AH$20)^{1,2,3,4,5,6,7}),1,6)*AH22^2)+(INDEX(LINEST(INDIRECT(AH$21),INDIRECT(AH$20)^{1,2,3,4,5,6,7}),1,7)*AH22)+INDEX(LINEST(INDIRECT(AH$21),INDIRECT(AH$20)^{1,2,3,4,5,6,7}),1,8))","v":49.340136252820457},{"$f":"((INDEX(LINEST(INDIRECT(AI$21),INDIRECT(AI$20)^{1,2,3,4,5,6,7}),1)*AI22^7)+(INDEX(LINEST(INDIRECT(AI$21),INDIRECT(AI$20)^{1,2,3,4,5,6,7}),1,2)*AI22^6)+(INDEX(LINEST(INDIRECT(AI$21),INDIRECT(AI$20)^{1,2,3,4,5,6,7}),1,3)*AI22^5)+(INDEX(LINEST(INDIRECT(AI$21),INDIRECT(AI$20)^{1,2,3,4,5,6,7}),1,4)*AI22^4)+(INDEX(LINEST(INDIRECT(AI$21),INDIRECT(AI$20)^{1,2,3,4,5,6,7}),1,5)*AI22^3)+(INDEX(LINEST(INDIRECT(AI$21),INDIRECT(AI$20)^{1,2,3,4,5,6,7}),1,6)*AI22^2)+(INDEX(LINEST(INDIRECT(AI$21),INDIRECT(AI$20)^{1,2,3,4,5,6,7}),1,7)*AI22)+INDEX(LINEST(INDIRECT(AI$21),INDIRECT(AI$20)^{1,2,3,4,5,6,7}),1,8))","v":49.340136252820457},{"$f":"((INDEX(LINEST(INDIRECT(AJ$21),INDIRECT(\"Pressure_ratio\")^{1,2,3,4,5,6,7}),1)*AJ22^7)+(INDEX(LINEST(INDIRECT(AJ$21),INDIRECT(\"Pressure_ratio\")^{1,2,3,4,5,6,7}),1,2)*AJ22^6)+(INDEX(LINEST(INDIRECT(AJ$21),INDIRECT(\"Pressure_ratio\")^{1,2,3,4,5,6,7}),1,3)*AJ22^5)+(INDEX(LINEST(INDIRECT(AJ$21),INDIRECT(\"Pressure_ratio\")^{1,2,3,4,5,6,7}),1,4)*AJ22^4)+(INDEX(LINEST(INDIRECT(AJ$21),INDIRECT(\"Pressure_ratio\")^{1,2,3,4,5,6,7}),1,5)*AJ22^3)+(INDEX(LINEST(INDIRECT(AJ$21),INDIRECT(\"Pressure_ratio\")^{1,2,3,4,5,6,7}),1,6)*AJ22^2)+(INDEX(LINEST(INDIRECT(AJ$21),INDIRECT(\"Pressure_ratio\")^{1,2,3,4,5,6,7}),1,7)*AJ22)+INDEX(LINEST(INDIRECT(AJ$21),INDIRECT(\"Pressure_ratio\")^{1,2,3,4,5,6,7}),1,8))","v":50.990988767740191},{"$f":"((INDEX(LINEST(INDIRECT(AK$21),INDIRECT(AK$20)^{1,2,3,4,5,6,7}),1)*AK22^7)+(INDEX(LINEST(INDIRECT(AK$21),INDIRECT(AK$20)^{1,2,3,4,5,6,7}),1,2)*AK22^6)+(INDEX(LINEST(INDIRECT(AK$21),INDIRECT(AK$20)^{1,2,3,4,5,6,7}),1,3)*AK22^5)+(INDEX(LINEST(INDIRECT(AK$21),INDIRECT(AK$20)^{1,2,3,4,5,6,7}),1,4)*AK22^4)+(INDEX(LINEST(INDIRECT(AK$21),INDIRECT(AK$20)^{1,2,3,4,5,6,7}),1,5)*AK22^3)+(INDEX(LINEST(INDIRECT(AK$21),INDIRECT(AK$20)^{1,2,3,4,5,6,7}),1,6)*AK22^2)+(INDEX(LINEST(INDIRECT(AK$21),INDIRECT(AK$20)^{1,2,3,4,5,6,7}),1,7)*AK22)+INDEX(LINEST(INDIRECT(AK$21),INDIRECT(AK$20)^{1,2,3,4,5,6,7}),1,8))","v":50.078216748178193},{"$f":"((INDEX(LINEST(INDIRECT(AL$21),INDIRECT(AL$20)^{1,2,3,4,5,6,7}),1)*AL22^7)+(INDEX(LINEST(INDIRECT(AL$21),INDIRECT(AL$20)^{1,2,3,4,5,6,7}),1,2)*AL22^6)+(INDEX(LINEST(INDIRECT(AL$21),INDIRECT(AL$20)^{1,2,3,4,5,6,7}),1,3)*AL22^5)+(INDEX(LINEST(INDIRECT(AL$21),INDIRECT(AL$20)^{1,2,3,4,5,6,7}),1,4)*AL22^4)+(INDEX(LINEST(INDIRECT(AL$21),INDIRECT(AL$20)^{1,2,3,4,5,6,7}),1,5)*AL22^3)+(INDEX(LINEST(INDIRECT(AL$21),INDIRECT(AL$20)^{1,2,3,4,5,6,7}),1,6)*AL22^2)+(INDEX(LINEST(INDIRECT(AL$21),INDIRECT(AL$20)^{1,2,3,4,5,6,7}),1,7)*AL22)+INDEX(LINEST(INDIRECT(AL$21),INDIRECT(AL$20)^{1,2,3,4,5,6,7}),1,8))","v":49.025093851422525}]
[{"$f":"A23+0.5","v":9},43.2,0,42.2]
[9.5,42.4,0,41.5,null,null,null,null,null,null,null,null,null,null,null,null,null,null,null,null,null,null,null,null,null,null,null,null,null,null,null,"Nom des indirect($L$27):","IsoT_LPL_MP",{"$f":"CELL(\"address\",AF31)&\":\"&CELL(\"address\",O97)","v":"$AF$31:$O$97"}]
[{"$f":"A25+0.5","v":10},41.5,0,40.9,null,null,null,null,null,null,null,null,null,null,null,null,{"$f":"I20*10^5*K5/3600*LN(K20)/L20/P20","v":2388876.9171087067},null,null,null,null,null,null,null,null,null,null,null,null,null,null,"Nom des indirect($L$28)","IsoT_ratio",null,null,null,null,"b = =INDEX(LINEST(y,x^{1,2}),1,3)"]
[]
[]
[null,"volumetric efficiency",null,null,null,null,null,null,null,null,null,null,null,null,null,null,null,null,null,null,null,null,null,null,null,null,null,null,null,null,null,"X","Y",null,1,1,1,1,1,1,1,1,1,1]
["ratio pressure","LPL to MP","LPR to MP","MP to HP",null,null,null,null,null,null,null,null,null,null,null,null,null,null,null,null,null,null,null,null,null,null,null,null,null,null,null,"T","ALU k",null,"Linear","Log","Power","Exp","2nd Order Poly","3rd Order Poly","4th Order Poly","5th Order Poly","6th Order Poly","7th Order Poly"]
[1.5,86.1,86.7,0,null,null,null,null,null,null,null,null,null,null,null,null,null,null,null,null,null,null,null,null,null,null,null,null,null,null,null,2.5,30.4,null,{"$f":"(AF31*SLOPE(INDIRECT($AH$21),INDIRECT($AH$20))+INTERCEPT(INDIRECT($AH$21),INDIRECT($AH$20)))*AI$29","v":46.736979704162366},{"$f":"((INDEX(LINEST(INDIRECT($AH$21),LN(INDIRECT($AH$20))),1)*LN(AF31))+INDEX(LINEST(INDIRECT($AH$21),LN(INDIRECT($AH$20))),1,2))","v":45.361651919216499},{"$f":"(EXP(INDEX(LINEST(LN(INDIRECT($AH$21)),LN(INDIRECT($AH$20)),,),1,2))*AF31^INDEX(LINEST(LN(INDIRECT($AH$21)),LN(INDIRECT($AH$20)),,),1))","v":44.525267562656992},{"$f":"(EXP(INDEX(LINEST(LN(INDIRECT($AH$21)),INDIRECT($AH$20)),1,2))*EXP(1)^(AF31*INDEX(LINEST(LN(INDIRECT($AH$21)),INDIRECT($AH$20)),1) ))","v":46.030458917842843},{"$f":"((INDEX(LINEST(INDIRECT($AH$21),INDIRECT($AH$20)^{1,2}),1)*AF31^2)+(INDEX(LINEST(INDIRECT($AH$21),INDIRECT($AH$20)^{1,2}),1,2)*AF31)+INDEX(LINEST(INDIRECT($AH$21),INDIRECT($AH$20)^{1,2}),1,3))","v":44.481682146542838},{"$f":"((INDEX(LINEST(INDIRECT($AH$21),INDIRECT($AH$20)^{1,2,3}),1)*AF31^3)+(INDEX(LINEST(INDIRECT($AH$21),INDIRECT($AH$20)^{1,2,3}),1,2)*AF31^2)+(INDEX(LINEST(INDIRECT($AH$21),INDIRECT($AH$20)^{1,2,3}),1,3)*AF31)+INDEX(LINEST(INDIRECT($AH$21),INDIRECT($AH$20)^{1,2,3}),1,4))","v":45.40849673202613},{"$f":"((INDEX(LINEST(INDIRECT($AH$21),INDIRECT($AH$20)^{1,2,3,4}),1)*AF31^4)+(INDEX(LINEST(INDIRECT($AH$21),INDIRECT($AH$20)^{1,2,3,4}),1,2)*AF31^3)+(INDEX(LINEST(INDIRECT($AH$21),INDIRECT($AH$20)^{1,2,3,4}),1,3)*AF31^2)+(INDEX(LINEST(INDIRECT($AH$21),INDIRECT($AH$20)^{1,2,3,4}),1,4)*AF31)+INDEX(LINEST(INDIRECT($AH$21),INDIRECT($AH$20)^{1,2,3,4}),1,5))","v":47.410924258060604},{"$f":"((INDEX(LINEST(INDIRECT($AH$21),INDIRECT($AH$20)^{1,2,3,4,5}),1)*AF31^5)+(INDEX(LINEST(INDIRECT($AH$21),INDIRECT($AH$20)^{1,2,3,4,5}),1,2)*AF31^4)+(INDEX(LINEST(INDIRECT($AH$21),INDIRECT($AH$20)^{1,2,3,4,5}),1,3)*AF31^3)+(INDEX(LINEST(INDIRECT($AH$21),INDIRECT($AH$20)^{1,2,3,4,5}),1,4)*AF31^2)+(INDEX(LINEST(INDIRECT($AH$21),INDIRECT($AH$20)^{1,2,3,4,5}),1,5)*AF31)+INDEX(LINEST(INDIRECT($AH$21),INDIRECT($AH$20)^{1,2,3,4,5}),1,6))","v":48.85289080058871},{"$f":"((INDEX(LINEST(INDIRECT($AH$21),INDIRECT($AH$20)^{1,2,3,4,5,6}),1)*AF31^6)+(INDEX(LINEST(INDIRECT($AH$21),INDIRECT($AH$20)^{1,2,3,4,5,6}),1,2)*AF31^5)+(INDEX(LINEST(INDIRECT($AH$21),INDIRECT($AH$20)^{1,2,3,4,5,6}),1,3)*AF31^4)+(INDEX(LINEST(INDIRECT($AH$21),INDIRECT($AH$20)^{1,2,3,4,5,6}),1,4)*AF31^3)+(INDEX(LINEST(INDIRECT($AH$21),INDIRECT($AH$20)^{1,2,3,4,5,6}),1,5)*AF31^2)+(INDEX(LINEST(INDIRECT($AH$21),INDIRECT($AH$20)^{1,2,3,4,5,6}),1,6)*AF31)+INDEX(LINEST(INDIRECT($AH$21),INDIRECT($AH$20)^{1,2,3,4,5,6}),1,7))","v":49.336243849176356},{"$f":"((INDEX(LINEST(INDIRECT($AH$21),INDIRECT($AH$20)^{1,2,3,4,5,6,7}),1)*AF31^7)+(INDEX(LINEST(INDIRECT($AH$21),INDIRECT($AH$20)^{1,2,3,4,5,6,7}),1,2)*AF31^6)+(INDEX(LINEST(INDIRECT($AH$21),INDIRECT($AH$20)^{1,2,3,4,5,6,7}),1,3)*AF31^5)+(INDEX(LINEST(INDIRECT($AH$21),INDIRECT($AH$20)^{1,2,3,4,5,6,7}),1,4)*AF31^4)+(INDEX(LINEST(INDIRECT($AH$21),INDIRECT($AH$20)^{1,2,3,4,5,6,7}),1,5)*AF31^3)+(INDEX(LINEST(INDIRECT($AH$21),INDIRECT($AH$20)^{1,2,3,4,5,6,7}),1,6)*AF31^2)+(INDEX(LINEST(INDIRECT($AH$21),INDIRECT($AH$20)^{1,2,3,4,5,6,7}),1,7)*AF31)+INDEX(LINEST(INDIRECT($AH$21),INDIRECT($AH$20)^{1,2,3,4,5,6,7}),1,8))","v":49.340136252820457}]
[{"$f":"A31+0.5","v":2},86.8,87.2,0,null,null,null,null,null,null,null,null,null,null,null,null,null,null,null,null,null,null,null,null,null,null,null,null,null,null,null,2,43.7,null,{"$f":"(AF32*SLOPE(INDIRECT($AH$21),INDIRECT($AH$20))+INTERCEPT(INDIRECT($AH$21),INDIRECT($AH$20)))*AI$29","v":46.839250085999311},{"$f":"((INDEX(LINEST(INDIRECT($AH$21),LN(INDIRECT($AH$20))),1)*LN(AF32))+INDEX(LINEST(INDIRECT($AH$21),LN(INDIRECT($AH$20))),1,2))","v":45.136436240048099},{"$f":"(EXP(INDEX(LINEST(LN(INDIRECT($AH$21)),LN(INDIRECT($AH$20)),,),1,2))*AF32^INDEX(LINEST(LN(INDIRECT($AH$21)),LN(INDIRECT($AH$20)),,),1))","v":44.136308844353223},{"$f":"(EXP(INDEX(LINEST(LN(INDIRECT($AH$21)),INDIRECT($AH$20)),1,2))*EXP(1)^(AF32*INDEX(LINEST(LN(INDIRECT($AH$21)),INDIRECT($AH$20)),1) ))","v":46.06987599232059},{"$f":"((INDEX(LINEST(INDIRECT($AH$21),INDIRECT($AH$20)^{1,2}),1)*AF32^2)+(INDEX(LINEST(INDIRECT($AH$21),INDIRECT($AH$20)^{1,2}),1,2)*AF32)+INDEX(LINEST(INDIRECT($AH$21),INDIRECT($AH$20)^{1,2}),1,3))","v":42.524767801857593},{"$f":"((INDEX(LINEST(INDIRECT($AH$21),INDIRECT($AH$20)^{1,2,3}),1)*AF32^3)+(INDEX(LINEST(INDIRECT($AH$21),INDIRECT($AH$20)^{1,2,3}),1,2)*AF32^2)+(INDEX(LINEST(INDIRECT($AH$21),INDIRECT($AH$20)^{1,2,3}),1,3)*AF32)+INDEX(LINEST(INDIRECT($AH$21),INDIRECT($AH$20)^{1,2,3}),1,4))","v":41.098899208806309},{"$f":"((INDEX(LINEST(INDIRECT($AH$21),INDIRECT($AH$20)^{1,2,3,4}),1)*AF32^4)+(INDEX(LINEST(INDIRECT($AH$21),INDIRECT($AH$20)^{1,2,3,4}),1,2)*AF32^3)+(INDEX(LINEST(INDIRECT($AH$21),INDIRECT($AH$20)^{1,2,3,4}),1,3)*AF32^2)+(INDEX(LINEST(INDIRECT($AH$21),INDIRECT($AH$20)^{1,2,3,4}),1,4)*AF32)+INDEX(LINEST(INDIRECT($AH$21),INDIRECT($AH$20)^{1,2,3,4}),1,5))","v":41.610157300559763},{"$f":"((INDEX(LINEST(INDIRECT($AH$21),INDIRECT($AH$20)^{1,2,3,4,5}),1)*AF32^5)+(INDEX(LINEST(INDIRECT($AH$21),INDIRECT($AH$20)^{1,2,3,4,5}),1,2)*AF32^4)+(INDEX(LINEST(INDIRECT($AH$21),INDIRECT($AH$20)^{1,2,3,4,5}),1,3)*AF32^3)+(INDEX(LINEST(INDIRECT($AH$21),INDIRECT($AH$20)^{1,2,3,4,5}),1,4)*AF32^2)+(INDEX(LINEST(INDIRECT($AH$21),INDIRECT($AH$20)^{1,2,3,4,5}),1,5)*AF32)+INDEX(LINEST(INDIRECT($AH$21),INDIRECT($AH$20)^{1,2,3,4,5}),1,6))","v":42.72929551267022},{"$f":"((INDEX(LINEST(INDIRECT($AH$21),INDIRECT($AH$20)^{1,2,3,4,5,6}),1)*AF32^6)+(INDEX(LINEST(INDIRECT($AH$21),INDIRECT($AH$20)^{1,2,3,4,5,6}),1,2)*AF32^5)+(INDEX(LINEST(INDIRECT($AH$21),INDIRECT($AH$20)^{1,2,3,4,5,6}),1,3)*AF32^4)+(INDEX(LINEST(INDIRECT($AH$21),INDIRECT($AH$20)^{1,2,3,4,5,6}),1,4)*AF32^3)+(INDEX(LINEST(INDIRECT($AH$21),INDIRECT($AH$20)^{1,2,3,4,5,6}),1,5)*AF32^2)+(INDEX(LINEST(INDIRECT($AH$21),INDIRECT($AH$20)^{1,2,3,4,5,6}),1,6)*AF32)+INDEX(LINEST(INDIRECT($AH$21),INDIRECT($AH$20)^{1,2,3,4,5,6}),1,7))","v":43.562662837821847},{"$f":"((INDEX(LINEST(INDIRECT($AH$21),INDIRECT($AH$20)^{1,2,3,4,5,6,7}),1)*AF32^7)+(INDEX(LINEST(INDIRECT($AH$21),INDIRECT($AH$20)^{1,2,3,4,5,6,7}),1,2)*AF32^6)+(INDEX(LINEST(INDIRECT($AH$21),INDIRECT($AH$20)^{1,2,3,4,5,6,7}),1,3)*AF32^5)+(INDEX(LINEST(INDIRECT($AH$21),INDIRECT($AH$20)^{1,2,3,4,5,6,7}),1,4)*AF32^4)+(INDEX(LINEST(INDIRECT($AH$21),INDIRECT($AH$20)^{1,2,3,4,5,6,7}),1,5)*AF32^3)+(INDEX(LINEST(INDIRECT($AH$21),INDIRECT($AH$20)^{1,2,3,4,5,6,7}),1,6)*AF32^2)+(INDEX(LINEST(INDIRECT($AH$21),INDIRECT($AH$20)^{1,2,3,4,5,6,7}),1,7)*AF32)+INDEX(LINEST(INDIRECT($AH$21),INDIRECT($AH$20)^{1,2,3,4,5,6,7}),1,8))","v":43.866270322005278}]
[2.5,87.3,87.5,78.7]
[{"$f":"A33+0.5","v":3},87.4,87.5,79]
[3.5,87.3,87.1,79]
[{"$f":"A35+0.5","v":4},86.9,86.5,78.7]
[4.5,86.4,85.6,78.3]
[{"$f":"A37+0.5","v":5},85.6,84.4,77.8]
[5.5,84.9,0,77.3,null,null,null,null,null,null,null,null,null,null,null,null,null,null,null,null,null,null,null,null,null,null,null,null,null,null,null,null,{"$f":"tex","v":{"$error":"#NAME?"}},2.5,{"$f":"[2]!f_reg_(AH39,Pressure_ratio,IsoT_LPL_MP,6,\"form\")","v":"-3.76E-03* x^6 + 14.564E-2*x^5 -22.783E-1*x^4 + 18.388E+0*x^3 -80.719E+0*x^2 + 18.168E+1*x - 111.988"}]
[{"$f":"A39+0.5","v":6},84.2,0,76.900000000000006,null,null,null,null,null,null,null,null,null,null,null,null,null,null,null,null,null,null,null,null,null,null,null,null,null,null,null,null,{"$f":"TEXT(AK9,\"0.0\")","v":"0.0"},2.5,{"$f":"[2]!f_reg_(AH40,Pressure_ratio,IsoT_LPL_MP,6,\"value\")","v":49.336243849176348}]
[6.5,83.5,0,76.599999999999994]
[{"$f":"A41+0.5","v":7},82.9,0,76.3,null,null,null,null,null,null,null,null,null,null,null,null,null,null,null,null,null,null,null,null,null,null,null,null,null,null,null,null,null,2.5,{"$f":"[2]!f_reg_(AH42,Pressure_ratio,IsoT_LPL_MP,7,\"form\")","v":"5.93E-04* x^7 -27.634E-3*x^6 + 53.891E-2*x^5 -56.918E-1*x^4 + 35.113E+0*x^3 -12.655E+1*x^2 + 24.613E+1*x - 147.557"}]
[7.5,82.3,0,76,null,null,null,null,null,null,null,null,null,null,null,null,null,null,null,null,null,null,null,null,null,null,null,null,null,null,null,null,null,2.5,{"$f":"[2]!f_reg_(AH43,Pressure_ratio,IsoT_LPL_MP,6,\"value\")","v":49.336243849176348}]
[{"$f":"A43+0.5","v":8},81.7,0,75.8]
[8.5,81.099999999999994,0,75.7]
[{"$f":"A45+0.5","v":9},80.599999999999994,0,75.5]
[9.5,80.099999999999994,0,75.400000000000006]
[{"$f":"A47+0.5","v":10},79.599999999999994,0,75.3]
[]
[]
[]
[null,"volumetric efficiency"]
["ratio pressure","LP to MP","MP to HP"]
[2.5,87.3,78.7]
[{"$f":"A54+0.5","v":3},87.4,79]
[3.5,87.3,79]
[{"$f":"A56+0.5","v":4},86.9,78.7]
[4.5,86.4,78.3]
[{"$f":"A58+0.5","v":5},85.6,77.8]
[5.5,84.9,77.3]
[{"$f":"A60+0.5","v":6},84.2,76.900000000000006]
[6.5,83.5,76.599999999999994]
[{"$f":"A62+0.5","v":7},82.9,76.3]
[7.5,82.3,76]
[{"$f":"A64+0.5","v":8},81.7,75.8]
[8.5,81.099999999999994,75.7]
[{"$f":"A66+0.5","v":9},80.599999999999994,75.5]
[9.5,80.099999999999994,75.400000000000006]
[{"$f":"A68+0.5","v":10},79.599999999999994,75.3]
[]
[]
[]
[]
[]
[]
[null,"isoT efficiency"]
["ratio pressure","LP to MP","LPR to MP","MP to HP"]
[1.5,30.4,48.1]
[{"$f":"A78+0.5","v":2},43.7,53.8]
[2.5,49.6,55.8,52.5]
[{"$f":"A80+0.5","v":3},50.9,55.1,52.9]
[3.5,50.8,53.9,53]
[{"$f":"A82+0.5","v":4},50.6,52.3,52.4]
[4.5,50.2,50.8,51.3]
[{"$f":"A84+0.5","v":5},49.6,49.4,50.1]
[5.5,49,null,48.7]
[{"$f":"A86+0.5","v":6},48.3,null,47.4]
[6.5,47.5,null,46.2]
[{"$f":"A88+0.5","v":7},46.7,null,45.4]
[7.5,45.8,null,44.5]
[{"$f":"A90+0.5","v":8},45,null,43.7]
[8.5,44.1,null,42.9]
[{"$f":"A92+0.5","v":9},43.2,null,42.2]
[9.5,42.4,null,41.5]
[{"$f":"A94+0.5","v":10},41.5,null,40.9]
[]
[]
[]
[]
[]
[]
[]
[]
[]
[]
[]
[]
[null,null,null,null,null,null,null,null,null,null,null,null,null,"WRVI321/132",null,null,null,"WRVI321/193"]
[null,null,null,null,null,null,null,null,null,null,null,null,null,4541,null,null,null,6386]
[null,null,null,"Tin","P suction","Pdischarge","P ratio",null,"rdt isoT calc","rdt vol calc",null,null,"Rho","Am3/h","g/s",null,"Power /unit","Am3/h","g/s",null,"Power /unit","nb unit"]
[null,"MP_HP",1321.4,300,6.06,19,{"$f":"F111/E111","v":3.1353135313531357},null,{"$f":" 0.0012*G111^6 - 0.0429*G111^5 + 0.6099*G111^4 - 4.185*G111^3 + 13.77*G111^2 - 19.318*G111 + 60.184","v":53.071570809579342},{"$f":" 0.00006*G111^6 - 0.0012*G111^5 - 0.0081*G111^4 + 0.3679*G111^3 - 3.3791*G111^2 + 11.852*G111 + 64.85","v":79.042186730743012},null,null,{"$f":"1.27581621531631*E111*273.15/(D111)*4/28.958600656","v":0.97235110325086826},{"$f":"N$109*$J111/100","v":3589.3056994430399},{"$f":"#REF!*$M111/3600*1000","v":{"$error":"#REF!"}},null,{"$f":"$E111*10^5*#REF!/3600*LN($F111/$E111)/($I111/100)/1000","v":{"$error":"#REF!"}},{"$f":"R$109*$J111/100","v":5047.6340446252489},{"$f":"R111*$M111/3600*1000","v":1363.353481138334},null,{"$f":"$E111*10^5*R111/3600*LN($F111/$E111)/($I111/100)/1000","v":1829.5292584302149},{"$f":"$C111/S111","v":0.96922773021175346},{"$f":"ROUND(V111,0)","v":1},{"$f":"W111*U111","v":1829.5292584302149}]
[null,"LPR_MP",562.70000000000005,297,2.31,6.06,{"$f":"F112/E112","v":2.6233766233766231},null,{"$f":" 0.1067*G112^6 - 2.0738*G112^5 + 16*G112^4 - 61.153*G112^3 + 115.21*G112^2 - 86.125*G112 + 57.983","v":55.774222680834207},{"$f":" 0.0044*G112^6 - 0.1103*G112^5 + 1.0778*G112^4 - 5.3213*G112^3 + 13.394*G112^2 - 15.328*G112 + 92.846","v":87.518637103281989},null,null,{"$f":"1.27581621531631*E112*273.15/(D112)*4/28.958600656","v":0.37439261401298568},{"$f":"N$109*$J112/100","v":3974.2213108600349},{"$f":"#REF!*$M112/3600*1000","v":{"$error":"#REF!"}},null,{"$f":"$E112*10^5*#REF!/3600*LN($F112/$E112)/($I112/100)/1000","v":{"$error":"#REF!"}},{"$f":"R$109*$J112/100","v":5588.9401654155881},{"$f":"R112*$M112/3600*1000","v":581.23831058114183},null,{"$f":"$E112*10^5*R112/3600*LN($F112/$E112)/($I112/100)/1000","v":620.14130391453455},{"$f":"$C112/S112","v":0.96810549090852849},{"$f":"ROUND(V112,0)","v":1},{"$f":"W112*U112","v":620.14130391453455}]
[null,"LPL_MP",748.6,297,1.05,6.06,{"$f":"F113/E113","v":5.7714285714285705},null,{"$f":"-0.0037608*G113^6 + 0.14564*G113^5 - 2.2783*G113^4 + 18.388*G113^3 - 80.719*G113^2 + 181.68*G113 - 111.99","v":48.628787444824425},{"$f":"0.0003*G113^6 - 0.0107*G113^5 + 0.1444*G113^4 - 0.8896*G113^3 + 2.1316*G113^2 - 0.4678*G113 + 84.351","v":84.418132560750152},null,null,{"$f":"1.27581621531631*E113*273.15/(D113)*4/28.958600656","v":0.17017846091499347},{"$f":"N$109*$J113/100","v":3833.4273995836643},{"$f":"#REF!*$M113/3600*1000","v":{"$error":"#REF!"}},null,{"$f":"$E113*10^5*#REF!/3600*LN($F113/$E113)/($I113/100)/1000","v":{"$error":"#REF!"}},{"$f":"R$109*$J113/100","v":5390.941945329505},{"$f":"R113*$M113/3600*1000","v":254.83950087173778},null,{"$f":"$E113*10^5*R113/3600*LN($F113/$E113)/($I113/100)/1000","v":566.78718015241952},{"$f":"$C113/S113","v":2.9375351836714465},3,{"$f":"W113*U113","v":1700.3615404572586}]
[null,null,null,null,null,null,null,null,null,null,null,null,null,null,null,null,null,null,null,null,null,null,null,{"$f":"SUM(X111:X113)","v":4150.032102802008}]
[]
[null,null,null,"Tin","P suction","Pdischarge","P ratio",null,"rdt isoT calc","rdt vol calc",null,null,"Rho","Am3/h","g/s",null,"Power /unit","Am3/h","g/s",null,"Power /unit","nb unit"]
[null,"MP_HP",1321.4,310,6.06,19,{"$f":"F117/E117","v":3.1353135313531357},null,{"$f":" 0.0012*G117^6 - 0.0429*G117^5 + 0.6099*G117^4 - 4.185*G117^3 + 13.77*G117^2 - 19.318*G117 + 60.184","v":53.071570809579342},{"$f":" 0.00006*G117^6 - 0.0012*G117^5 - 0.0081*G117^4 + 0.3679*G117^3 - 3.3791*G117^2 + 11.852*G117 + 64.85","v":79.042186730743012},null,null,{"$f":"1.27581621531631*E117*273.15/(D117)*4/28.958600656","v":0.94098493862987254},{"$f":"N$109*$J117/100","v":3589.3056994430399},{"$f":"#REF!*$M117/3600*1000","v":{"$error":"#REF!"}},null,{"$f":"$E117*10^5*#REF!/3600*LN($F117/$E117)/($I117/100)/1000","v":{"$error":"#REF!"}},{"$f":"R$109*$J117/100","v":5047.6340446252489},{"$f":"R117*$M117/3600*1000","v":1319.3743365854846},null,{"$f":"$E117*10^5*R117/3600*LN($F117/$E117)/($I117/100)/1000","v":1829.5292584302149},{"$f":"$C117/S117","v":1.0015353212188118},{"$f":"ROUND(V117,0)","v":1},{"$f":"W117*U117","v":1829.5292584302149}]
[null,"LPR_MP",562.70000000000005,305.39999999999998,2.3079999999999998,6.06,{"$f":"F118/E118","v":2.6256499133448874},null,{"$f":" 0.1067*G118^6 - 2.0738*G118^5 + 16*G118^4 - 61.153*G118^3 + 115.21*G118^2 - 86.125*G118 + 57.983","v":55.773482098098548},{"$f":" 0.0044*G118^6 - 0.1103*G118^5 + 1.0778*G118^4 - 5.3213*G118^3 + 13.394*G118^2 - 15.328*G118 + 92.846","v":87.51880831297521},null,null,{"$f":"1.27581621531631*E118*273.15/(D118)*4/28.958600656","v":0.3637797445166871},{"$f":"N$109*$J118/100","v":3974.2290854922044},{"$f":"#REF!*$M118/3600*1000","v":{"$error":"#REF!"}},null,{"$f":"$E118*10^5*#REF!/3600*LN($F118/$E118)/($I118/100)/1000","v":{"$error":"#REF!"}},{"$f":"R$109*$J118/100","v":5588.951098866597},{"$f":"R118*$M118/3600*1000","v":564.7631119060967},null,{"$f":"$E118*10^5*R118/3600*LN($F118/$E118)/($I118/100)/1000","v":620.17029476045991},{"$f":"$C118/S118","v":0.99634694288170911},{"$f":"ROUND(V118,0)","v":1},{"$f":"W118*U118","v":620.17029476045991}]
[null,"LPL_MP",748.6,305.27,1.05,6.06,{"$f":"F119/E119","v":5.7714285714285705},null,{"$f":"-0.0037608*G119^6 + 0.14564*G119^5 - 2.2783*G119^4 + 18.388*G119^3 - 80.719*G119^2 + 181.68*G119 - 111.99","v":48.628787444824425},{"$f":"0.0003*G119^6 - 0.0107*G119^5 + 0.1444*G119^4 - 0.8896*G119^3 + 2.1316*G119^2 - 0.4678*G119 + 84.351","v":84.418132560750152},null,null,{"$f":"1.27581621531631*E119*273.15/(D119)*4/28.958600656","v":0.16556819501344078},{"$f":"N$109*$J119/100","v":3833.4273995836643},{"$f":"#REF!*$M119/3600*1000","v":{"$error":"#REF!"}},null,{"$f":"$E119*10^5*#REF!/3600*LN($F119/$E119)/($I119/100)/1000","v":{"$error":"#REF!"}},{"$f":"R$109*$J119/100","v":5390.941945329505},{"$f":"R119*$M119/3600*1000","v":247.93570203068145},null,{"$f":"$E119*10^5*R119/3600*LN($F119/$E119)/($I119/100)/1000","v":566.78718015241952},{"$f":"$C119/S119","v":3.0193311970349579},3,{"$f":"W119*U119","v":1700.3615404572586}]
[null,null,null,null,null,null,null,null,null,null,null,null,null,null,null,null,null,null,null,null,null,null,null,{"$f":"SUM(X117:X119)","v":4150.0610936479334}]
[null,"MP_HP",403.1,300,4.2699999999999996,13.8,{"$f":"F121/E121","v":3.2318501170960192},null,{"$f":" 0.0012*G121^6 - 0.0429*G121^5 + 0.6099*G121^4 - 4.185*G121^3 + 13.77*G121^2 - 19.318*G121 + 60.184","v":53.085843726352579},{"$f":" 0.00006*G121^6 - 0.0012*G121^5 - 0.0081*G121^4 + 0.3679*G121^3 - 3.3791*G121^2 + 11.852*G121 + 64.85","v":79.040190763975104},null,null,{"$f":"1.27581621531631*E121*273.15/(D121)*4/28.958600656","v":0.68513848364376362},{"$f":"N$109*$J121/100","v":3589.2150625921095},{"$f":"#REF!*$M121/3600*1000","v":{"$error":"#REF!"}},null,{"$f":"$E121*10^5*#REF!/3600*LN($F121/$E121)/($I121/100)/1000","v":{"$error":"#REF!"}},{"$f":"R$109*$J121/100","v":5047.5065821874505},{"$f":"R121*$M121/3600*1000","v":960.62250163939598},null,{"$f":"$E121*10^5*R121/3600*LN($F121/$E121)/($I121/100)/1000","v":1322.9451299425407},{"$f":"$C121/S121","v":0.41962373285246862}]
[null,"LPR_MP",172.2,297,2.31,4.2699999999999996,{"$f":"F122/E122","v":1.8484848484848482},null,{"$f":" 0.1067*G122^6 - 2.0738*G122^5 + 16*G122^4 - 61.153*G122^3 + 115.21*G122^2 - 86.125*G122 + 57.983","v":52.499516367203306},{"$f":" 0.0044*G122^6 - 0.1103*G122^5 + 1.0778*G122^4 - 5.3213*G122^3 + 13.394*G122^2 - 15.328*G122 + 92.846","v":87.047180898312007},null,null,{"$f":"1.27581621531631*E122*273.15/(D122)*4/28.958600656","v":0.37439261401298568},{"$f":"N$109*$J122/100","v":3952.8124845923485},{"$f":"#REF!*$M122/3600*1000","v":{"$error":"#REF!"}},null,{"$f":"$E122*10^5*#REF!/3600*LN($F122/$E122)/($I122/100)/1000","v":{"$error":"#REF!"}},{"$f":"R$109*$J122/100","v":5558.8329721662049},{"$f":"R122*$M122/3600*1000","v":578.10722425302231},null,{"$f":"$E122*10^5*R122/3600*LN($F122/$E122)/($I122/100)/1000","v":417.41224817075829},{"$f":"$C122/S122","v":0.29786861809675741}]
[null,"LPL_MP",220.8,297,1.05,4.2699999999999996,{"$f":"F123/E123","v":4.0666666666666664},null,{"$f":"-0.0037608*G123^6 + 0.14564*G123^5 - 2.2783*G123^4 + 18.388*G123^3 - 80.719*G123^2 + 181.68*G123 - 111.99","v":50.452394651325349},{"$f":"0.0003*G123^6 - 0.0107*G123^5 + 0.1444*G123^4 - 0.8896*G123^3 + 2.1316*G123^2 - 0.4678*G123 + 84.351","v":86.820937761343217},null,null,{"$f":"1.27581621531631*E123*273.15/(D123)*4/28.958600656","v":0.17017846091499347},{"$f":"N$109*$J123/100","v":3942.5387837425956},{"$f":"#REF!*$M123/3600*1000","v":{"$error":"#REF!"}},null,{"$f":"$E123*10^5*#REF!/3600*LN($F123/$E123)/($I123/100)/1000","v":{"$error":"#REF!"}},{"$f":"R$109*$J123/100","v":5544.3850854393786},{"$f":"R123*$M123/3600*1000","v":262.09303348892166},null,{"$f":"$E123*10^5*R123/3600*LN($F123/$E123)/($I123/100)/1000","v":449.636422459019},{"$f":"$C123/S123","v":0.84244894669942816}]

{"sheet":"Sheet1","index":2,"n_rows":0,"n_cols":0,"rows_kept":0,"cut":false,"hidden":false,"merged":[]}