{"text_format":"1","workbook":"xlsx","n_sheets":20,"sheets":["Summary","TMCP","Howden","Aerzen","Sheet3","MYCOM","Data 320MUD-LM","Kobelco_","Kaeser","Howden_results_JLAB","GEA","Frick","Frick_calc","Kobelco","Sheet1","Sheet2","SSLC-SULL","JLAB-HOWDEN","SNS","EAST"],"not_rendered":{"charts":24,"images":54,"macros":1,"external_links":3,"defined_names":71,"comments":0,"pivot_tables":0},"unopened":[],"bounds":{"document_bytes":16777216,"sheet_cells":100000,"rows_first":2000,"rows_last":500,"rows_between":2000,"halvings":0,"cell_chars":16384,"cell_head_chars":4096},"cells_cut":0,"cells_raw":0,"read":"whole","date_system":"1900"}

{"sheet":"Summary","index":0,"n_rows":111,"n_cols":33,"rows_kept":111,"cut":false,"hidden":false,"merged":[]}
[]
[null,"LP","HP",null,null,"VMY536H (DP<20 b)",null,null,null,null,null,null,null,null,null,null,"air molar mass",28.958600656000002]
[null,null,null,null,null,3550,null,null,null,null,null,null,null,null,null,null,"air density",1.2758162153163073]
["mass flow",428.6,1038,"g/s total"]
["nb comp",2,1,"units",null,null,null,null,null,null,null,null,null,null,null,null,null,"S","M","L"]
["flow",{"$f":"B4/B5","v":214.3},{"$f":"C4/C5","v":1038},"g/s per unit",null,null,null,null,null,null,null,null,null,null,null,null,null,"MYCOM internal Volume ratio ",null,null,null,null,null,null,null,null,"BVR",2.2000000000000002,2.6,null,"BVR",2.6,2.6]
["Gamma",1.66,null,null,null,null,null,null,null,null,null,null,null,null,null,null,null,"BEST MP Pressure",null,null,"BEST HP Pressure",null,null,null,null,null,"Pinlet",1.05,{"$f":"AB8","v":3.8869678566020873},null,"Pinlet",1.01,{"$f":"AF8","v":4.9337499092377115}]
["Pin",1.05,{"$f":"B11","v":4},null,null,null,null,null,null,null,null,null,null,null,null,null,null,"Vi","Vi","Vi","Vi","Vi","Vi",null,null,null,"Ideal Poutlet",{"$f":"$AB$7*$AB$6^($B$7)","v":3.8869678566020873},{"$f":"$AC$7*$AC$6^($B$7)","v":18.987452781901439},null,"Ideal Poutlet",{"$f":"$AF$7*$AF$6^($B$7)","v":4.9337499092377115},{"$f":"$AC$7*$AC$6^($B$7)","v":18.987452781901439}]
["Tin",313,{"$f":"B9","v":313},null,null,null,null,null,null,null,null,null,null,null,null,null,null,2.63,3.65,5.8,2.63,3.65,5.8,null,null,null,"Pr",{"$f":"AB8/AB7","v":3.701874149144845},{"$f":"AC8/AC7","v":4.8849009002353583},null,"Pr",{"$f":"AF8/AF7","v":4.8849009002353583},{"$f":"AG8/AG7","v":3.8484830263387009}]
["rho",{"$f":"1.27581621531631*B8*273.15/(B9)*4/28.958600656","v":0.16147924246566475},{"$f":"1.27581621531631*C8*273.15/(C9)*4/28.958600656","v":0.6151590189168179},null,null,null,null,null,null,null,null,null,null,null,null,null,null,{"$f":"$B$8*$R$9^($B$7)","v":5.2277624089132688},{"$f":"$B$8*$S$9^($B$7)","v":9.0073171382209125},{"$f":"$B$8*$T$9^($B$7)","v":19.430311735808491},{"$f":"$C$8*$U$9^($B$7)","v":19.915285367288643},{"$f":"$C$8*$V$9^($B$7)","v":34.313589097984426},{"$f":"$C$8*$W$9^($B$7)","v":74.020235184032344}]
["Pout",4,16,null,null,null,null,null,null,null,null,null,null,null,null,null,null,{"$f":"R10/B8","v":4.9788213418221607},null,null,null,null,null,null,null,null,null,3.5,3.5,null,null,3.5,3.5]
["Ratio",{"$f":"B11/B8","v":3.8095238095238093},{"$f":"C11/C8","v":4}]
["Volumetric eff.",{"$f":"extrapol_(B12,Vol_ratio,Vol_LPL_MP)/100","v":0.87052380952380959},{"$f":"extrapol_(C12,Vol_ratio,Vol_MP_HP)/100","v":0.78700000000000003},null,null,null,null,null,null,null,null,null,null,null,null,null,null,null,null,null,null,null,null,null,null,null,null,{"$f":"AB7*AB11","v":3.6750000000000003},{"$f":"AB13*AC11","v":12.862500000000001},null,null,{"$f":"AF7*AF11","v":3.5350000000000001},{"$f":"AF13*AG11","v":12.3725}]
["Isotherm eff.",{"$f":"extrapol_(B12,IsoT_ratio,IsoT_LPL_MP)/100","v":{"$error":"#VALUE!"}},{"$f":"extrapol_(C12,IsoT_ratio,IsoT_MP_HP)/100","v":{"$error":"#VALUE!"}}]
["Ideal Vi",{"$f":"(B11/B8)^(1/B7)","v":2.2383196315130851},null,null,null,"Ideal Vi",{"$f":"(C11/C8)^(1/1.66)","v":2.3050839232663227},null,null,null,null,null,null,null,null,null,null,1.05,{"$f":"R15*3.5","v":3.6750000000000003},{"$f":"S15*3.5","v":12.862500000000001},null,null,null,null,"L",2.63]
[null,null,null,null,null,null,null,null,null,null,null,null,null,null,{"$f":"C11/C8","v":4},null,null,2,{"$f":"R16*3.5","v":7},{"$f":"S16*3.5","v":24.5},null,null,null,null,"M",3.65,null,null,null,1.1000000000000001,{"$f":"AD16*3.5","v":3.8500000000000005},{"$f":"AE16*3.5","v":13.475000000000001}]
[null,null,null,null,{"$f":"E18/60","v":59.166666666666664},{"$f":"F18/60","v":49},60,null,50,null,null,null,null,null,null,null,null,null,null,null,null,null,null,null,"H",5.8,null,null,null,1.05]
[null,null,"MANUFACTURER","MODEL",3550,2940,3550,null,2950,"LP Flow","excess","LP Power",null,2950,"HP Flow","excess","HP Power",null,null,null,null,null,null,null,null,null,null,null,null,7]
["MYCOM"]
[{"$f":"C20&\"-\"&D20&\" \"&I20&\" m3/h\"","v":"MYCOM-125SUD 172.167539906103 m3/h"},null,"MYCOM","125SUD",140,{"$f":"G20*$F$18/$G$18","v":197.10422535211268},238,null,{"$f":"F20*$I$18/$F$18*$B$13","v":172.16753990610329},{"$f":"I20*$B$10*1000/3600","v":7.7226344225596293},{"$f":"(J20-$B$6)/$B$6","v":-0.96396344179860183},{"$f":"J20*8.314*$B$9/4*LN($B$11/$B$8)/$B$14/1000","v":{"$error":"#VALUE!"}},null,{"$f":"F20*$N$18/$F$18*$C$13","v":155.64864788732393},{"$f":"N20*$C$10*1000/3600","v":26.596852647248731},{"$f":"(O20-$C$6)/$C$6","v":-0.97437682789282398},{"$f":"O20*8.314*$C$9/4*LN($C$11/$C$8)/$C$14/1000","v":{"$error":"#VALUE!"}},null,null,null,null,null,null,null,null,null,null,null,null,{"$f":"AD18/AD17","v":6.6666666666666661}]
["MYCOM-200 VSD 706.031592219987 m3/h",null,"MYCOM","200 VSD",574,{"$f":"G21*$F$18/$G$18","v":808.29295774647892},976,null,706.03159221998669,31.669290741252937,-0.85221982855224943,{"$error":"#VALUE!"},null,638.29025352112683,109.06944615006205,-0.89492346228317721,{"$error":"#VALUE!"}]
["MYCOM-200 VMD 883.262883299799 m3/h",null,"MYCOM","200 VMD",718,1011.1943661971831,1221,null,883.26288329979889,39.619061470358439,-0.81512337158022197,{"$error":"#VALUE!"},null,798.51680281690142,136.44855916928867,-0.86854666746696652,{"$error":"#VALUE!"}]
["MYCOM-200 VLD 1056.87720925553 m3/h",null,"MYCOM","200 VLD",859,1209.9549295774648,1461,null,1056.8772092555332,47.406591980502597,-0.778783985158644,{"$error":"#VALUE!"},null,955.47342253521128,163.26891477995966,-0.84270817458578062,{"$error":"#VALUE!"}]
["MYCOM-250 VSD 1377.34031924883 m3/h",null,"MYCOM","250 VSD",1120,1576.8338028169014,1904,null,1377.3403192488263,61.781075380477034,-0.71170753438881462,{"$error":"#VALUE!"},null,1245.1891830985915,212.77482117798985,-0.79501462314259164,{"$error":"#VALUE!"}]
["MYCOM-250 VMD 1721.67539906103 m3/h",null,"MYCOM","250 VMD",1400,1971.0422535211267,2380,null,1721.675399061033,77.226344225596307,-0.63963441798601817,{"$error":"#VALUE!"},null,1556.4864788732395,265.96852647248738,-0.74376827892823949,{"$error":"#VALUE!"}]
["MYCOM-250 VLD 2054.43619047619 m3/h",null,"MYCOM","250 VLD",1670,2352,2840,null,2054.4361904761904,92.152444370039277,-0.56998392734466041,{"$error":"#VALUE!"},null,1857.3200000000002,317.37420805960681,-0.69424450090596646,{"$error":"#VALUE!"}]
["MYCOM-250 VLLD 2435.66431455399 m3/h",null,"MYCOM","250 VLLD",1980,2788.4450704225351,3367,null,2435.6643145539906,109.25256344856416,-0.49018869132727877,{"$error":"#VALUE!"},null,2201.9705774647887,376.26723892137181,-0.63750747695436238,{"$error":"#VALUE!"}]
["MYCOM-320 SUD 2768.94673631357 m3/h",null,"MYCOM","320 SUD",{"$f":"F28/1.699011*$E$18/$F$18","v":2252.9113045385661},3170,{"$f":"E28*$G$18/$F$18*$B$13","v":2368.1312606390807},null,2768.9467363135732,124.20206150213627,-0.42042901772218261,{"$error":"#VALUE!"},null,2503.2756802721092,427.7535032095891,-0.5879060662720722,{"$error":"#VALUE!"}]
["MYCOM-320 VMD 3444.07419114688 m3/h",null,"MYCOM","320 VMD",2800,3942.9126760563381,4761,null,3444.0741911468817,154.48513649498489,-0.27911742186194644,{"$error":"#VALUE!"},null,3113.6269436619718,532.04880442668582,-0.48742889746947415,{"$error":"#VALUE!"}]
["MYCOM-320 MUD 3458.99970845481 m3/h",null,"MYCOM","320 MUD",2814.3623867421838,3960,{"$f":"E30*$G$18/$F$18*$B$13","v":2958.2964643945611},null,3458.9997084548108,155.15462572506613,-0.27599334705988748,{"$error":"#VALUE!"},null,3127.1204081632654,534.35453397790923,-0.48520757805596415,{"$error":"#VALUE!"},"JT60Offer"]
[{"$f":"C31&\"-\"&D31&\" \"&I31&\" m3/h\"","v":"MYCOM-320 L 4140.31783284743 m3/h"},null,"MYCOM","320 L",{"$f":"F31/1.699011*$E$18/$F$18","v":3368.7064932217049},4740,{"$f":"E31*$G$18/$F$18*$B$13","v":3540.991222532884},null,{"$f":"F31*$I$18/$F$18*$B$13","v":4140.3178328474251},{"$f":"I31*$B$10*1000/3600","v":185.71538533757916},{"$f":"(J31-$B$6)/$B$6","v":-0.13338597602622887},{"$f":"J31*8.314*$B$9/4*LN($B$11/$B$8)/$B$14/1000","v":{"$error":"#VALUE!"}},null,{"$f":"F31*$N$18/$F$18*$C$13","v":3743.0683673469393},{"$f":"N31*$C$10*1000/3600","v":639.6061846099218},{"$f":"(O31-$C$6)/$C$6","v":-0.38380907070335085},{"$f":"O31*8.314*$C$9/4*LN($C$11/$C$8)/$C$14/1000","v":{"$error":"#VALUE!"}},"JT60Offer"]
["MYCOM-320 VLD 4120.44666934943 m3/h",null,"MYCOM","320 VLD",3352.5386239406334,4717.2507042253519,5696,null,4120.4466693494296,184.82405744075481,-0.1375452289278824,{"$error":"#VALUE!"},null,3725.1037746478873,636.53643982659162,-0.38676643561985391,{"$error":"#VALUE!"}]
["MYCOM-320 LLUD 4891.51473922903 m3/h",null,"MYCOM","320 LLUD",3979.9064054939972,5600,{"$f":"E33*$G$18/$F$18*$B$13","v":4183.4495456084705},null,4891.5147392290255,219.41058183342685,2.3847792036522795E-2,{"$error":"#VALUE!"},null,4422.1904761904761,755.652876332397,-0.27201071644277747,{"$error":"#VALUE!"},"JT60Offer"]
["MYCOM-400SUD 5660.18134110787 m3/h",null,"MYCOM","400SUD",4605.3202692144823,6480,{"$f":"E34*$G$18/$F$18*$B$13","v":4840.8487599183727},null,5660.1813411078729,253.88938755010824,0.18473815935654794,{"$error":"#VALUE!"},null,5117.1061224489804,874.39832832748812,-0.15761240045521377,{"$error":"#VALUE!"}]
["MYCOM-400MUD 7011.12519651241 m3/h",null,"MYCOM","400MUD",5704.4951445281986,8026.6140845070422,9692,null,7011.1251965124093,314.48644043465526,0.46750555499139174,{"$error":"#VALUE!"},null,6338.4314929577477,1083.0953607442636,4.3444470851891757E-2,{"$error":"#VALUE!"}]
["MYCOM-400LUD 8474.54928571429 m3/h",null,"MYCOM","400LUD",6895.1878475183503,9702,11715,null,8474.5492857142872,380.12883302641205,0.77381629970327592,{"$error":"#VALUE!"},null,7661.4450000000006,1309.1686082458777,0.261241433762888,{"$error":"#VALUE!"}]
["MYCOM-400LLUD 9987.88749362844 m3/h",null,"MYCOM","400LLUD",8126.4924123504788,11434.529577464789,13807,null,9987.8874936284392,448.01014063983536,1.090574618011364,{"$error":"#VALUE!"},null,9029.5835352112681,1542.95270798556,0.48646696337722539,{"$error":"#VALUE!"}]
["HOWDEN"]
["Howden-WRV 163/1.45 480.416626174279 m3/h",null,"Howden","WRV 163/1.45",{"$f":"F39/1.699011*$E$18/$F$18","v":390.88366482530336},550,{"$f":"$G$18/$F$18*F39","v":664.11564625850338},null,480.41662617427932,21.549253572925853,-0.89944352042498432,{"$error":"#VALUE!"},null,434.32227891156469,74.215907496931862,-0.92850105250777271,{"$error":"#VALUE!"}]
["Howden-WRV 163/1.80 593.969646906382 m3/h",null,"Howden","WRV 163/1.80",{"$f":"F40/1.699011*$E$18/$F$18","v":483.27434923855674},680,{"$f":"$G$18/$F$18*F40","v":821.08843537414964},null,593.96964690638163,26.642713508344688,-0.87567562525270792,{"$error":"#VALUE!"},null,536.98027210884356,91.75784926893391,-0.9116013012823373,{"$error":"#VALUE!"}]
["Howden-WRV 204/1.10 711.890091512796 m3/h",null,"Howden","WRV 204/1.10",579.21852151385849,815,984.09863945578218,null,711.89009151279572,31.932075748971947,-0.85099358026611316,{"$error":"#VALUE!"},null,643.58664965986407,109.97448110908994,-0.89405155962515415,{"$error":"#VALUE!"}]
["Howden-WRV 204/1.45 956.465828474247 m3/h",null,"Howden","WRV 204/1.45",778.21384178855828,1095,1322.1938775510203,null,956.4658284742469,42.902604840643285,-0.79980119066428712,{"$error":"#VALUE!"},null,864.69617346938776,147.75712492570977,-0.85765209544729304,{"$error":"#VALUE!"}]
["Howden-WRV 204/1.65 1065.65142533204 m3/h",null,"Howden","WRV 204/1.65",867.05103833976375,1220,1473.1292517006802,null,1065.6514253320377,47.800162470853707,-0.77694744530632898,{"$error":"#VALUE!"},null,963.40578231292523,164.6243766295579,-0.84140233465360514,{"$error":"#VALUE!"}]
["Howden-WRV 204/1.93 1170.46959831552 m3/h",null,"Howden","WRV 204/1.93",952.33474702892067,1340,1618.0272108843535,null,1170.4695983155168,52.501817795855708,-0.7550078497626892,{"$error":"#VALUE!"},null,1058.1670068027213,180.81693826525216,-0.82580256429166465,{"$error":"#VALUE!"}]
["Howden-WRVi 255/1.10 1388.8407920311 m3/h",null,"Howden","WRVi 255/1.10",1130.0091401313314,1590,1919.8979591836733,null,1388.8407920310981,62.296933056276536,-0.70930035904677302,{"$error":"#VALUE!"},null,1255.586224489796,214.55144167294844,-0.79330304270428864,{"$error":"#VALUE!"}]
["Howden-WRVi 255/1.30 1532.96577988338 m3/h",null,"Howden","WRVi 255/1.30",1247.2742395789226,1755,2119.1326530612241,null,1532.9657798833819,68.761709128154294,-0.6791334151742684,{"$error":"#VALUE!"},null,1385.8829081632653,236.81621392202797,-0.77185335845662051,{"$error":"#VALUE!"}]
["Howden-WRVi 255/1.45 1877.992265954 m3/h",null,"Howden","WRVi 255/1.45",1527.9997806807312,2150,2596.0884353741494,null,1877.9922659540007,84.237991239619234,-0.60691557984312061,{"$error":"#VALUE!"},null,1697.8052721088436,290.11672930618818,-0.72050411434856632,{"$error":"#VALUE!"}]
["Howden-WRVi 255/1.65 2091.99603579527 m3/h",null,"Howden","WRVi 255/1.65",1702.1206859210934,2395,2891.9217687074829,null,2091.9960357952709,93.837204194831671,-0.5621222389415228,{"$error":"#VALUE!"},null,1891.2761054421769,323.17654264573048,-0.68865458319293793,{"$error":"#VALUE!"}]
["Howden-WRVi 255/1.93 2297.26495788792 m3/h",null,"Howden","WRVi 255/1.93",1869.1346154373591,2630,3175.6802721088434,null,2297.2649578879173,103.04461253962725,-0.51915719766856161,{"$error":"#VALUE!"},null,2076.8501700680272,354.88697584896499,-0.65810503290080447,{"$error":"#VALUE!"}]
["Howden-WRV 255/2.20 2786.41643181082 m3/h",null,"Howden","WRV 255/2.20",2267.1252559867589,3190,3851.8707482993195,null,2786.4164318108196,124.98567072296991,-0.41677241846490942,{"$error":"#VALUE!"},null,2519.0692176870748,430.45226348220467,-0.58530610454508225,{"$error":"#VALUE!"}]
["Howden-WRVi 321/1.32 3345.44668772271 m3/h",null,"Howden","WRVi 321/1.32",2721.97170232893,3830,4624.6598639455779,null,3345.4466877227082,150.0611657896473,-0.29976124223216383,{"$error":"#VALUE!"},null,3024.4624149659867,516.81259220590721,-0.50210732928139956,{"$error":"#VALUE!"},null,{"$f":"19*L52","v":{"$error":"#VALUE!"}},{"$f":"+Q52*4","v":{"$error":"#VALUE!"}},{"$f":"S51+T51","v":{"$error":"#VALUE!"}}]
["Howden-WRVi 321/1.65 4183.99207159054 m3/h",null,"Howden","WRVi 321/1.65",3404.2413718421867,4790,5783.8435374149658,null,4183.9920715905419,187.67440838966334,-0.12424447788304559,{"$error":"#VALUE!"},null,3782.5522108843538,646.35308529146096,-0.37730916638587575,{"$error":"#VALUE!"},null,{"$f":"19*J52","v":3565.8137594036034},{"$f":"4*O52","v":2585.4123411658438}]
["Howden-WRVi 321/1.93 4594.52991577583 m3/h",null,"Howden","WRVi 321/1.93",3738.2692308747182,5260,6351.3605442176868,null,4594.5299157758345,206.0892250792545,-3.8314395337123226E-2,{"$error":"#VALUE!"},null,4153.7003401360544,709.77395169792999,-0.31621006580160888,{"$error":"#VALUE!"}]
["Howden-WRV 321/2.20 5577.20028749595 m3/h",null,"Howden","WRV 321/2.20",4537.8039998355662,6385,7709.7789115646256,null,{"$f":"F54*$I$18/$F$18*$B$13","v":5577.2002874959508},{"$f":"I54*$B$10*1000/3600","v":250.16724375114828},{"$f":"(J54-$B$6)/$B$6","v":0.1673693128844996},{"$f":"J54*8.314*$B$9/4*LN($B$11/$B$8)/$B$14/1000","v":{"$error":"#VALUE!"}},null,{"$f":"F54*$N$18/$F$18*$C$13","v":5042.0868197278915},{"$f":"N54*$C$10*1000/3600","v":861.57921703256341},{"$f":"(O54-$C$6)/$C$6","v":-0.16996221865841676},{"$f":"O54*8.314*$C$9/4*LN($C$11/$C$8)/$C$14/1000","v":{"$error":"#VALUE!"}}]
["Howden-WRVi 365/165 5914.36541059281 m3/h",null,"Howden","WRVi 365/165",4812.1332627856882,6771,8175.867346938775,null,5914.365410592809,265.29090171323804,0.23794167854987414,{"$error":"#VALUE!"},null,5346.9020918367351,913.66529029404637,-0.11978295732750831,{"$error":"#VALUE!"}]
["Howden-WRVi 365/193 6917.99941690962 m3/h",null,"Howden","WRVi 365/193",5628.7247734843677,7920,9563.2653061224482,null,6917.9994169096217,310.30925145013225,0.44801330588022509,{"$error":"#VALUE!"},null,6254.2408163265309,1068.7090679558185,2.958484388807173E-2,{"$error":"#VALUE!"}]
["Howden-WRV 510/1.32** 6690.89337544542 m3/h",null,"Howden","WRV 510/1.32**",5443.9434046578599,7660,9249.3197278911557,null,6690.8933754454165,300.12233157929461,0.4004775155356724,{"$error":"#VALUE!"},null,6048.9248299319734,1033.6251844118144,-4.2146585627992139E-3,{"$error":"#VALUE!"},"*Swept volume at 3000 rpm except WRV510 range which is measured at 1500rpm **Swept volume at 3600 rpm except WRV510 which is measured at 1800 rpm."]
["Howden-WRV 510/1.65** 8363.61671930677 m3/h",null,"Howden","WRV 510/1.65**",6804.929255822326,9575,11561.649659863944,null,8363.6167193067704,375.15291447411818,0.7505968944195901,{"$error":"#VALUE!"},null,7561.1560374149658,1292.031480514768,0.24473167679650093,{"$error":"#VALUE!"},"*Swept volume at 3000 rpm except WRV510 range which is measured at 1500rpm **Swept volume at 3600 rpm except WRV510 which is measured at 1800 rpm."]
["Howden-WRV 510/1.93** 9180.32498380305 m3/h",null,"Howden","WRV 510/1.93**",7469.4314860253407,10510,12690.646258503401,null,9180.3249838030461,411.78664554809222,0.92154290969711716,{"$error":"#VALUE!"},null,8299.5039115646268,1418.1985232595523,0.36627988753328738,{"$error":"#VALUE!"},"*Swept volume at 3000 rpm except WRV510 range which is measured at 1500rpm **Swept volume at 3600 rpm except WRV510 which is measured at 1800 rpm."]
["Howden-XRV 127-R1 255.931039034661 m3/h",null,"Howden","XRV 127-R1",{"$f":"F60/1.699011*$E$18/$F$18","v":208.23438871602522},293,353.79251700680271,null,255.9310390346615,11.479875085213225,-0.94643082088094621,{"$error":"#VALUE!"},null,231.37532312925171,39.536837993820058,-0.96191056069959524,{"$error":"#VALUE!"}]
["Howden-XRV 127-R3 346.773455620343 m3/h",null,"Howden","XRV 127-R3",282.146936246628,397,479.3707482993197,null,346.77345562034338,15.554643033548295,-0.92741650474312509,{"$error":"#VALUE!"},null,313.5017176870748,53.57039141142171,-0.94839075971924691,{"$error":"#VALUE!"}]
["Howden-XRV 127-R4 427.134054907677 m3/h",null,"Howden","XRV 127-R4",347.53111290831515,489,590.45918367346928,null,427.13405490767741,19.159245449383164,-0.91059614815966794,{"$error":"#VALUE!"},null,386.15198979591838,65.984688665453945,-0.93643093577509251,{"$error":"#VALUE!"}]
["Howden-XRV 127-R5 503.1272303207 m3/h",null,"Howden","XRV 127-R5",409.36180170795399,576,695.51020408163254,null,503.12723032069977,22.567945560009619,-0.89468994139052915,{"$error":"#VALUE!"},null,454.85387755102045,77.724295851332272,-0.92512110226268562,{"$error":"#VALUE!"}]
["Howden-XRV 163/1.65 517.976471493359 m3/h",null,"Howden","XRV 163/1.65",421.4436604389179,593,716.03741496598639,null,517.97647149335933,23.234013397718236,-0.89158183202184682,{"$error":"#VALUE!"},null,468.2783843537415,80.018242083055597,-0.92291113479474407,{"$error":"#VALUE!"}]
["Howden-XRV 163/1.93 620.174190152251 m3/h",null,"Howden","XRV 163/1.93",504.59527641084611,710,857.31292517006796,null,620.17419015225141,27.81812733959519,-0.87019072636679806,{"$error":"#VALUE!"},null,560.67057823129255,95.805989677857482,-0.90770135869185209,{"$error":"#VALUE!"}]
["Howden-XRV 204/1.10 709.269637188209 m3/h",null,"Howden","XRV 204/1.10",577.08642879662955,812,980.47619047619037,null,709.26963718820866,31.814534365846892,-0.85154207015470418,{"$error":"#VALUE!"},null,641.21761904761911,109.56966706819757,-0.89444155388420277,{"$error":"#VALUE!"}]
["Howden-XRV 204/1.45 934.628709102689 m3/h",null,"Howden","XRV 204/1.45",760.44640247831728,1070,1292.0068027210884,null,934.62870910268884,41.923093314601211,-0.80437193973587862,{"$error":"#VALUE!"},null,844.9542517006804,144.38367458494017,-0.86090204760603062,{"$error":"#VALUE!"}]
["Howden-XRV 204/1.65 1064.77794055718 m3/h",null,"Howden","XRV 204/1.65",866.34034076735418,1219,1471.9217687074829,null,1064.7779405571755,47.760982009812039,-0.77713027526919254,{"$error":"#VALUE!"},null,962.61610544217694,164.48943861592713,-0.84153233273995454,{"$error":"#VALUE!"}]
["Howden-XRV 204/1.93 1177.45747651442 m3/h",null,"Howden","XRV 204/1.93",958.02032760819804,1348,1627.6870748299318,null,1177.4574765144155,52.815261484189186,-0.75354521005977981,{"$error":"#VALUE!"},null,1064.4844217687075,181.8964423742984,-0.82476257960086852,{"$error":"#VALUE!"}]
["GEA GRASSO"]
[null,2940,"GEA GRASSO","LT-P",572.11154578976209,805,{"$f":"F71*$G$18/$F$18","v":972.02380952380952},null,703.15524376417238,31.540271138555113,-0.85282187989474978,{"$error":"#VALUE!"},null,635.68988095238092,108.62510097278205,-0.89535154048864929,{"$error":"#VALUE!"},"API 619 standard and ISO 10440, respectively"]
[null,null,"GEA GRASSO","LT-R",739.12547530602808,1040,{"$f":"F72*$G$18/$F$18","v":1255.7823129251701},null,908.42416585681906,40.747679483350709,-0.80985683862178859,{"$error":"#VALUE!"},null,821.26394557823141,140.33553417601661,-0.86480199019651582,{"$error":"#VALUE!"},"API 619 standard and ISO 10440, respectively"]
[null,null,"GEA GRASSO","LT-S",916.79986840843867,1290,1557.6530612244899,null,1126.7953595724005,50.542794743771545,-0.76414934790587241,{"$error":"#VALUE!"},null,1018.6831632653061,174.07003758371286,-0.83230246860913981,{"$error":"#VALUE!"},"API 619 standard and ISO 10440, respectively"]
[null,null,"GEA GRASSO","LT-T",1037.6184557180779,1460,1762.9251700680272,null,1275.2877712989959,57.203473120857716,-0.73306825421904942,{"$error":"#VALUE!"},null,1152.928231292517,197.00949990094637,-0.81020279392972416,{"$error":"#VALUE!"},"API 619 standard and ISO 10440, respectively"]
[null,null,"GEA GRASSO","LT-V",1236.6137759927776,1740,2101.0204081632655,null,1519.8635082604471,68.174002212529047,-0.68187586461722327,{"$error":"#VALUE!"},null,1374.0377551020408,234.7921437175662,-0.77380332975186306,{"$error":"#VALUE!"},"API 619 standard and ISO 10440, respectively"]
[null,null,"GEA GRASSO","LT-W",1414.2881690951883,1990,2402.8911564625851,null,1738.2347019760286,77.96911747294989,-0.63616837390130709,{"$error":"#VALUE!"},null,1571.4569727891158,268.52664712526251,-0.74130380816448693,{"$error":"#VALUE!"},"API 619 standard and ISO 10440, respectively"]
[null,null,"GEA GRASSO","LT-Y",1698.5671980590453,2390,2885.8843537414964,null,2087.628611920959,93.641301889623236,-0.56303638875584117,{"$error":"#VALUE!"},null,1887.3277210884355,322.50185257757659,-0.68930457362468545,{"$error":"#VALUE!"},"API 619 standard and ISO 10440, respectively"]
[null,null,"GEA GRASSO","LT-Z",1952.9969289816972,2748,3318.1632653061224,null,2400.3361613216716,107.6679069425459,-0.49758326205064912,{"$error":"#VALUE!"},null,2170.0320408163266,370.80966145739762,-0.64276525871156298,{"$error":"#VALUE!"},"API 619 standard and ISO 10440, respectively"]
[null,null,"GEA GRASSO","LT-XA",2309.7671103313378,3250,3924.3197278911566,null,2838.8255183025594,127.33649838547095,-0.40580262069308942,{"$error":"#VALUE!"},null,2566.449829931973,438.54854430005184,-0.57750621936411195,{"$error":"#VALUE!"},"API 619 standard and ISO 10440, respectively"]
[null,null,"GEA GRASSO","LT-XB",2949.3949255000152,4150,5011.0544217687075,null,3624.9618156786523,162.59891332298599,-0.24125565411579103,{"$error":"#VALUE!"},null,3277.1590136054419,559.99275656775842,-0.46050794164955838,{"$error":"#VALUE!"},"API 619 standard and ISO 10440, respectively"]
[null,null,"GEA GRASSO","LT-XC",3482.4181048072473,4900,5916.666666666667,null,4280.0753968253975,191.98425910424851,-0.10413318196804247,{"$error":"#VALUE!"},null,3869.416666666667,661.1962667908474,-0.36300937688743024,{"$error":"#VALUE!"},"API 619 standard and ISO 10440, respectively"]
[null,null,"GEA GRASSO","LT-XD",4122.0459199759252,5800,7003.4013605442178,null,5066.2116942014909,227.24667404176353,6.0413784609255783E-2,{"$error":"#VALUE!"},null,4580.1258503401359,782.64047905855398,-0.2460110991728767,{"$error":"#VALUE!"},"API 619 standard and ISO 10440, respectively"]
[null,null,"GEA GRASSO","LT-XE",5053.0597398325572,7110,8585.2040816326535,null,6210.476749271138,278.57307800636875,0.29992103596065672,{"$error":"#VALUE!"},null,5614.6025510204081,959.40927691488253,-7.5713606055026472E-2,{"$error":"#VALUE!"},"API 619 standard and ISO 10440, respectively"]
[null,null,"GEA GRASSO","LT-XF",6083.5712198265383,8560,10336.054421768707,null,7477.0296728215108,335.38474651680968,0.56502448211297096,{"$error":"#VALUE!"},null,6759.6340136054432,1155.0693966795213,0.11278361915175465,{"$error":"#VALUE!"},"API 619 standard and ISO 10440, respectively"]
["FRICK JOHNSON CONTROL"]
[null,2950,"Frick","SGC1913",592.72177538964172,834,1007.0408163265306,null,728.48630223517989,32.676504508763934,-0.84751981097170348,{"$error":"#VALUE!"},null,658.59051020408174,112.53830336807485,-0.8915815959845137,{"$error":"#VALUE!"}]
[null,null,"Frick","SGC.1918",790.29570051952226,1112,1342.7210884353742,null,971.31506964690652,43.568672678351909,-0.79669308129560479,{"$error":"#VALUE!"},null,878.12068027210887,150.05107115743314,-0.85544212797935149,{"$error":"#VALUE!"}]
[null,null,"Frick","SGC.2313",1043.304036297355,1468,1772.5850340136055,null,{"$f":"F88*$I$18/$F$18*$B$13","v":1282.2756494978944},{"$f":"I88*$B$10*1000/3600","v":57.516916809191173},{"$f":"(J88-$B$6)/$B$6","v":-0.73160561451614015},{"$f":"J88*8.314*$B$9/4*LN($B$11/$B$8)/$B$14/1000","v":{"$error":"#VALUE!"}},null,{"$f":"F88*$N$18/$F$18*$C$13","v":1159.2456462585035},{"$f":"N88*$C$10*1000/3600","v":198.08900400999264},{"$f":"(O88-$C$6)/$C$6","v":-0.80916280923892803},{"$f":"O88*8.314*$C$9/4*LN($C$11/$C$8)/$C$14/1000","v":{"$error":"#VALUE!"}}]
[null,null,"Frick","SGC.2317",1313.3691138130191,1848,2231.4285714285716,null,1614.1998639455783,72.405492005030851,-0.66213022862794757,{"$error":"#VALUE!"},null,1459.3228571428572,249.36544918969102,-0.75976353642611649,{"$error":"#VALUE!"}]
[null,null,"Frick","SGC.2321",1622.5225578112136,2283,2756.6836734693879,null,1994.1657410106902,89.448992558163141,-0.58259919478225319,{"$error":"#VALUE!"},null,1802.8322959183677,308.0634851190826,-0.70321436886408228,{"$error":"#VALUE!"}]
[null,null,"Frick","SGC.2813",1869.1346154373591,2630,3175.6802721088434,null,2297.2649578879173,103.04461253962725,-0.51915719766856161,{"$error":"#VALUE!"},null,2076.8501700680272,354.88697584896499,-0.65810503290080447,{"$error":"#VALUE!"}]
[null,null,"Frick","SGC.2817",2353.8303598207353,3312,3999.1836734693879,null,2892.9815743440236,129.76568697005533,-0.39446716299554213,{"$error":"#VALUE!"},null,2615.4097959183678,446.91470114516056,-0.56944633801044264,{"$error":"#VALUE!"}]
[null,null,"Frick","SGC.2821",2832.1298260524245,3985,4811.8197278911566,null,3480.8368278263688,156.13413725110823,-0.27142259798829577,{"$error":"#VALUE!"},null,3146.8623299319729,537.72798431867886,-0.48195762589722652,{"$error":"#VALUE!"}]
[null,null,"Frick","SGC.2824",3198.8497734158004,4501,5434.8809523809523,null,3931.5549716553292,176.35125514861681,-0.17708233715064486,{"$error":"#VALUE!"},null,3554.3355952380953,607.35599935216408,-0.41487861334088239,{"$error":"#VALUE!"}]
[null,null,"Frick","SGCH/B.3511",2928.0739983277267,4120,4974.8299319727894,null,3598.7572724327833,161.4234994917355,-0.24674055300170095,{"$error":"#VALUE!"},null,3253.4687074829935,555.94461615883495,-0.46440788424004342,{"$error":"#VALUE!"}]
[null,null,"Frick","SGCH/B.3515",3992.6989617973704,5618,6783.6394557823132,null,4907.2374651765467,220.11583013217711,2.7138731368068585E-2,{"$error":"#VALUE!"},null,4436.4046598639461,758.08176057775131,-0.26967075088848619,{"$error":"#VALUE!"}]
[null,null,"Frick","SGCH/B.3519",5081.4876427289437,7150,8633.5034013605436,null,6245.4161402656309,280.14029644803611,0.30723423447520343,{"$error":"#VALUE!"},null,5646.1896258503402,964.80679746011401,-7.0513682601046235E-2,{"$error":"#VALUE!"}]
[null,null,"Frick","SGCB.3524",6419.7311715762999,9033,10907.193877551021,null,7890.1879713313911,353.91710458952593,0.65150305454748447,{"$error":"#VALUE!"},null,7133.1511734693886,1218.8950771268824,0.17427271399506972,{"$error":"#VALUE!"}]
["AERZEN"]
[null,null,"Aerzen","VMY236H (DP<20 b)",496.77760311434002,699,844.03061224489795,null,610.56585762876591,27.387142268136675,-0.87220185595829836,{"$error":"#VALUE!"},null,551.98413265306124,94.321671527918838,-0.90913133764169662,{"$error":"#VALUE!"},"Attention , Delta P max spécifié !"]
[null,null,"Aerzen","VMY236M (DP<16 b)",653.84176661687104,920,1110.8843537414966,null,803.6059928733398,36.046024158348693,-0.83179643416542837,{"$error":"#VALUE!"},null,726.50272108843535,124.14297254032236,-0.88040176055845631,{"$error":"#VALUE!"},"Attention , Delta P max spécifié !"]
[null,null,"Aerzen","VMY236B (DP<8 b)",867.76173591217321,1221,1474.3367346938776,null,1066.5249101069001,47.839342931895395,-0.77676461534346519,{"$error":"#VALUE!"},null,964.19545918367362,164.7593146431887,-0.84127233656725564,{"$error":"#VALUE!"},"Attention , Delta P max spécifié !"]
[null,null,"Aerzen","VMY336H (DP<20 b)",981.47334749771608,1381,1667.5340136054422,null,1206.2824740848721,54.108216698564725,-0.74751182128527893,{"$error":"#VALUE!"},null,1090.5437585034015,186.34939682411436,-0.82047264275133491,{"$error":"#VALUE!"},"Attention , Delta P max spécifié !"]
[null,null,"Aerzen","VMY336M (DP<16 b)",1285.6519084890431,1809,2184.3367346938776,null,1580.1339577259478,70.87745402440521,-0.66926059717963038,{"$error":"#VALUE!"},null,1428.5254591836735,244.10286665809039,-0.76483346179374723,{"$error":"#VALUE!"},"Attention , Delta P max spécifié !"]
[null,null,"Aerzen","VMY336B (DP<8 b)",1713.4918470796476,2411,2911.2414965986395,null,2105.9717921930678,94.464091571498614,-0.55919695953570414,{"$error":"#VALUE!"},null,1903.9109353741499,325.33555086382307,-0.68657461381134577,{"$error":"#VALUE!"},"Attention , Delta P max spécifié !"]
[null,null,"Aerzen","VMY436H (DP<20 b)",1924.5690260853114,2708,3269.8639455782313,null,2365.3967703271787,106.10068850087856,-0.50489646056519577,{"$error":"#VALUE!"},null,2138.4449659863949,365.41214091216636,-0.647965182165543,{"$error":"#VALUE!"},"Attention , Delta P max spécifié !"]
[null,null,"Aerzen","VMY436M (DP<16 b)",2528.6619626335073,3558,4296.2244897959181,null,3107.8588289601557,139.40408038630943,-0.34949099213108059,{"$error":"#VALUE!"},null,2809.6703061224493,480.10945249833372,-0.53746680876846464,{"$error":"#VALUE!"},"Attention , Delta P max spécifié !"]
[null,null,"Aerzen","VMY436B (DP<8 b)",3363.7316102148375,4733,5715.017006802721,null,4134.2034394233888,185.44112211028738,-0.13466578576627453,{"$error":"#VALUE!"},null,3737.5406292517009,638.66161851450636,-0.38471905730779732,{"$error":"#VALUE!"},"Attention , Delta P max spécifié !"]
[null,null,"Aerzen","VMY536H (DP<20 b)",4050.2654651625521,5699,6881.4455782312925,null,4977.9897319403954,223.28944747655348,4.1947958360025503E-2,{"$error":"#VALUE!"},null,4500.3684863945582,769.0117396818448,-0.25914090589417649,{"$error":"#VALUE!"},"Attention , Delta P max spécifié !"]
[null,null,"Aerzen","VMY536M (DP<16 b)",5301.0931926035228,7459,9006.6156462585041,null,6515.3229356980892,292.24705890991623,0.36372869300007565,{"$error":"#VALUE!"},null,5890.1997789115649,1006.5026436720267,-3.0344273919049428E-2,{"$error":"#VALUE!"},"Attention , Delta P max spécifié !"]
[null,null,"Aerzen","VMY536B (DP<8 b)",7062.2017770346165,9937,11998.758503401361,null,8679.8182078069331,389.33624137120762,0.816781340976237,{"$error":"#VALUE!"},null,7847.0190646258516,1340.8790414491123,0.29179098405502146,{"$error":"#VALUE!"},"Attention , Delta P max spécifié !"]

{"sheet":"TMCP","index":1,"n_rows":110,"n_cols":33,"rows_kept":110,"cut":false,"hidden":false,"merged":[]}
[]
[null,"LP","HP",null,null,null,null,null,null,null,null,null,null,null,null,null,"air molar mass",28.958600656000002]
[null,null,null,null,null,null,null,null,null,null,null,null,null,null,null,null,"air density",1.2758162153163073]
["mass flow",1158,{"$f":"B4","v":1158},"g/s total",null,null,null,null,{"$f":"C16/35/19","v":{"$error":"#VALUE!"}}]
["nb comp",1,2,"units",null,null,null,null,null,null,null,null,null,null,null,null,null,"S","M","L"]
["flow",{"$f":"B4/B5","v":1158},{"$f":"C4/C5","v":579},"g/s per unit",null,null,null,null,300,300,null,null,null,null,null,null,null,"MYCOM internal Volume ratio ",null,null,null,null,null,null,null,null,"BVR",2.2000000000000002,2.6,null,"BVR",2.6,2.6]
["Gamma",1.66,null,null,null,null,null,null,4.5,15,null,null,null,null,null,null,null,"BEST MP Pressure",null,null,"BEST HP Pressure",null,null,null,null,null,"Pinlet",1.05,{"$f":"AB8","v":3.8869678566020873},null,"Pinlet",1.01,{"$f":"AF8","v":4.9337499092377115}]
["Pin",1.05,{"$f":"B11","v":4.5},null,null,null,null,null,{"$f":"(I6-I7)/I7","v":65.666666666666671},{"$f":"(J6-J7)/J7","v":19},null,null,null,null,null,null,null,"Vi","Vi","Vi","Vi","Vi","Vi",null,null,null,"Ideal Poutlet",{"$f":"$AB$7*$AB$6^($B$7)","v":3.8869678566020873},{"$f":"$AC$7*$AC$6^($B$7)","v":18.987452781901439},null,"Ideal Poutlet",{"$f":"$AF$7*$AF$6^($B$7)","v":4.9337499092377115},{"$f":"$AC$7*$AC$6^($B$7)","v":18.987452781901439}]
["Tin",{"$f":"273+50","v":323},298,null,null,null,null,null,{"$f":"J9*J8/I8","v":10.633248730964466},{"$f":"35*1.05","v":36.75},"kW",null,null,null,null,null,null,2.63,3.65,5.8,2.63,3.65,5.8,null,null,null,"Pr",{"$f":"AB8/AB7","v":3.701874149144845},{"$f":"AC8/AC7","v":4.8849009002353583},null,"Pr",{"$f":"AF8/AF7","v":4.8849009002353583},{"$f":"AG8/AG7","v":3.8484830263387009}]
["rho",{"$f":"1.27581621531631*B8*273.15/(B9)*4/28.958600656","v":0.15647988511378658},{"$f":"1.27581621531631*C8*273.15/(C9)*4/28.958600656","v":0.72688882394659238},null,null,null,null,null,{"$f":"15.5*(I9)^0.23/100","v":0.26697148176132507},{"$f":"C16/J9","v":{"$error":"#VALUE!"}},"W/W",null,null,null,null,null,null,{"$f":"$B$8*$R$9^($B$7)","v":5.2277624089132688},{"$f":"$B$8*$S$9^($B$7)","v":9.0073171382209125},{"$f":"$B$8*$T$9^($B$7)","v":19.430311735808491},{"$f":"$C$8*$U$9^($B$7)","v":22.404696038199724},{"$f":"$C$8*$V$9^($B$7)","v":38.602787735232482},{"$f":"$C$8*$W$9^($B$7)","v":83.272764582036388}]
["Pout",4.5,20,null,null,null,null,null,{"$f":"I8*I9/I10","v":2615.4478950086582},{"$f":"J8/J10","v":{"$error":"#VALUE!"}},"Eff.",null,null,null,null,null,null,{"$f":"R10/B8","v":4.9788213418221607},null,null,null,null,null,null,null,null,null,3.5,3.5,null,null,3.5,3.5]
["Ratio",{"$f":"B11/B8","v":4.2857142857142856},{"$f":"C11/C8","v":4.4444444444444446},null,{"$f":"B11-B8","v":3.45}]
["Volumetric eff.",{"$f":"extrapol_(B12,Vol_ratio,Vol_LPL_MP)/100","v":0.8661428571428571},{"$f":"extrapol_(C12,Vol_ratio,Vol_MP_HP)/100","v":0.7834444444444445},null,null,null,null,null,null,null,null,null,null,null,null,null,null,null,null,null,null,null,null,null,null,null,null,{"$f":"AB7*AB11","v":3.6750000000000003},{"$f":"AB13*AC11","v":12.862500000000001},null,null,{"$f":"AF7*AF11","v":3.5350000000000001},{"$f":"AF13*AG11","v":12.3725}]
["Isotherm eff.",{"$f":"extrapol_(B12,IsoT_ratio,IsoT_LPL_MP)/100","v":{"$error":"#VALUE!"}},{"$f":"extrapol_(C12,IsoT_ratio,IsoT_MP_HP)/100","v":{"$error":"#VALUE!"}}]
["Ideal Vi",{"$f":"(B11/B8)^(1/B7)","v":2.4029065227943009},null,null,null,"Ideal Vi",{"$f":"(C11/C8)^(1/1.66)","v":2.456130822035262},null,null,null,null,null,null,null,null,null,null,1.05,{"$f":"R15*3.5","v":3.6750000000000003},{"$f":"S15*3.5","v":12.862500000000001},null,null,null,null,"L",2.63]
[null,null,{"$f":"C4*8.314*$C$9/4*LN($C$11/$C$8)/$C$14/1000","v":{"$error":"#VALUE!"}},null,null,null,null,null,null,null,null,null,null,null,{"$f":"C11/C8","v":4.4444444444444446},null,null,2,{"$f":"R16*3.5","v":7},{"$f":"S16*3.5","v":24.5},null,null,null,null,"M",3.65,null,null,null,1.1000000000000001,{"$f":"AD16*3.5","v":3.8500000000000005},{"$f":"AE16*3.5","v":13.475000000000001}]
[null,null,{"$f":"C11-C8","v":15.5},null,{"$f":"E18/60","v":59.166666666666664},{"$f":"F18/60","v":49},60,null,50,null,null,null,null,null,null,null,null,null,null,null,null,null,null,null,"H",5.8,null,null,null,1.05]
[null,null,"MANUFACTURER","MODEL",3550,2940,3550,null,2950,"LP Flow","excess","LP Power",null,2950,"HP Flow","excess","HP Power",null,null,null,null,null,null,null,null,null,null,null,null,7]
[{"$f":"C19&\"-\"&D19&\" \"&I19&\" m3/h\"","v":"MYCOM-125SUD 171.301098591549 m3/h"},null,"MYCOM","125SUD",140,{"$f":"G19*$F$18/$G$18","v":197.10422535211268},238,null,{"$f":"F19*$I$18/$F$18*$B$13","v":171.30109859154928},{"$f":"I19*$B$10*1000/3600","v":7.4458822854086275},{"$f":"(J19-$B$6)/$B$6","v":-0.99357004983988906},{"$f":"J19*8.314*$B$9/4*LN($B$11/$B$8)/$B$14/1000","v":{"$error":"#VALUE!"}},null,{"$f":"F19*$N$18/$F$18*$C$13","v":154.94544913928013},{"$f":"N19*$C$10*1000/3600","v":31.28558758353552},{"$f":"(O19-$C$6)/$C$6","v":-0.94596616997662264},{"$f":"O19*8.314*$C$9/4*LN($C$11/$C$8)/$C$14/1000","v":{"$error":"#VALUE!"}},null,null,null,null,null,null,null,null,null,null,null,null,{"$f":"AD18/AD17","v":6.6666666666666661}]
["MYCOM-200 VSD 702.47845472837 m3/h",null,"MYCOM","200 VSD",574,{"$f":"G20*$F$18/$G$18","v":808.29295774647892},976,null,702.47845472837025,30.534374414112694,-0.9736318010240822,{"$error":"#VALUE!"},null,635.40654773082952,128.29719950222972,-0.77841589032430103,{"$error":"#VALUE!"}]
["MYCOM-200 VMD 878.817820925553 m3/h",null,"MYCOM","200 VMD",718,1011.1943661971831,1221,null,878.81782092555329,38.199253237327461,-0.96701273468279147,{"$error":"#VALUE!"},null,794.90921596244129,160.50295142645743,-0.72279283000611838,{"$error":"#VALUE!"}]
["MYCOM-200 VLD 1051.55842454728 m3/h",null,"MYCOM","200 VLD",859,1209.9549295774648,1461,null,1051.5584245472837,45.707705962109266,-0.96052875132805771,{"$error":"#VALUE!"},null,951.15672769953062,192.05144310733363,-0.66830493418422521,{"$error":"#VALUE!"}]
["MYCOM-250 VSD 1370.40878873239 m3/h",null,"MYCOM","250 VSD",1120,1576.8338028169014,1904,null,1370.4087887323942,59.56705828326902,-0.94856039871911135,{"$error":"#VALUE!"},null,1239.563593114241,250.28470066828416,-0.56772935981298078,{"$error":"#VALUE!"}]
["MYCOM-250 VMD 1713.01098591549 m3/h",null,"MYCOM","250 VMD",1400,1971.0422535211267,2380,null,1713.0109859154929,74.458822854086279,-0.93570049839888925,{"$error":"#VALUE!"},null,1549.4544913928014,312.85587583535528,-0.45966169976622578,{"$error":"#VALUE!"}]
["MYCOM-250 VLD 2044.09714285714 m3/h",null,"MYCOM","250 VLD",1670,2352,2840,null,2044.0971428571427,88.850023909918079,-0.92327286363564931,{"$error":"#VALUE!"},null,1848.9288888888891,373.32381822370121,-0.35522656610759723,{"$error":"#VALUE!"}]
["MYCOM-250 VLLD 2423.40671830986 m3/h",null,"MYCOM","250 VLLD",1980,2788.4450704225351,3367,null,2423.4067183098587,105.33733468475145,-0.90903511685254612,{"$error":"#VALUE!"},null,2192.0223834115804,442.59904787295841,-0.23558022819869015,{"$error":"#VALUE!"}]
["MYCOM-320 VSD 2753.77312273642 m3/h",null,"MYCOM","320 VSD",2250,3168.5746478873239,3826,null,2753.7731227364184,119.69725052089667,-0.89663449868661771,{"$error":"#VALUE!"},null,2490.8457496087635,502.93553821263401,-0.1313721274393195,{"$error":"#VALUE!"}]
["MYCOM-320 VMD 3426.74172434608 m3/h",null,"MYCOM","320 VMD",2800,3942.9126760563381,4761,null,3426.7417243460764,148.94893092785918,-0.87137398020046697,{"$error":"#VALUE!"},null,3099.5600140845072,625.84320371938065,8.0903633366805963E-2,{"$error":"#VALUE!"}]
["MYCOM-320 MUD 3476.3556851312 m3/h",null,"MYCOM","320 MUD",{"$f":"F29/1.699011*$E$18/$F$18","v":2842.7902896385699},4000,5696,null,3476.3556851311951,151.10548283999674,-0.86951167284974373,{"$error":"#VALUE!"},null,3144.4368858654575,634.90445276139656,9.6553459000684891E-2,{"$error":"#VALUE!"},"JT60Offer"]
["MYCOM-320 VLD 4099.71032595573 m3/h",null,"MYCOM","320 VLD",3350,4717.2507042253519,5696,null,4099.7103259557334,178.20061133482156,-0.84611346171431645,{"$error":"#VALUE!"},null,3708.2742785602504,748.75086922612741,0.2931793941729316,{"$error":"#VALUE!"}]
["MYCOM-320 LLUD 4866.89795918367 m3/h",null,"MYCOM","320 LLUD",3979.9064054939972,5600,5696,null,4866.8979591836733,211.54767597599539,-0.81731634198964132,{"$error":"#VALUE!"},null,4402.2116402116408,888.86623386595522,0.53517484260095893,{"$error":"#VALUE!"},"JT60Offer"]
["MYCOM-400SUD 5616.9486277666 m3/h",null,"MYCOM","400SUD",4590,6463.0309859154931,7804,null,5616.9486277665992,244.14985443415515,-0.78916247458190403,{"$error":"#VALUE!"},null,5080.6482566510176,1025.8517878231564,0.77176474580856036,{"$error":"#VALUE!"}]
["MYCOM-400MUD 6975.84137625755 m3/h",null,"MYCOM","400MUD",5760,8026.6140845070422,9692,null,6975.8413762575456,303.21634920243878,-0.73815513885799755,{"$error":"#VALUE!"},null,6309.7953489827869,1274.0332557127156,1.2004028596074534,{"$error":"#VALUE!"}]
["MYCOM-400LUD 8431.90071428571 m3/h",null,"MYCOM","400LUD",5760,9702,11715,null,8431.9007142857135,366.50634862841201,-0.68350056249705349,{"$error":"#VALUE!"},null,7626.8316666666669,1539.9607501727673,1.6596904148061613,{"$error":"#VALUE!"}]
["MYCOM-400LLUD 9937.62297585513 m3/h",null,"MYCOM","400LLUD",5760,11434.529577464789,13807,null,9937.6229758551308,431.95502821276023,-0.62698184092162335,{"$error":"#VALUE!"},null,8988.7891439749619,1814.9584359910714,2.1346432400536637,{"$error":"#VALUE!"}]
["Howden-WRV 163/1.45 477.998906705539 m3/h",null,"Howden","WRV 163/1.45",{"$f":"F36/1.699011*$E$18/$F$18","v":390.88366482530336},550,{"$f":"$G$18/$F$18*F36","v":664.11564625850338},null,477.99890670553935,20.77700389049955,-0.98205785501683973,{"$error":"#VALUE!"},null,432.36007180650046,87.299362254692042,-0.84922389938740583,{"$error":"#VALUE!"}]
["Howden-WRV 163/1.80 590.980466472303 m3/h",null,"Howden","WRV 163/1.80",{"$f":"F37/1.699011*$E$18/$F$18","v":483.27434923855674},680,{"$f":"$G$18/$F$18*F37","v":821.08843537414964},null,590.98046647230319,25.687932082799446,-0.97781698438445641,{"$error":"#VALUE!"},null,534.55427059712781,107.93375696943743,-0.81358591196988361,{"$error":"#VALUE!"}]
["Howden-WRV 204/1.10 708.307470845481 m3/h",null,"Howden","WRV 204/1.10",579.21852151385849,815,984.09863945578218,null,708.30747084548102,30.787742128649338,-0.9734130033431353,{"$error":"#VALUE!"},null,640.67901549508701,129.36178225013455,-0.77657723272861046,{"$error":"#VALUE!"}]
["Howden-WRV 204/1.45 951.652368804665 m3/h",null,"Howden","WRV 204/1.45",778.21384178855828,1095,1322.1938775510203,null,951.65236880466466,41.3651259274491,-0.96427882044261737,{"$error":"#VALUE!"},null,860.78959750566901,173.8050939434323,-0.69981849059856249,{"$error":"#VALUE!"}]
["Howden-WRV 204/1.65 1060.28848396501 m3/h",null,"Howden","WRV 204/1.65",867.05103833976375,1220,1473.1292517006802,null,1060.2884839650144,46.087172266198991,-0.96020106021917173,{"$error":"#VALUE!"},null,959.05325018896451,193.64585809222595,-0.66555119500479121,{"$error":"#VALUE!"}]
["Howden-WRV 204/1.93 1164.57915451895 m3/h",null,"Howden","WRV 204/1.93",952.33474702892067,1340,1618.0272108843535,null,1164.5791545189504,50.620336751398902,-0.95628641040466411,{"$error":"#VALUE!"},null,1053.3863567649285,212.69299167506787,-0.63265459123477041,{"$error":"#VALUE!"}]
["Howden-WRVi 255/1.10 1381.85138483965 m3/h",null,"Howden","WRVi 255/1.10",1130.0091401313314,1590,1919.8979591836733,null,1381.8513848396501,60.064429428898698,-0.94813088995777317,{"$error":"#VALUE!"},null,1249.9136621315192,252.37451997265515,-0.56412000004722773,{"$error":"#VALUE!"}]
["Howden-WRVi 255/1.30 1525.25105685131 m3/h",null,"Howden","WRVi 255/1.30",1247.2742395789226,1755,2119.1326530612241,null,1525.2510568513119,66.297530596048574,-0.94274824646282507,{"$error":"#VALUE!"},null,1379.6216836734693,278.5643286490627,-0.51888716986344952,{"$error":"#VALUE!"}]
["Howden-WRVi 255/1.45 1868.54118075802 m3/h",null,"Howden","WRVi 255/1.45",1527.9997806807312,2150,2596.0884353741494,null,1868.5411807580174,81.21919702649825,-0.92986252415673731,{"$error":"#VALUE!"},null,1690.1348261526834,341.26114335925064,-0.41060251578713186,{"$error":"#VALUE!"}]
["Howden-WRVi 255/1.65 2081.4679664723 m3/h",null,"Howden","WRVi 255/1.65",1702.1206859210934,2395,2891.9217687074829,null,2081.467966472303,90.474407850448046,-0.92187011411878417,{"$error":"#VALUE!"},null,1882.7315854119427,380.14904109088627,-0.34343861642333978,{"$error":"#VALUE!"}]
["Howden-WRVi 255/1.93 2285.70386297376 m3/h",null,"Howden","WRVi 255/1.93",1869.1346154373591,2630,3175.6802721088434,null,2285.7038629737608,99.351854967297854,-0.9142039248987065,{"$error":"#VALUE!"},null,2067.4672524565385,417.44967769061827,-0.27901610070704963,{"$error":"#VALUE!"}]
["Howden-WRV 255/2.20 2772.39365889213 m3/h",null,"Howden","WRV 255/2.20",2267.1252559867589,3190,3851.8707482993195,null,2772.3936588921283,120.50662256489741,-0.89593555909767053,{"$error":"#VALUE!"},null,2507.6884164777025,506.33630107721376,-0.12549861644695379,{"$error":"#VALUE!"}]
["Howden-WRVi 321/1.32 3328.61056851312 m3/h",null,"Howden","WRVi 321/1.32",2721.97170232893,3830,4624.6598639455779,null,3328.6105685131192,144.68349981929688,-0.87505742675362963,{"$error":"#VALUE!"},null,3010.7983182161756,607.92101351903727,4.9949936993155912E-2,{"$error":"#VALUE!"},null,{"$f":"19*L49","v":{"$error":"#VALUE!"}},{"$f":"+Q49*4","v":{"$error":"#VALUE!"}},{"$f":"S48+T48","v":{"$error":"#VALUE!"}}]
["Howden-WRVi 321/1.65 4162.93593294461 m3/h",null,"Howden","WRVi 321/1.65",3404.2413718421867,4790,5783.8435374149658,null,4162.9359329446061,180.94881570089609,-0.84374022823756811,{"$error":"#VALUE!"},null,3765.4631708238853,760.29808218177254,0.31312276715332044,{"$error":"#VALUE!"},null,{"$f":"19*J49","v":3438.0274983170257},{"$f":"4*O49","v":3041.1923287270902}]
["Howden-WRVi 321/1.93 4571.40772594752 m3/h",null,"Howden","WRVi 321/1.93",3738.2692308747182,5260,6351.3605442176868,null,4571.4077259475216,198.70370993459571,-0.828407849797413,{"$error":"#VALUE!"},null,4134.934504913077,834.89935538123655,0.4419677985859008,{"$error":"#VALUE!"}]
["Howden-WRV 321/2.20 5549.13276239067 m3/h",null,"Howden","WRV 321/2.20",4537.8039998355662,6385,7709.7789115646256,null,{"$f":"F51*$I$18/$F$18*$B$13","v":5549.13276239067},{"$f":"I51*$B$10*1000/3600","v":241.20212698334478},{"$f":"(J51-$B$6)/$B$6","v":-0.79170800778640349},{"$f":"J51*8.314*$B$9/4*LN($B$11/$B$8)/$B$14/1000","v":{"$error":"#VALUE!"}},null,{"$f":"F51*$N$18/$F$18*$C$13","v":5019.3073790627368},{"$f":"N51*$C$10*1000/3600","v":1013.4662327203794},{"$f":"(O51-$C$6)/$C$6","v":0.75037345892984342},{"$f":"O51*8.314*$C$9/4*LN($C$11/$C$8)/$C$14/1000","v":{"$error":"#VALUE!"}}]
["Howden-WRVi 365/165 5884.60108600583 m3/h",null,"Howden","WRVi 365/165",4812.1332627856882,6771,8175.867346938775,null,5884.6010860058313,255.78380607740448,-0.77911588421640365,{"$error":"#VALUE!"},null,5322.7455385487538,1074.7345124118542,0.85619086772340969,{"$error":"#VALUE!"}]
["Howden-WRVi 365/193 6883.18425655977 m3/h",null,"Howden","WRVi 365/193",5628.7247734843677,7920,9563.2653061224482,null,6883.1842565597663,299.18885602319352,-0.74163311224249273,{"$error":"#VALUE!"},null,6225.9850340136063,1257.1108164675652,1.1711758488213562,{"$error":"#VALUE!"}]
["Howden-WRV 510/1.32** 6657.22113702624 m3/h",null,"Howden","WRV 510/1.32**",5443.9434046578599,7660,9249.3197278911557,null,6657.2211370262385,289.36699963859377,-0.75011485350725926,{"$error":"#VALUE!"},null,6021.5966364323513,1215.8420270380745,1.0998998739863117,{"$error":"#VALUE!"},"*Swept volume at 3000 rpm except WRV510 range which is measured at 1500rpm **Swept volume at 3600 rpm except WRV510 which is measured at 1800 rpm."]
["Howden-WRV 510/1.65** 8321.5264212828 m3/h",null,"Howden","WRV 510/1.65**",6804.929255822326,9575,11561.649659863944,null,8321.5264212827988,361.70874954824217,-0.68764356688407413,{"$error":"#VALUE!"},null,7526.9957955404388,1519.802533797593,1.6248748424828894,{"$error":"#VALUE!"},"*Swept volume at 3000 rpm except WRV510 range which is measured at 1500rpm **Swept volume at 3600 rpm except WRV510 which is measured at 1800 rpm."]
["Howden-WRV 510/1.93** 9134.12456268221 m3/h",null,"Howden","WRV 510/1.93**",7469.4314860253407,10510,12690.646258503401,null,9134.1245626822147,397.02965616209133,-0.65714192041270181,{"$error":"#VALUE!"},null,8262.0079176114905,1668.2114496305696,1.8811942135242998,{"$error":"#VALUE!"},"*Swept volume at 3000 rpm except WRV510 range which is measured at 1500rpm **Swept volume at 3600 rpm except WRV510 which is measured at 1800 rpm."]
["Howden-XRV 127-R1 254.64305393586 m3/h",null,"Howden","XRV 127-R1",208.23438871602522,293,353.79251700680271,null,254.64305393586005,11.068476618029761,-0.99044173003624369,{"$error":"#VALUE!"},null,230.33000188964476,46.506751164772304,-0.91967745912819987,{"$error":"#VALUE!"}]
["Howden-XRV 127-R3 345.028301749271 m3/h",null,"Howden","XRV 127-R3",282.146936246628,397,479.3707482993197,null,345.02830174927112,14.997219171869675,-0.98704903353033713,{"$error":"#VALUE!"},null,312.08536092214666,63.014266936568617,-0.89116706919418187,{"$error":"#VALUE!"}]
["Howden-XRV 127-R4 424.984482507289 m3/h",null,"Howden","XRV 127-R4",347.53111290831515,489,590.45918367346928,null,424.98448250728865,18.472645277189606,-0.98404780200588104,{"$error":"#VALUE!"},null,384.4074092970522,77.61706935008074,-0.86594633963716627,{"$error":"#VALUE!"}]
["Howden-XRV 127-R5 500.595218658892 m3/h",null,"Howden","XRV 127-R5",409.36180170795399,576,695.51020408163254,null,500.59521865889212,21.759189528959528,-0.98120968089036309,{"$error":"#VALUE!"},null,452.79891156462588,91.426241197641119,-0.84209630190390139,{"$error":"#VALUE!"}]
["Howden-XRV 163/1.65 515.3697303207 m3/h",null,"Howden","XRV 163/1.65",421.4436604389179,593,716.03741496598639,null,515.36973032069966,22.401387831029517,-0.98065510549997448,{"$error":"#VALUE!"},null,466.16276832955407,94.124585121877047,-0.8374359497031485,{"$error":"#VALUE!"}]
["Howden-XRV 163/1.93 617.053134110787 m3/h",null,"Howden","XRV 163/1.93",504.59527641084611,710,857.31292517006796,null,617.05313411078714,26.821223204099422,-0.97683832193082953,{"$error":"#VALUE!"},null,558.13754724111868,112.69554036514788,-0.80536176102737855,{"$error":"#VALUE!"}]
["Howden-XRV 204/1.10 705.700204081633 m3/h",null,"Howden","XRV 204/1.10",577.08642879662955,812,980.47619047619037,null,705.70020408163271,30.674413016519342,-0.97351086958849797,{"$error":"#VALUE!"},null,638.32068783068792,128.8856039105635,-0.77739964782286086,{"$error":"#VALUE!"}]
["Howden-XRV 204/1.45 929.925145772595 m3/h",null,"Howden","XRV 204/1.45",760.44640247831728,1070,1292.0068027210884,null,929.92514577259476,40.420716659699131,-0.96509437248730645,{"$error":"#VALUE!"},null,841.13686696900993,169.83694111367359,-0.70667194971731684,{"$error":"#VALUE!"}]
["Howden-XRV 204/1.65 1059.41939504373 m3/h",null,"Howden","XRV 204/1.65",866.34034076735418,1219,1471.9217687074829,null,1059.4193950437318,46.049395895489006,-0.96023368230095951,{"$error":"#VALUE!"},null,958.26714096749822,193.48713197903561,-0.66582533336954131,{"$error":"#VALUE!"}]
["Howden-XRV 204/1.93 1171.53186588921 m3/h",null,"Howden","XRV 204/1.93",958.02032760819804,1348,1627.6870748299318,null,1171.5318658892129,50.922547717078906,-0.95602543375036364,{"$error":"#VALUE!"},null,1059.6752305366592,213.96280058059065,-0.63046148431676918,{"$error":"#VALUE!"}]
[null,2940,"GEA GRASSO","LT-P",572.11154578976209,805,{"$f":"F67*$G$18/$F$18","v":972.02380952380952},null,699.61658163265304,30.409978421549344,-0.97373922416101089,{"$error":"#VALUE!"},null,632.81792328042332,127.77452111823106,-0.77931861637611211,{"$error":"#VALUE!"},"API 619 standard and ISO 10440, respectively"]
[null,null,"GEA GRASSO","LT-R",739.12547530602808,1040,{"$f":"F68*$G$18/$F$18","v":1255.7823129251701},null,903.85247813411081,39.287425538399148,-0.96607303494093333,{"$error":"#VALUE!"},null,817.55359032501906,165.07515771796312,-0.7148961006598219,{"$error":"#VALUE!"},"API 619 standard and ISO 10440, respectively"]
[null,null,"GEA GRASSO","LT-S",916.79986840843867,1290,1557.6530612244899,null,1121.1247084548104,48.731518215898944,-0.95791751449404239,{"$error":"#VALUE!"},null,1014.08089569161,204.75668601555037,-0.64636150947227911,{"$error":"#VALUE!"},"API 619 standard and ISO 10440, respectively"]
[null,null,"GEA GRASSO","LT-T",1037.6184557180779,1460,1762.9251700680272,null,1268.8698250728862,55.153501236598807,-0.95237176059015638,{"$error":"#VALUE!"},null,1147.7194633408919,231.74012525790977,-0.59975798746474995,{"$error":"#VALUE!"},"API 619 standard and ISO 10440, respectively"]
[null,null,"GEA GRASSO","LT-V",1236.6137759927776,1740,2101.0204081632655,null,1512.21472303207,65.730885035398586,-0.94323757768963845,{"$error":"#VALUE!"},null,1367.8300453514739,276.18343695120751,-0.5229992453347021,{"$error":"#VALUE!"},"API 619 standard and ISO 10440, respectively"]
[null,null,"GEA GRASSO","LT-W",1414.2881690951883,1990,2402.8911564625851,null,1729.4869533527697,75.174977712898382,-0.9350820572427474,{"$error":"#VALUE!"},null,1564.3573507180652,315.86496524879482,-0.4544646541471592,{"$error":"#VALUE!"},"API 619 standard and ISO 10440, respectively"]
[null,null,"GEA GRASSO","LT-Y",1698.5671980590453,2390,2885.8843537414964,null,2077.1225218658892,90.285525996898059,-0.92203322452772185,{"$error":"#VALUE!"},null,1878.8010393046111,379.35541052493454,-0.34480930824709061,{"$error":"#VALUE!"},"API 619 standard and ISO 10440, respectively"]
[null,null,"GEA GRASSO","LT-Z",1952.9969289816972,2748,3318.1632653061224,null,2388.2563556851314,103.80946671107777,-0.910354519247774,{"$error":"#VALUE!"},null,2160.2281405895696,436.17935904707946,-0.24666777366652942,{"$error":"#VALUE!"},"API 619 standard and ISO 10440, respectively"]
[null,null,"GEA GRASSO","LT-XA",2309.7671103313378,3250,3924.3197278911566,null,2824.538994169096,122.77320480749735,-0.89397823419041667,{"$error":"#VALUE!"},null,2554.854969765684,515.85986786863464,-0.10905031456194363,{"$error":"#VALUE!"},"API 619 standard and ISO 10440, respectively"]
[null,null,"GEA GRASSO","LT-XB",2949.3949255000152,4150,5011.0544217687075,null,3606.7190233236147,156.77193844649659,-0.86461836058160912,{"$error":"#VALUE!"},null,3262.3532690854122,658.71336973994892,0.13767421371321056,{"$error":"#VALUE!"},"API 619 standard and ISO 10440, respectively"]
[null,null,"GEA GRASSO","LT-XC",3482.4181048072473,4900,5916.666666666667,null,4258.5357142857147,185.10421647899602,-0.84015179924093608,{"$error":"#VALUE!"},null,3851.9351851851857,777.75795463271095,0.3432779872758393,{"$error":"#VALUE!"},"API 619 standard and ISO 10440, respectively"]
[null,null,"GEA GRASSO","LT-XD",4122.0459199759252,5800,7003.4013605442178,null,5040.7157434402334,219.10295011799531,-0.81079192563212843,{"$error":"#VALUE!"},null,4559.4334845049134,920.61145650402511,0.59000251555099326,{"$error":"#VALUE!"},"API 619 standard and ISO 10440, respectively"]
[null,null,"GEA GRASSO","LT-XE",5053.0597398325572,7110,8585.2040816326535,null,6179.2222303207,268.58999574809422,-0.76805699849041953,{"$error":"#VALUE!"},null,5589.2365646258513,1128.5426647833826,0.94912377337371789,{"$error":"#VALUE!"},"API 619 standard and ISO 10440, respectively"]
[null,null,"GEA GRASSO","LT-XF",6083.5712198265383,8560,10336.054421768707,null,7439.4011661807581,323.36573327759305,-0.7207549798984515,{"$error":"#VALUE!"},null,6729.0949357520794,1358.6955289093887,1.3466244022614657,{"$error":"#VALUE!"},"API 619 standard and ISO 10440, respectively"]
[null,2950,"Frick","SGC1913",592.72177538964172,834,1007.0408163265306,null,724.82016034985418,31.505493172139317,-0.97279318378917157,{"$error":"#VALUE!"},null,655.6150907029479,132.37757840075119,-0.77136860379835714,{"$error":"#VALUE!"}]
[null,null,"Frick","SGC.1918",790.29570051952226,1112,1342.7210884353742,null,966.42688046647231,42.007324229519099,-0.96372424505222876,{"$error":"#VALUE!"},null,874.15345427059719,176.50343786766823,-0.6951581383978096,{"$error":"#VALUE!"}]
[null,null,"Frick","SGC.2313",1043.304036297355,1468,1772.5850340136055,null,{"$f":"F83*$I$18/$F$18*$B$13","v":1275.8225364431487},{"$f":"I83*$B$10*1000/3600","v":55.455712202278811},{"$f":"(J83-$B$6)/$B$6","v":-0.95211078393585591},{"$f":"J83*8.314*$B$9/4*LN($B$11/$B$8)/$B$14/1000","v":{"$error":"#VALUE!"}},null,{"$f":"F83*$N$18/$F$18*$C$13","v":1154.0083371126229},{"$f":"N83*$C$10*1000/3600","v":233.00993416343252},{"$f":"(O83-$C$6)/$C$6","v":-0.59756488054674872},{"$f":"O83*8.314*$C$9/4*LN($C$11/$C$8)/$C$14/1000","v":{"$error":"#VALUE!"}}]
[null,null,"Frick","SGC.2317",1313.3691138130191,1848,2231.4285714285716,null,1606.0763265306121,69.810733072078492,-0.93971439285658165,{"$error":"#VALUE!"},null,1452.7298412698412,293.32585717576524,-0.49339230194168354,{"$error":"#VALUE!"}]
[null,null,"Frick","SGC.2321",1622.5225578112136,2283,2756.6836734693879,null,1984.1300072886297,86.243454330928145,-0.92552378727899121,{"$error":"#VALUE!"},null,1794.68735260771,362.37171641356713,-0.37414211327535901,{"$error":"#VALUE!"}]
[null,null,"Frick","SGC.2813",1869.1346154373591,2630,3175.6802721088434,null,2285.7038629737608,99.351854967297854,-0.9142039248987065,{"$error":"#VALUE!"},null,2067.4672524565385,417.44967769061827,-0.27901610070704963,{"$error":"#VALUE!"}]
[null,null,"Frick","SGC.2817",2353.8303598207353,3312,3999.1836734693879,null,2878.4225072886297,125.1153397915173,-0.89195566511958779,{"$error":"#VALUE!"},null,2603.5937414965988,525.70088688643636,-9.205373594743288E-2,{"$error":"#VALUE!"}]
[null,null,"Frick","SGC.2821",2832.1298260524245,3985,4811.8197278911566,null,3463.3193513119531,150.53883727934675,-0.87000100407655712,{"$error":"#VALUE!"},null,3132.6452475434621,632.52356106354148,9.2441383529432611E-2,{"$error":"#VALUE!"}]
[null,null,"Frick","SGC.2824",3198.8497734158004,4501,5434.8809523809523,null,3911.7692346938775,170.03144456570632,-0.85316800987417418,{"$error":"#VALUE!"},null,3538.2776058201061,714.42623546976154,0.23389677974052078,{"$error":"#VALUE!"}]
[null,null,"Frick","SGCH/B.3511",2928.0739983277267,4120,4974.8299319727894,null,3580.6463556851313,155.63864732519664,-0.86559702303523611,{"$error":"#VALUE!"},null,3238.7699924414214,653.95158634423842,0.12945006277070539,{"$error":"#VALUE!"}]
[null,null,"Frick","SGCH/B.3515",3992.6989617973704,5618,6783.6394557823132,null,4882.5415597667634,212.22765064877541,-0.81672914451746514,{"$error":"#VALUE!"},null,4416.3616061980347,891.72330390338152,0.54010933316646204,{"$error":"#VALUE!"}]
[null,null,"Frick","SGCH/B.3519",5081.4876427289437,7150,8633.5034013605436,null,6213.9857871720114,270.10105057649417,-0.76675211521891695,{"$error":"#VALUE!"},null,5620.6809334845057,1134.8917093109965,0.96008930796372449,{"$error":"#VALUE!"}]
[null,null,"Frick","SGCB.3524",6419.7311715762999,9033,10907.193877551021,null,7850.4802259475218,341.23395662342261,-0.70532473521293382,{"$error":"#VALUE!"},null,7100.9245975056701,1433.7729804484238,1.4762918487882968,{"$error":"#VALUE!"},null,null,null,{"$f":"O93*3.6","v":5161.5827296143261}]
[null,null,"Aerzen","VMY236H (DP<20 b)",496.77760311434002,699,844.03061224489795,null,607.49315597667635,26.405683126289428,-0.97719716483049268,{"$error":"#VALUE!"},null,549.49034580498869,110.94955312005406,-0.8083772830396303,{"$error":"#VALUE!"},"Attention , Delta P max spécifié !",null,null,{"$f":"O94*3.6","v":399.41839123219461}]
[null,null,"Aerzen","VMY236M (DP<16 b)",653.84176661687104,920,1110.8843537414966,null,799.5618075801749,34.754261053199251,-0.96998768475544095,{"$error":"#VALUE!"},null,723.22048374905523,146.02802413512123,-0.74779270442984247,{"$error":"#VALUE!"},"Attention , Delta P max spécifié !",null,null,525.70088688643648]
[null,null,"Aerzen","VMY236B (DP<8 b)",867.76173591217321,1221,1474.3367346938776,null,1061.1575728862974,46.124948636909004,-0.96016843813738428,{"$error":"#VALUE!"},null,959.83935941043092,193.80458420541632,-0.665277056640041,{"$error":"#VALUE!"},"Attention , Delta P max spécifié !",null,null,697.69650313949876]
[null,null,"Aerzen","VMY336H (DP<20 b)",981.47334749771608,1381,1667.5340136054422,null,1200.2118002915452,52.169167950508871,-0.95494890505137409,{"$error":"#VALUE!"},null,1085.6168348450492,219.20076231587217,-0.6214149182800135,{"$error":"#VALUE!"},"Attention , Delta P max spécifié !",null,null,789.12274433713981]
[null,null,"Aerzen","VMY336M (DP<16 b)",1285.6519084890431,1809,2184.3367346938776,null,1572.1818586005832,68.337454614388534,-0.94098665404629667,{"$error":"#VALUE!"},null,1422.0715816326533,287.13553876134165,-0.50408369816694021,{"$error":"#VALUE!"},"Attention , Delta P max spécifié !",null,null,1033.68793954083]
[null,null,"Aerzen","VMY336B (DP<8 b)",1713.4918470796476,2411,2911.2414965986395,null,2095.373389212828,91.078829781808039,-0.921348160810183,{"$error":"#VALUE!"},null,1895.3093329554047,382.68865890193183,-0.3390524025873371,{"$error":"#VALUE!"},"Attention , Delta P max spécifié !",null,null,1377.6791720469546]
[null,null,"Aerzen","VMY436H (DP<20 b)",1924.5690260853114,2708,3269.8639455782313,null,2353.4927988338195,102.2984118826778,-0.91165940251927657,{"$error":"#VALUE!"},null,2128.7837717309149,429.8303145194655,-0.25763330825653624,{"$error":"#VALUE!"},"Attention , Delta P max spécifié !",null,null,1547.3891322700758]
[null,null,"Aerzen","VMY436M (DP<16 b)",{"$f":"F101/1.699011*$E$18/$F$18","v":2528.6619626335073},3558,4296.2244897959181,null,3092.2183819241982,134.40832698617709,-0.88393063299984698,{"$error":"#VALUE!"},null,2796.9766099773246,564.74751073126231,-2.4615698218890657E-2,{"$error":"#VALUE!"},"Attention , Delta P max spécifié !",null,null,2033.0910386325443,null,null,null,"DATA AERZEN"]
[null,null,"Aerzen","VMY436B (DP<8 b)",3363.7316102148375,4733,5715.017006802721,null,4113.3978644314866,178.79556257042614,-0.8455996868994593,{"$error":"#VALUE!"},null,3720.6549452003023,751.25069372992243,0.29749688036256033,{"$error":"#VALUE!"},"Attention , Delta P max spécifié !",null,null,2704.5024974277208,null,null,null,298,"kg/h",{"$f":"Y102/3.6","v":82.777777777777771},{"$f":"AA102*2","v":165.55555555555554}]
[null,null,"Aerzen","VMY536H (DP<20 b)",4050.2654651625521,5699,6881.4455782312925,null,4952.9377623906703,215.28753667628536,-0.81408675589267243,{"$error":"#VALUE!"},null,4480.0364531368105,904.5801190717998,0.56231454071122589,{"$error":"#VALUE!"},"Attention , Delta P max spécifié !",null,null,3256.4884286584793,null,null,null,614,"kg/h",{"$f":"Y103/3.6","v":170.55555555555554},341.11111111111109]
[null,null,"Aerzen","VMY536M (DP<16 b)",5301.0931926035228,7459,9006.6156462585041,null,6482.5342638483962,281.77394912588392,-0.75667189194655959,{"$error":"#VALUE!"},null,5863.5886829176115,1183.9380782868141,1.044798062671527,{"$error":"#VALUE!"},"Attention , Delta P max spécifié !",null,null,4262.1770818325303,null,null,"436H",1303,"kg/h",361.94444444444446,723.88888888888891]
[null,null,"Aerzen","VMY536B (DP<8 b)",7062.2017770346165,9937,11998.758503401361,null,8636.1366107871727,375.38379574526192,-0.67583437327697582,{"$error":"#VALUE!"},null,7811.5673337112639,1577.2613867724997,1.7241129305224521,{"$error":"#VALUE!"},"Attention , Delta P max spécifié !",null,null,5678.1409923809988,null,null,"536H",2742,"kg/h",761.66666666666663,{"$f":"AA105*2","v":1523.3333333333333}]
[null,1637,"Kobelco","KS50LVS",null,10360]
[]
[null,null,null,null,null,null,null,null,null,null,null,null,null,null,null,null,null,null,null,null,{"$f":"1180*3.6","v":4248}]
[]
[null,null,null,null,null,null,null,null,null,null,null,null,null,null,{"$f":"300*3.6","v":1080}]

{"sheet":"Howden","index":2,"n_rows":180,"n_cols":27,"rows_kept":180,"cut":false,"hidden":false,"merged":[]}
[]
[]
[]
[]
[]
[]
[null,null,null,"FRIB"]
[null,null,null,null,null,null,null,null,null,null,null,1.0668799999999989]
[]
[null,"From LCLSII",null,null,null,"Displ @ 3600rpm","Rotation","Tin","Pin","Pout","Rho_in","gamma","Pr","Vi","Vi\nideal","Abs(Vi-Vi_ideal)","Vol_%","Iso_%","Nm3/h","A_m3/h","kg/h","g/s"]
[null,{"$f":"-0.0017159531619*M11^5 + 0.046038451003*M11^4 - 0.48381286272*M11^3 + 2.4923280657*M11^2 - 6.3235716851*M11 + 7.4591200978","v":1.1685482532612994},1,"321/220 22","CASE A",7662,3550,{"$f":"34.85+273","v":307.85000000000002},1.0129999999999999,{"$f":"3*1.013","v":3.0389999999999997},{"$f":"1.27581621531631*I11*273.15/(H11)*4/28.958600656","v":0.15839520461989323},{"$f":"B11","v":1.1685482532612994},{"$f":"J11/I11","v":3},2.2000000000000002,{"$f":"M11^1/(L11)","v":2.5672880787141694},{"$f":"ABS(N11-O11)","v":0.36728807871416924},{"$f":"T11/(C11*G11/3600*F11)","v":0.90243041950991532},{"$f":"(V11*8.314*H11/4*LN(J11/I11)/1000)/X11","v":0.50331615600621027},{"$f":"V11*3600/1000/0.17625","v":6127.6595744680853},{"$f":"V11/K11*3.6","v":6818.388237142125},1080,{"$f":"U11/3.6","v":300},{"$f":"V11*8.314*H11/4*LN(J11/I11)/1000","v":210.8894693666021},{"$f":"Y11*C11","v":419},419,"each",{"$f":"J11-I11","v":2.0259999999999998}]
[null,{"$f":"-0.0017159531619*M12^5 + 0.046038451003*M12^4 - 0.48381286272*M12^3 + 2.4923280657*M12^2 - 6.3235716851*M12 + 7.4591200978","v":1.1432533556696267},1,"321/220 22","CASE D",7662,3550,{"$f":"34.85+273","v":307.85000000000002},{"$f":"1.5*1.013","v":1.5194999999999999},{"$f":"4.8*1.013","v":4.8623999999999992},0.23759280692983989,1.4539185634432952,3.1999999999999997,2.2000000000000002,{"$f":"M12^1/(L12)","v":2.2009485816189622},{"$f":"ABS(N12-O12)","v":9.4858161896205218E-4},0.90187336369540294,0.58495399135861159,9185.8156028368794,6814.1793555142585,1619,449.72222222222223,334.7106738553976,572.20000000000005,572.20000000000005,"each",3.3428999999999993]
[null,1.1064997893259516,1,"321/220 28","CASE C",7662,3550,307.85000000000002,{"$f":"1.5*1.013","v":1.5194999999999999},6.1,0.23759280692983989,{"$f":"$L$8","v":1.0668799999999989},4.0144784468575194,2.8,{"$f":"M13^1/(L13)","v":3.7628209797329815},0.96282097973298164,0.59772088897169073,0.38612839992567966,6087.9432624113479,4516.1299866996906,1073,298.05555555555554,265.0771465489791,686.5,686.5,"each",4.5804999999999998]
[null,1.0901907755292193,1,"321/220 26","CASE B",7662,3550,307.85000000000002,1.0129999999999999,{"$f":"4.8*1.013","v":4.8623999999999992},0.15839520461989323,1.0668799999999989,4.8,2.6,{"$f":"M14^1/(L14)","v":4.4991001799640111},1.899100179964011,0.8673359031956408,0.51494914541988879,5889.3617021276586,6553.2286945865972,1038,288.33333333333331,289.40141972597752,562,562,"each",3.8493999999999993]
[null,1.0929933137074777,1,"321/220 26","CASE E",7662,3550,307.85000000000002,1.3,6.1,0.20327123988732601,1.0668799999999989,4.6923076923076916,2.6,{"$f":"M15^1/(L15)","v":4.3981588297725107},1.7981588297725106,0.86597968653953961,0.51675460661190642,7546.0992907801419,6542.9816866233705,1330,369.44444444444446,365.44885779594023,707.2,707.2,"each",4.8]
[null,1.1342548964617443,1,"321/193 22","CASE A",6312,3550,307.85000000000002,1,3.3,0.15636249222102,1.0668799999999989,3.3,2.2000000000000002,{"$f":"M16^1/(L16)","v":3.0931313737252579},0.89313137372525775,0.90726733964825157,0.50101636608093736,5009.9290780141846,5647.134344417268,883,245.27777777777777,187.38012091427058,374,374,"each",2.2999999999999998]
[null,1.0901907755292193,1,"321/193 26","CASE B",6312,3550,307.85000000000002,1,4.8,0.15636249222102,1.0668799999999989,4.8,2.6,{"$f":"M17^1/(L17)","v":4.4991001799640111},1.899100179964011,0.89391006284708829,0.4990985258957959,4936.1702127659573,5563.9942011812273,870,241.66666666666666,242.56188358535681,486,486,"each",3.8]
[null,1.176320247958623,1,"321/193 34","CASE C",6312,3550,307.85000000000002,1.05,3.1,0.164180616832071,1.0668799999999989,2.9523809523809526,3.4,{"$f":"M18^1/(L18)","v":2.7673036821207218},0.63269631787927816,0.87580679392243466,0.29155169186557872,5078.0141843971633,5451.313420971208,895,248.61111111111111,172.21958438499738,590.70000000000005,590.70000000000005,"each",2.0499999999999998]
[null,1.1432533556696267,1,"321/193 22","CASE D",6312,3550,307.85000000000002,1.5,4.8,0.23454373833152997,1.4539185634432952,3.1999999999999997,2.2000000000000002,{"$f":"M19^1/(L19)","v":2.2009485816189622},9.4858161896205218E-4,0.9069248453712988,0.54646162193357273,7512.056737588653,5645.002545872755,1324,367.77777777777777,273.72262642652657,500.9,500.9,"each",3.3]
[null,1.0929933137074777,1,"321/193 26","CASE E",6312,3550,307.85000000000002,1.3,6.1,0.20327123988732601,1.0668799999999989,4.6923076923076916,2.6,{"$f":"M20^1/(L20)","v":4.3981588297725107},1.7981588297725106,0.88363523453850112,0.5014640212380379,6343.2624113475185,5500.0402448458108,1118,310.55555555555554,307.19685941042201,612.6,612.6,"each",4.8]
[null,1,1,"321/193 50","CASE A",6312,3550,307.85000000000002,1.05,20,0.164180616832071,1.0668799999999989,19.047619047619047,5,{"$f":"M21^1/(L21)","v":17.853572142714331},12.853572142714331,0.77599417606758725,0.3378062055412262,4499.2907801418442,4830.0464165700196,793,220.27777777777777,415.3665103334917,1229.5999999999999,1229.5999999999999,"each",18.95]
[null,1,1,"321/193 50","CASE B",6312,3550,307.85000000000002,1.3,20,0.20327123988732601,1.0668799999999989,15.384615384615383,5,{"$f":"M22^1/(L22)","v":14.420192884500036},9.420192884500036,0.77930620863592304,0.36539198477345652,5594.3262411347514,4850.6616112861975,986,273.88888888888886,479.02889203800152,1311,1311,"each",18.7]
[null,1.0124992083088067,1,"321/193 34","CASE C",6312,3550,307.85000000000002,2.5,20,0.39090623055254997,1.0668799999999989,8,3.4,{"$f":"M23^1/(L23)","v":7.4985002999400194},4.0985002999400191,0.78746284157012469,0.43848665434770434,10870.921985815603,4901.4312135463133,1916,532.22222222222217,708.15594677154252,1615,1615,"each",17.5]
[null,1.063388522565436,1,"321/193 32","CASE D",6312,3550,307.85000000000002,3,20,0.46908747666305994,1.0668799999999989,6.666666666666667,3.2,{"$f":"M24^1/(L24)","v":6.2487502499500165},3.0487502499500163,0.79355923969988651,0.46028128938785201,13146.099290780143,4939.3772276386608,2317,643.61111111111109,781.28146060694007,1697.4,1697.4,"each",17]
[null,1.1362399392454599,1,"321/193 22","CASE E",6312,3550,307.85000000000002,5.8,19,0.9069024548819159,1.0668799999999989,3.2758620689655173,3.2,{"$f":"M25^1/(L25)","v":3.070506588337508},0.12949341166249217,0.81844322044263729,0.52935017593365186,26212.765957446809,5094.2634184417893,4620,1283.3333333333333,974.37486884107307,1840.7,1840.7,"each",13.2]
[null,1.1685482532612976,1,"321/165 22","CASE A",5748,3550,307.85000000000002,1.1000000000000001,3.3,0.17199874144312202,1.0668799999999989,2.9999999999999996,2.2000000000000002,2.8119376124775068,0.61193761247750666,0.88828026035574403,0.50919033889691123,4913.4751773049647,5034.920562406417,866,240.55555555555554,169.10211154766424,332.1,332.1,"each",2.1999999999999997]
[null,1.3409391114496447,1,"321/165 22","CASE B",5748,3550,307.85000000000002,2,4.8,0.31272498444204,1.0668799999999989,2.4,2.2000000000000002,{"$f":"M27^1/(L27)","v":2.2495500899820056},4.9550089982005385E-2,0.89135744370570646,0.55876827285374198,8964.5390070921985,5052.3625504978954,1580,438.88888888888886,245.85804005564646,440,440,"each",2.8]
[null,1.3445661770252055,1,"321/165 22","CASE C",5748,3550,307.85000000000002,2.5499999999999998,6.1,0.398724355163601,1.0668799999999989,2.392156862745098,2.2000000000000002,{"$f":"M28^1/(L28)","v":2.2421986190997116},4.2198619099711454E-2,0.88140185051465259,0.5572156383590926,11302.127659574469,4995.9325890254704,1992,553.33333333333337,308.80890677860913,554.20000000000005,554.20000000000005,"each",3.55]
[null,1.4873092417498519,1,"321/165 22","CASE D",5748,3550,307.85000000000002,2.85,6.1,0.44563310282990704,1.0668799999999989,2.1403508771929824,2.2000000000000002,{"$f":"M29^1/(L29)","v":2.0061777118260578},0.19382228817394243,0.88244980769265802,0.54845174921634177,12646.808510638299,5001.8725849699349,2229,619.16666666666663,301.4839265442231,549.70000000000005,549.70000000000005,"each",3.2499999999999996]
[null,1.6747967277372231,1,"321/165 22","CASE E",5748,3550,307.85000000000002,3.2,6.1,0.50035997510726393,1.0668799999999989,1.9062499999999998,2.2000000000000002,{"$f":"M30^1/(L30)","v":1.7867520245950825},0.41324797540491764,0.8836003773443436,0.52803390901142777,14218.439716312057,5008.3942055172975,2506,696.11111111111109,287.35605328401903,544.20000000000005,544.20000000000005,"each",2.8999999999999995]
[null,null,null,null,null,null,null,null,null,null,null,null,null,null,null,{"$f":"P12+P19+P27+P28+P29+P30+P25","v":0.83020954756099319}]
[]
[]
[]
[]
[]
[null,1.1342548964617443,1,"321/193 22","CASE A",6312,3550,{"$f":"34.85+273","v":307.85000000000002},1,3.3,{"$f":"1.27581621531631*I37*273.15/(H37)*4/28.958600656","v":0.15636249222102},1.667,{"$f":"J37/I37","v":3.3},2.2000000000000002,{"$f":"M37^1/(L37)","v":1.9796040791841629},{"$f":"N37-O37","v":0.22039592081583725},{"$f":"T37/(C37*G37/3600*F37)","v":0.90726733964825157},{"$f":"(V37*8.314*H37/4*LN(J37/I37)/1000)/X37","v":0.50101636608093736},{"$f":"V37*3600/1000/0.17625","v":5009.9290780141846},{"$f":"V37/K37*3.6","v":5647.134344417268},883,{"$f":"U37/3.6","v":245.27777777777777},{"$f":"V37*8.314*H37/4*LN(J37/I37)/1000","v":187.38012091427058},{"$f":"Y37*C37","v":374},374,"each",{"$f":"J37-I37","v":2.2999999999999998}]
[null,1.1685482532612994,1,"321/220 22","CASE A",7662,3550,307.85000000000002,1.0129999999999999,{"$f":"3*1.013","v":3.0389999999999997},0.15839520461989323,1.667,3,2.2000000000000002,1.7996400719856029,0.40035992801439724,0.90243041950991532,0.50331615600621027,6127.6595744680853,6818.388237142125,1080,300,210.8894693666021,419,419,"each",2.0259999999999998]
[null,1.1685482532612976,1,"321/165 22","CASE A",5748,3550,307.85000000000002,1.1000000000000001,3.3,0.17199874144312202,1.667,2.9999999999999996,2.2000000000000002,1.7996400719856025,0.40035992801439768,0.88828026035574403,0.50919033889691123,4913.4751773049647,5034.920562406417,866,240.55555555555554,169.10211154766424,332.1,332.1,"each",2.1999999999999997]
[null,1.1432533556696267,1,"321/193 22","CASE D",6312,3550,307.85000000000002,1.5,4.8,0.23454373833152997,1.667,3.1999999999999997,2.2000000000000002,1.9196160767846429,0.28038392321535732,0.9069248453712988,0.54646162193357273,7512.056737588653,5645.002545872755,1324,367.77777777777777,273.72262642652657,500.9,500.9,"each",3.3]
[null,1.1432533556696267,1,"321/220 22","CASE D",7662,3550,307.85000000000002,{"$f":"1.5*1.013","v":1.5194999999999999},{"$f":"4.8*1.013","v":4.8623999999999992},0.23759280692983989,1.667,3.1999999999999997,2.2000000000000002,1.9196160767846429,0.28038392321535732,0.90187336369540294,0.58495399135861159,9185.8156028368794,6814.1793555142585,1619,449.72222222222223,334.7106738553976,572.20000000000005,572.20000000000005,"each",3.3428999999999993]
[null,1.3409391114496447,1,"321/165 22","CASE B",5748,3550,307.85000000000002,2,4.8,0.31272498444204,1.667,2.4,2.2000000000000002,1.4397120575884823,0.76028794241151787,0.89135744370570646,0.55876827285374198,8964.5390070921985,5052.3625504978954,1580,438.88888888888886,245.85804005564646,440,440,"each",2.8]
[null,1.3445661770252055,1,"321/165 22","CASE C",5748,3550,307.85000000000002,2.5499999999999998,6.1,0.398724355163601,1.667,2.392156862745098,2.2000000000000002,1.435007116223814,0.76499288377618613,0.88140185051465259,0.5572156383590926,11302.127659574469,4995.9325890254704,1992,553.33333333333337,308.80890677860913,554.20000000000005,554.20000000000005,"each",3.55]
[null,1.4873092417498519,1,"321/165 22","CASE D",5748,3550,307.85000000000002,2.85,6.1,0.44563310282990704,1.667,2.1403508771929824,2.2000000000000002,1.2839537355686756,0.91604626443132453,0.88244980769265802,0.54845174921634177,12646.808510638299,5001.8725849699349,2229,619.16666666666663,301.4839265442231,549.70000000000005,549.70000000000005,"each",3.2499999999999996]
[null,1.6747967277372231,1,"321/165 22","CASE E",5748,3550,307.85000000000002,3.2,6.1,0.50035997510726393,1.667,1.9062499999999998,2.2000000000000002,1.1435212957408516,1.0564787042591486,0.8836003773443436,0.52803390901142777,14218.439716312057,5008.3942055172975,2506,696.11111111111109,287.35605328401903,544.20000000000005,544.20000000000005,"each",2.8999999999999995]
[]
[]
[]
[]
[]
[]
[]
[]
[]
[]
[]
[]
[]
[]
[]
[]
[]
[]
[]
[]
[]
[]
[]
[]
[]
[]
[]
[null,"HOWDEN COMPRESSOR SPECIFICATION","*SWEPT VOLUME\n50Hz","*SWEPT VOLUME\n60Hz",null,"SUCTION PORT\nØ","DISCHARGE PORT\nØ","A","B","C","D","WEIGHT APPROX."]
[null,null,"m3/hr ","m3/hr ",null,"mm","mm","mm","mm","mm","mm","kg",{"$f":"660/390","v":1.6923076923076923}]
[null,"WRV 163/1.45",550,{"$f":"C75*60/50","v":660},null,125,75,1063,490,248,250,470]
[null,"WRV 163/1.80",680,820,null,125,75,1120,490,248,250,495]
[null,"WRV 204/1.10",815,975,null,150,100,1201,640,310,315,760]
[null,"WRV 204/1.45",1095,1315,null,200,125,1273,640,310,315,850]
[null,"WRV 204/1.65",1220,1464,null,200,125,1314,640,310,315,887]
[null,"WRV 204/1.93",1340,1608,null,200,125,1370,640,310,315,925]
[null,"WRVi 255/1.10",1590,1908,null,200,150,1493,692,349,362,1200]
[null,"WRVi 255/1.30",1755,2106,null,200,150,1544,692,349,362,1270]
[null,"WRVi 255/1.45",2150,2580,null,255,200,1583,692,349,362,1325]
[null,"WRVi 255/1.65",2395,2874,null,255,200,1633,692,349,362,1422]
[null,"WRVi 255/1.93",2630,3156,null,255,200,1705,692,349,362,1540]
[null,"WRV 255/2.20",3190,3828,null,255,200,1815,692,349,362,1650]
[null,"WRVi 321/1.32",3830,4596,null,255,200,2005,940,471,500,2925]
[null,"WRVi 321/1.65",4790,5748,null,300,255,2110,940,471,500,3150]
[null,"WRVi 321/1.93",5260,6312,null,300,255,2200,940,471,500,3260]
[null,"WRV 321/2.20",6385,7662,null,350,300,2345,940,471,500,3500]
[null,"WRVi 365/165",6771,8125.2,null,350,300,2418,1125,565,590,5500]
[null,"WRVi 365/193",7920,9504,null,350,300,2520,1125,565,590,6100]
[null,"WRV 510/1.32",7660,9192,null,350,255,2920,1560,750,750,10800]
[null,"WRV 510/1.65",9575,11490,null,400,300,3090,1560,750,750,11500]
[null,"WRV 510/1.93",10510,{"$f":"C95*60/50","v":12612},null,400,300,3233,1560,750,750,11800]
[]
[null,"XRV 127"]
[null,"XRV 127-R1",293,352,null,100,50,850,390,299,201,250]
[null,"XRV 127-R3",397,476,null,100,50,900,390,209,291,250]
[null,"XRV 127-R4",489,586,null,100,50,900,390,209,291,250]
[null,"XRV 127-R5",576,"-",null,100,50,900,390,209,291,250]
[null,"XRV 163 & XRV 204 Compressors"]
[null,"XRV 163/1.65",593,712,null,125,76,1070,430,200,250,364]
[null,"XRV 163/1.93",710,852,null,125,76,1116,430,200,250,388]
[null,"XRV 204/1.10",812,974,null,150,100,1178,516,240,305,636]
[null,"XRV 204/1.45",1070,1284,null,150,100,1249,516,240,305,660]
[null,"XRV 204/1.65",1219,1463,null,150,100,1255,516,240,305,690]
[null,"XRV 204/1.93",1348,1618,null,150,100,1312,516,240,305,736]
[]
[]
[null,"The company operates a policy of continuous product development and reserves the right to alter the data provided without notice."]
[null,"*Swept volume at 3000 rpm except WRV510 range which is measured at 1500rpm **Swept volume at 3600 rpm except WRV510 which is measured at 1800 rpm."]
[]
[null,"L/D : Lentgh over diameter is around 1,4 to 2,1"]
[]
[]
[]
[]
[]
[]
[]
[]
[]
[]
[]
[]
[]
[]
[]
[]
[]
[]
[]
[]
[]
[]
[]
[]
[]
[]
[]
[]
[]
[]
[]
[]
[]
[]
[]
[]
[]
[]
[]
[]
[]
[]
[]
[]
[null,null,null,null,null,null,null,null,null,null," WRV 255"," 6 L/D ratios"]
[null,null,"WLVi 321/220 22",null,null,1,"atm",null,null,null," WRV 321"," 4 L/D ratios"]
[null,null,null,null,null,3.3,"atm",null,null,null," WRV 365"," 2 L/D ratios"]
[null,null,null,null,null,null,null,null,null,null," WRV 510"," 3 L/D ratios"]
[]
[]
[]
[]
[]
[]
[]
[]
[]
[]
[]
[]
[]
[]
[]
[]
[null,null,null,"Volumetric eff.",{"$f":"extrapol_(E178,Vol_ratio,Vol_LPL_MP)/100","v":0.83999999999999986},{"$f":"extrapol_(F178,Vol_ratio,Vol_MP_HP)/100","v":0}]
[null,null,null,"Isotherm eff.",{"$f":"extrapol_(E178,IsoT_ratio,IsoT_LPL_MP)/100","v":{"$error":"#VALUE!"}},{"$f":"extrapol_(F178,IsoT_ratio,IsoT_MP_HP)/100","v":{"$error":"#VALUE!"}}]

{"sheet":"Aerzen","index":3,"n_rows":184,"n_cols":40,"rows_kept":184,"cut":false,"hidden":false,"merged":[]}
[]
[]
[null,null,"air molar mass",28.958600656000002]
[null,null,"air density",1.2758162153163073]
[null,null,"gamma",1]
[]
[null,null,null,{"$f":"D8/60","v":49.166666666666664},"Hz"]
[null,null,null,2950,"RPm"]
[]
[null,null,null,"Displacement @ 2950 RPM \nm3/h","Rotation","Tin","Pin","Pout",null,"Rho_in",null,"Pr","Vi_ideal",null,"Vol_%","Iso_%","Nm3/h","A_m3/h"]
[]
[null,1,"VMY236H (DP<20 b)",699,2950,298,1.05,4,null,{"$f":"1.27581621531631*G12*273.15/(F12)*4/28.958600656","v":0.1696073922542049},null,{"$f":"H12/G12","v":3.8095238095238093},{"$f":"L12^1/($D$5)","v":3.8095238095238093},null,{"$f":"IF(G12>3,extrapol_(L12,Vol_ratio,Vol_MP_HP)/100,extrapol_(L12,Vol_ratio,Vol_LPL_MP)/100)","v":0.87052380952380959},{"$f":"IF(G12>3,extrapol_(L12,IsoT_ratio,IsoT_MP_HP)/100,extrapol_(L12,IsoT_ratio,IsoT_LPL_MP)/100)","v":{"$error":"#VALUE!"}},{"$f":"T12*3600/1000/0.17625","v":585.56280276165751},{"$f":"E12/$D$8*O12*D12","v":608.4961428571429},null,{"$f":"R12*J12*1000/3600*B12","v":28.668178885206153},null,{"$f":"T12*8.314*F12/4*LN(H12/G12)/P12/1000","v":{"$error":"#VALUE!"}}]
[null,1,"VMY236M (DP<16 b)",920,2950,298,1.05,4,null,{"$f":"$D$4*G13*273.15/(F13)*4/$D$3","v":0.16960739225420454},null,{"$f":"H13/G13","v":3.8095238095238093},{"$f":"L13^1/($D$5)","v":3.8095238095238093},null,{"$f":"IF(G13>3,extrapol_(L13,Vol_ratio,Vol_MP_HP)/100,extrapol_(L13,Vol_ratio,Vol_LPL_MP)/100)","v":0.87052380952380959},{"$f":"IF(G13>3,extrapol_(L13,IsoT_ratio,IsoT_MP_HP)/100,extrapol_(L13,IsoT_ratio,IsoT_LPL_MP)/100)","v":{"$error":"#VALUE!"}},{"$f":"T13*3600/1000/0.17625","v":770.69782337728725},{"$f":"E13/$D$8*O13*D13","v":800.88190476190482},null,37.732080936179685,null,{"$error":"#VALUE!"}]
[null,1,"VMY236B (DP<8 b)",1221,2950,298,1.05,4,null,0.16960739225420454,null,3.8095238095238093,3.8095238095238093,null,{"$f":"IF(G14>3,extrapol_(L14,Vol_ratio,Vol_MP_HP)/100,extrapol_(L14,Vol_ratio,Vol_LPL_MP)/100)","v":0.87052380952380959},{"$f":"IF(G14>3,extrapol_(L14,IsoT_ratio,IsoT_MP_HP)/100,extrapol_(L14,IsoT_ratio,IsoT_LPL_MP)/100)","v":{"$error":"#VALUE!"}},1022.8500460257259,1062.9095714285716,null,50.077033503342825,null,{"$error":"#VALUE!"},null,null,null,1.05,1.05,1.05,null,{"$f":"Z24","v":2.5122676003848947},{"$f":"AD14","v":2.5122676003848947},{"$f":"AE14","v":2.5122676003848947},null,{"$f":"AA24","v":3.3820787601542572},{"$f":"AH14","v":3.3820787601542572},{"$f":"AI14","v":3.3820787601542572},null,{"$f":"AB21","v":5.7555817455016616},{"$f":"AL14","v":5.7555817455016616},{"$f":"AM14","v":5.7555817455016616}]
[null,1,"VMY336H (DP<20 b)",1381,2950,298,1.05,4,null,0.16960739225420454,null,3.8095238095238093,3.8095238095238093,null,{"$f":"IF(G15>3,extrapol_(L15,Vol_ratio,Vol_MP_HP)/100,extrapol_(L15,Vol_ratio,Vol_LPL_MP)/100)","v":0.87052380952380959},{"$f":"IF(G15>3,extrapol_(L15,IsoT_ratio,IsoT_MP_HP)/100,extrapol_(L15,IsoT_ratio,IsoT_LPL_MP)/100)","v":{"$error":"#VALUE!"}},1156.884450091341,1202.1933809523809,null,56.639134535721894,null,{"$error":"#VALUE!"},null,null,null,30,30,30,null,30,30,30,null,30,30,30,null,30,30,30]
[null,1,"VMY336M (DP<16 b)",1809,2950,298,1.05,4,null,0.16960739225420454,null,3.8095238095238093,3.8095238095238093,null,{"$f":"IF(G16>3,extrapol_(L16,Vol_ratio,Vol_MP_HP)/100,extrapol_(L16,Vol_ratio,Vol_LPL_MP)/100)","v":0.87052380952380959},{"$f":"IF(G16>3,extrapol_(L16,IsoT_ratio,IsoT_MP_HP)/100,extrapol_(L16,IsoT_ratio,IsoT_LPL_MP)/100)","v":{"$error":"#VALUE!"}},1515.4264809668616,1574.7775714285715,null,74.192754797335937,null,{"$error":"#VALUE!"},null,null,null,{"$f":"1.27581621531631*Z14*273.15/(273.15+Z15)*4/28.958600656","v":0.1667260527519481},{"$f":"1.27581621531631*AA14*273.15/(273.15+AA15)*4/28.958600656","v":0.1667260527519481},0.1667260527519481,null,{"$f":"1.27581621531631*AD14*273.15/(273.15+AD15)*4/28.958600656","v":0.3989147242559829},0.3989147242559829,0.3989147242559829,null,{"$f":"1.27581621531631*AH14*273.15/(273.15+AH15)*4/28.958600656","v":0.53702918264449706},0.53702918264449706,0.53702918264449706,null,{"$f":"1.27581621531631*AL14*273.15/(273.15+AL15)*4/28.958600656","v":0.91390992925586623},0.91390992925586623,0.91390992925586623]
[null,1,"VMY336B (DP<8 b)",2411,2950,298,1.05,4,null,0.16960739225420454,null,3.8095238095238093,3.8095238095238093,null,{"$f":"IF(G17>3,extrapol_(L17,Vol_ratio,Vol_MP_HP)/100,extrapol_(L17,Vol_ratio,Vol_LPL_MP)/100)","v":0.87052380952380959},{"$f":"IF(G17>3,extrapol_(L17,IsoT_ratio,IsoT_MP_HP)/100,extrapol_(L17,IsoT_ratio,IsoT_LPL_MP)/100)","v":{"$error":"#VALUE!"}},2019.7309262637389,2098.832904761905,null,98.882659931662218,null,{"$error":"#VALUE!"},null,null,null,25,25,25,null,25,25,25,null,25,25,25,null,25,25,25]
[null,1,"VMY436H (DP<20 b)",2708,2950,298,1.05,4,null,0.16960739225420454,null,3.8095238095238093,3.8095238095238093,null,{"$f":"IF(G18>3,extrapol_(L18,Vol_ratio,Vol_MP_HP)/100,extrapol_(L18,Vol_ratio,Vol_LPL_MP)/100)","v":0.87052380952380959},{"$f":"IF(G18>3,extrapol_(L18,IsoT_ratio,IsoT_MP_HP)/100,extrapol_(L18,IsoT_ratio,IsoT_LPL_MP)/100)","v":{"$error":"#VALUE!"}},2268.532288810537,2357.3784761904762,null,111.06355997301587,null,{"$error":"#VALUE!"},null,null,null,{"$f":"Z14-Z17/1000","v":1.0250000000000001},{"$f":"AA14-AA17/1000","v":1.0250000000000001},{"$f":"AB14-AB17/1000","v":1.0250000000000001},null,{"$f":"AD14-AD17/1000","v":2.4872676003848948},{"$f":"AE14-AE17/1000","v":2.4872676003848948},{"$f":"AF14-AF17/1000","v":2.4872676003848948},null,{"$f":"AH14-AH17/1000","v":3.3570787601542573},{"$f":"AI14-AI17/1000","v":3.3570787601542573},{"$f":"AJ14-AJ17/1000","v":3.3570787601542573},null,{"$f":"AL14-AL17/1000","v":5.7305817455016612},{"$f":"AM14-AM17/1000","v":5.7305817455016612},{"$f":"AN14-AN17/1000","v":5.7305817455016612}]
[null,1,"VMY436M (DP<16 b)",3558,2950,298,1.05,4,null,0.16960739225420454,null,3.8095238095238093,3.8095238095238093,null,{"$f":"IF(G19>3,extrapol_(L19,Vol_ratio,Vol_MP_HP)/100,extrapol_(L19,Vol_ratio,Vol_LPL_MP)/100)","v":0.87052380952380959},{"$f":"IF(G19>3,extrapol_(L19,IsoT_ratio,IsoT_MP_HP)/100,extrapol_(L19,IsoT_ratio,IsoT_LPL_MP)/100)","v":{"$error":"#VALUE!"}},2980.5900604091175,3097.3237142857147,null,145.9247217075297,null,{"$error":"#VALUE!"},null,null,null,1.1000000000000001,1.1000000000000001,1.1000000000000001,null,1.1000000000000001,1.1000000000000001,1.1000000000000001,null,1.1000000000000001,1.1000000000000001,1.1000000000000001,null,1.1000000000000001,1.1000000000000001,1.1000000000000001]
[null,1,"VMY436B (DP<8 b)",4733,2950,298,1.05,4,null,0.16960739225420454,null,3.8095238095238093,3.8095238095238093,null,{"$f":"IF(G20>3,extrapol_(L20,Vol_ratio,Vol_MP_HP)/100,extrapol_(L20,Vol_ratio,Vol_LPL_MP)/100)","v":0.87052380952380959},{"$f":"IF(G20>3,extrapol_(L20,IsoT_ratio,IsoT_MP_HP)/100,extrapol_(L20,IsoT_ratio,IsoT_LPL_MP)/100)","v":{"$error":"#VALUE!"}},3964.9052152659788,4120.1891904761906,null,194.11515116406352,null,{"$error":"#VALUE!"},null,null,null,2.2999999999999998,3,4.8,null,2.2999999999999998,3,4.8,null,2.2999999999999998,3,4.8,null,2.2999999999999998,3,4.8]
[null,1,"VMY536H (DP<20 b)",5699,2950,298,1.05,4,null,0.16960739225420454,null,3.8095238095238093,3.8095238095238093,null,{"$f":"IF(G21>3,extrapol_(L21,Vol_ratio,Vol_MP_HP)/100,extrapol_(L21,Vol_ratio,Vol_LPL_MP)/100)","v":0.87052380952380959},{"$f":"IF(G21>3,extrapol_(L21,IsoT_ratio,IsoT_MP_HP)/100,extrapol_(L21,IsoT_ratio,IsoT_LPL_MP)/100)","v":{"$error":"#VALUE!"}},4774.137929812131,4961.1151904761909,null,233.73383614705222,null,{"$error":"#VALUE!"},null,null,null,{"$f":"Z18*Z20^Z19","v":2.5622676003848945},{"$f":"AA18*AA20^AA19","v":3.4320787601542571},5.7555817455016616,null,{"$f":"AD18*AD20^AD19","v":6.2176050594666323},{"$f":"AE18*AE20^AE19","v":8.328291026439846},{"$f":"AF18*AF20^AF19","v":13.96650926532002},null,{"$f":"AH18*AH20^AH19","v":8.3919357454473609},{"$f":"AI18*AI20^AI19","v":11.240740203795525},{"$f":"AJ18*AJ20^AJ19","v":18.850674370883112},null,{"$f":"AL18*AL20^AL19","v":14.325155061322945},{"$f":"AM18*AM20^AM19","v":19.188105260550202},{"$f":"AN18*AN20^AN19","v":32.178372376111618}]
[{"$f":"D22/D21","v":1.3088261098438323},1,"VMY536M (DP<16 b)",7459,2950,298,1.05,4,null,0.16960739225420454,null,3.8095238095238093,3.8095238095238093,null,{"$f":"IF(G22>3,extrapol_(L22,Vol_ratio,Vol_MP_HP)/100,extrapol_(L22,Vol_ratio,Vol_LPL_MP)/100)","v":0.87052380952380959},{"$f":"IF(G22>3,extrapol_(L22,IsoT_ratio,IsoT_MP_HP)/100,extrapol_(L22,IsoT_ratio,IsoT_LPL_MP)/100)","v":{"$error":"#VALUE!"}},6248.5163745338978,6493.2370952380961,null,305.9169475032221,null,{"$error":"#VALUE!"},null,null,null,{"$f":"Z21/Z14","v":2.4402548575094234},{"$f":"AA21/AA14","v":3.2686464382421496},5.4815064242872964,null,{"$f":"AD21/AD14","v":2.474897601877307},3.3150493303993178,5.5593238806169634,null,{"$f":"AH21/AH14","v":2.4812951857645689},3.3236186975382065,5.573694673515921,null,{"$f":"AL21/AL14","v":2.4889152295541503},3.3338255121729228,5.5908114590260105]
[null,1,"VMY536B (DP<8 b)",9937,2950,298,1.05,4,null,0.16960739225420454,null,3.8095238095238093,3.8095238095238093,null,{"$f":"IF(G23>3,extrapol_(L23,Vol_ratio,Vol_MP_HP)/100,extrapol_(L23,Vol_ratio,Vol_LPL_MP)/100)","v":0.87052380952380959},{"$f":"IF(G23>3,extrapol_(L23,IsoT_ratio,IsoT_MP_HP)/100,extrapol_(L23,IsoT_ratio,IsoT_LPL_MP)/100)","v":{"$error":"#VALUE!"}},8324.3742075001137,8650.3950952380965,null,407.54748724219297,null,{"$error":"#VALUE!"},null,null,null,50,50,50,null,50,50,50,null,50,50,50,null,50,50,50]
[null,null,null,null,null,null,null,null,null,null,null,null,null,null,null,null,null,null,null,null,null,null,null,null,null,{"$f":"Z21-Z23/1000","v":2.5122676003848947},{"$f":"AA21-AA23/1000","v":3.3820787601542572},5.7055817455016618,null,{"$f":"AD21-AD23/1000","v":6.1676050594666325},{"$f":"AE21-AE23/1000","v":8.2782910264398453},13.91650926532002,null,{"$f":"AH21-AH23/1000","v":8.3419357454473602},{"$f":"AI21-AI23/1000","v":11.190740203795524},18.800674370883112,null,{"$f":"AL21-AL23/1000","v":14.275155061322945},{"$f":"AM21-AM23/1000","v":19.138105260550201},32.128372376111621]
[null,null,null,null,null,null,null,null,null,null,null,null,null,null,null,null,null,null,null,null,null,null,null,null,null,{"$f":"IF(Z14>3,extrapol_(Z22,Vol_ratio,Vol_MP_HP)/100,extrapol_(Z22,Vol_ratio,Vol_LPL_MP)/100)","v":0.87240254857509425},{"$f":"IF(AA14>3,extrapol_(AA22,Vol_ratio,Vol_MP_HP)/100,extrapol_(AA22,Vol_ratio,Vol_LPL_MP)/100)","v":0.8734627071235157},{"$f":"IF(AB14>3,extrapol_(AB22,Vol_ratio,Vol_MP_HP)/100,extrapol_(AB22,Vol_ratio,Vol_LPL_MP)/100)","v":0.84925891005997789},null,{"$f":"IF(AD14>3,extrapol_(AD22,Vol_ratio,Vol_MP_HP)/100,extrapol_(AD22,Vol_ratio,Vol_LPL_MP)/100)","v":0.87274897601877299},{"$f":"IF(AE14>3,extrapol_(AE22,Vol_ratio,Vol_MP_HP)/100,extrapol_(AE22,Vol_ratio,Vol_LPL_MP)/100)","v":0.87336990133920134},{"$f":"IF(AF14>3,extrapol_(AF22,Vol_ratio,Vol_MP_HP)/100,extrapol_(AF22,Vol_ratio,Vol_LPL_MP)/100)","v":0.84816946567136253},null,{"$f":"IF(AH14>3,extrapol_(AH22,Vol_ratio,Vol_MP_HP)/100,extrapol_(AH22,Vol_ratio,Vol_LPL_MP)/100)","v":0.75755862239343141},{"$f":"IF(AI14>3,extrapol_(AI22,Vol_ratio,Vol_MP_HP)/100,extrapol_(AI22,Vol_ratio,Vol_LPL_MP)/100)","v":0.79},{"$f":"IF(AJ14>3,extrapol_(AJ22,Vol_ratio,Vol_MP_HP)/100,extrapol_(AJ22,Vol_ratio,Vol_LPL_MP)/100)","v":0.77241044261187253},null,{"$f":"IF(AL14>3,extrapol_(AL22,Vol_ratio,Vol_MP_HP)/100,extrapol_(AL22,Vol_ratio,Vol_LPL_MP)/100)","v":0.76955257131823274},{"$f":"IF(AM14>3,extrapol_(AM22,Vol_ratio,Vol_MP_HP)/100,extrapol_(AM22,Vol_ratio,Vol_LPL_MP)/100)","v":0.79},{"$f":"IF(AN14>3,extrapol_(AN22,Vol_ratio,Vol_MP_HP)/100,extrapol_(AN22,Vol_ratio,Vol_LPL_MP)/100)","v":0.77227350832779196}]
[null,null,"5kW@4,5K",null,"Rotation","Tin","Pin","Pout",null,"Rho_in",null,"Pr","Vi_ideal",null,"Vol_%","Iso_%","Nm3/h","A_m3/h",null,null,null,null,null,null,null,{"$f":"IF(Z14>3,extrapol_(Z22,IsoT_ratio,IsoT_MP_HP)/100,extrapol_(Z22,IsoT_ratio,IsoT_LPL_MP)/100)","v":{"$error":"#VALUE!"}},{"$f":"IF(AA14>3,extrapol_(AA22,IsoT_ratio,IsoT_MP_HP)/100,extrapol_(AA22,IsoT_ratio,IsoT_LPL_MP)/100)","v":{"$error":"#VALUE!"}},{"$f":"IF(AB14>3,extrapol_(AB22,IsoT_ratio,IsoT_MP_HP)/100,extrapol_(AB22,IsoT_ratio,IsoT_LPL_MP)/100)","v":{"$error":"#VALUE!"}},null,{"$f":"IF(AD14>3,extrapol_(AD22,IsoT_ratio,IsoT_MP_HP)/100,extrapol_(AD22,IsoT_ratio,IsoT_LPL_MP)/100)","v":{"$error":"#VALUE!"}},{"$f":"IF(AE14>3,extrapol_(AE22,IsoT_ratio,IsoT_MP_HP)/100,extrapol_(AE22,IsoT_ratio,IsoT_LPL_MP)/100)","v":{"$error":"#VALUE!"}},{"$f":"IF(AF14>3,extrapol_(AF22,IsoT_ratio,IsoT_MP_HP)/100,extrapol_(AF22,IsoT_ratio,IsoT_LPL_MP)/100)","v":{"$error":"#VALUE!"}},null,{"$f":"IF(AH14>3,extrapol_(AH22,IsoT_ratio,IsoT_MP_HP)/100,extrapol_(AH22,IsoT_ratio,IsoT_LPL_MP)/100)","v":{"$error":"#VALUE!"}},{"$f":"IF(AI14>3,extrapol_(AI22,IsoT_ratio,IsoT_MP_HP)/100,extrapol_(AI22,IsoT_ratio,IsoT_LPL_MP)/100)","v":{"$error":"#VALUE!"}},{"$f":"IF(AJ14>3,extrapol_(AJ22,IsoT_ratio,IsoT_MP_HP)/100,extrapol_(AJ22,IsoT_ratio,IsoT_LPL_MP)/100)","v":{"$error":"#VALUE!"}},null,{"$f":"IF(AL14>3,extrapol_(AL22,IsoT_ratio,IsoT_MP_HP)/100,extrapol_(AL22,IsoT_ratio,IsoT_LPL_MP)/100)","v":{"$error":"#VALUE!"}},{"$f":"IF(AM14>3,extrapol_(AM22,IsoT_ratio,IsoT_MP_HP)/100,extrapol_(AM22,IsoT_ratio,IsoT_LPL_MP)/100)","v":{"$error":"#VALUE!"}},{"$f":"IF(AN14>3,extrapol_(AN22,IsoT_ratio,IsoT_MP_HP)/100,extrapol_(AN22,IsoT_ratio,IsoT_LPL_MP)/100)","v":{"$error":"#VALUE!"}}]
[null,null,"LP STAGE (298 g/s)"]
[null,1,"VMY536M (DP<16 b)",7459,2790,298,1.05,5,null,{"$f":"$D$4*G28*273.15/(F28)*4/$D$3","v":0.16960739225420454},null,{"$f":"H28/G28","v":4.7619047619047619},{"$f":"L28^1/($D$5)","v":4.7619047619047619},null,{"$f":"IF(G28>3,extrapol_(L28,Vol_ratio,Vol_MP_HP)/100,extrapol_(L28,Vol_ratio,Vol_LPL_MP)/100)","v":0.85980952380952369},{"$f":"IF(G28>3,extrapol_(L28,IsoT_ratio,IsoT_MP_HP)/100,extrapol_(L28,IsoT_ratio,IsoT_LPL_MP)/100)","v":{"$error":"#VALUE!"}},{"$f":"T28*3600/1000/0.17625","v":5836.8790886425459},{"$f":"E28/$D$8*O28*D28","v":6065.4781946731218},null,{"$f":"R28*J28*1000/3600*B28","v":285.7638720481246},null,{"$f":"T28*8.314*F28/4*LN(H28/G28)/P28/1000","v":{"$error":"#VALUE!"}}]
[null,1,"VMY536M (DP<16 b)",7459,3600,298,1.05,5,null,0.16960739225420454,null,4.7619047619047619,{"$f":"L29^1/($D$5)","v":4.7619047619047619},null,{"$f":"IF(G29>3,extrapol_(L29,Vol_ratio,Vol_MP_HP)/100,extrapol_(L29,Vol_ratio,Vol_LPL_MP)/100)","v":0.85980952380952369},{"$f":"IF(G29>3,extrapol_(L29,IsoT_ratio,IsoT_MP_HP)/100,extrapol_(L29,IsoT_ratio,IsoT_LPL_MP)/100)","v":{"$error":"#VALUE!"}},7531.4568885710287,7826.4234769975783,null,{"$f":"R29*J29*1000/3600*B29","v":368.72757683628987},null,{"$f":"T29*8.314*F29/4*LN(H29/G29)/P29/1000","v":{"$error":"#VALUE!"}}]
[null,1,"VMY536M (DP<16 b)",7459,2950,298,1.05,5,null,0.16960739225420454,null,4.7619047619047619,{"$f":"L30^1/($D$5)","v":4.7619047619047619},null,{"$f":"IF(G30>3,extrapol_(L30,Vol_ratio,Vol_MP_HP)/100,extrapol_(L30,Vol_ratio,Vol_LPL_MP)/100)","v":0.85980952380952369},{"$f":"IF(G30>3,extrapol_(L30,IsoT_ratio,IsoT_MP_HP)/100,extrapol_(L30,IsoT_ratio,IsoT_LPL_MP)/100)","v":{"$error":"#VALUE!"}},6171.6105059123693,6413.3192380952369,null,{"$f":"R30*J30*1000/3600*B30","v":302.15176435195968},null,{"$f":"T30*8.314*F30/4*LN(H30/G30)/P30/1000","v":{"$error":"#VALUE!"}}]
[null,1,"VMY536H (DP<20 b)",5699,3600,298,1.05,5,null,0.16960739225420454,null,{"$f":"H31/G31","v":4.7619047619047619},{"$f":"L31^1/($D$5)","v":4.7619047619047619},null,{"$f":"IF(G31>3,extrapol_(L31,Vol_ratio,Vol_MP_HP)/100,extrapol_(L31,Vol_ratio,Vol_LPL_MP)/100)","v":0.85980952380952369},{"$f":"IF(G31>3,extrapol_(L31,IsoT_ratio,IsoT_MP_HP)/100,extrapol_(L31,IsoT_ratio,IsoT_LPL_MP)/100)","v":{"$error":"#VALUE!"}},5754.3602102113273,{"$f":"E31/$D$8*O31*D31","v":5979.7274963680384},null,{"$f":"R31*J31*1000/3600*B31","v":281.72388529159622},null,{"$f":"T31*8.314*F31/4*LN(H31/G31)/P31/1000","v":{"$error":"#VALUE!"}},null,null,null,null,{"$f":"Z14","v":1.05},{"$f":"AD14","v":2.5122676003848947},{"$f":"AH14","v":3.3820787601542572},{"$f":"AL14","v":5.7555817455016616},null,{"$f":"AA14","v":1.05},{"$f":"AE14","v":2.5122676003848947},{"$f":"AI14","v":3.3820787601542572},{"$f":"AM14","v":5.7555817455016616},null,{"$f":"AB14","v":1.05},{"$f":"AF14","v":2.5122676003848947},{"$f":"AJ14","v":3.3820787601542572},{"$f":"AN14","v":5.7555817455016616}]
[null,null,"HP STAGE (568 g/s)",null,null,null,null,null,null,null,null,null,null,null,null,null,null,null,null,null,null,null,null,null,null,null,{"$f":"Z15","v":30},{"$f":"AD15","v":30},{"$f":"AH15","v":30},{"$f":"AL15","v":30},null,{"$f":"AA15","v":30},{"$f":"AE15","v":30},{"$f":"AI15","v":30},{"$f":"AM15","v":30},null,{"$f":"AB15","v":30},{"$f":"AF15","v":30},{"$f":"AJ15","v":30},{"$f":"AN15","v":30}]
[null,1,"VMY536H (DP<20 b)",5699,1650,298,5,20,null,{"$f":"$D$4*G33*273.15/(F33)*4/$D$3","v":0.80765424882954551},null,{"$f":"H33/G33","v":4},{"$f":"L33^1/($D$5)","v":4},null,{"$f":"IF(G33>3,extrapol_(L33,Vol_ratio,Vol_MP_HP)/100,extrapol_(L33,Vol_ratio,Vol_LPL_MP)/100)","v":0.78700000000000003},{"$f":"IF(G33>3,extrapol_(L33,IsoT_ratio,IsoT_MP_HP)/100,extrapol_(L33,IsoT_ratio,IsoT_LPL_MP)/100)","v":{"$error":"#VALUE!"}},{"$f":"T33*3600/1000/0.17625","v":11495.600802087825},{"$f":"E33/$D$8*O33*D33","v":2508.6225254237288},null,{"$f":"R33*J33*1000/3600*B33","v":562.80545593554973},null,{"$f":"T33*8.314*F33/4*LN(H33/G33)/P33/1000","v":{"$error":"#VALUE!"}},null,null,null,null,0.1667260527519481,0.3989147242559829,0.53702918264449706,0.91390992925586623,null,0.1667260527519481,0.3989147242559829,0.53702918264449706,0.91390992925586623,null,0.1667260527519481,0.3989147242559829,0.53702918264449706,0.91390992925586623]
[null,1,"VMY436H (DP<20 b)",2708,3260,298,5,20,null,0.80765424882954551,null,4,{"$f":"L34^1/($D$5)","v":4},null,{"$f":"IF(G34>3,extrapol_(L34,Vol_ratio,Vol_MP_HP)/100,extrapol_(L34,Vol_ratio,Vol_LPL_MP)/100)","v":0.78700000000000003},{"$f":"IF(G34>3,extrapol_(L34,IsoT_ratio,IsoT_MP_HP)/100,extrapol_(L34,IsoT_ratio,IsoT_LPL_MP)/100)","v":{"$error":"#VALUE!"}},10792.332895074149,2355.1521898305082,null,{"$f":"R34*J34*1000/3600*B34","v":528.37463132133848},null,{"$f":"T34*8.314*F34/4*LN(H34/G34)/P34/1000","v":{"$error":"#VALUE!"}},null,null,null,null,25,25,25,25,null,25,25,25,25,null,25,25,25,25]
[null,null,null,null,null,null,null,null,null,null,null,null,null,null,null,null,null,null,null,null,null,null,null,null,null,null,1.0250000000000001,2.4872676003848948,3.3570787601542573,5.7305817455016612,null,1.0250000000000001,2.4872676003848948,3.3570787601542573,5.7305817455016612,null,1.0250000000000001,2.4872676003848948,3.3570787601542573,5.7305817455016612]
[null,1,"VMY436H (DP<20 b)",2708,2950,298,5.58,20,null,{"$f":"$D$4*G36*273.15/(F36)*4/$D$3","v":0.90134214169377269},null,{"$f":"H36/G36","v":3.5842293906810037},3.5842293906810037,null,{"$f":"IF(G36>3,extrapol_(L36,Vol_ratio,Vol_MP_HP)/100,extrapol_(L36,Vol_ratio,Vol_LPL_MP)/100)","v":0.78949462365591405},{"$f":"IF(G36>3,extrapol_(L36,IsoT_ratio,IsoT_MP_HP)/100,extrapol_(L36,IsoT_ratio,IsoT_LPL_MP)/100)","v":{"$error":"#VALUE!"}},{"$f":"T36*3600/1000/0.17625","v":10933.479322225441},{"$f":"E36/$D$8*O36*D36","v":2137.9514408602154},null,{"$f":"R36*J36*1000/3600*B36","v":535.28492515062044},null,{"$f":"T36*8.314*F36/4*LN(H36/G36)/P36/1000","v":{"$error":"#VALUE!"}},null,null,null,null,1.1000000000000001,1.1000000000000001,1.1000000000000001,1.1000000000000001,null,1.1000000000000001,1.1000000000000001,1.1000000000000001,1.1000000000000001,null,1.1000000000000001,1.1000000000000001,1.1000000000000001,1.1000000000000001]
[null,null,null,null,null,null,null,null,null,null,null,null,null,null,null,null,null,null,null,null,null,null,null,null,null,null,2.2999999999999998,2.2999999999999998,2.2999999999999998,2.2999999999999998,null,3,3,3,3,null,4.8,4.8,4.8,4.8]
[null,null,"10kW@4,5K",null,"Rotation","Tin","Pin","Pout",null,"Rho_in",null,"Pr","Vi_ideal",null,"Vol_%","Iso_%","Nm3/h","A_m3/h",null,null,null,null,null,null,null,null,2.5622676003848945,6.2176050594666323,8.3919357454473609,14.325155061322945,null,3.4320787601542571,8.328291026439846,11.240740203795525,19.188105260550202,null,5.7555817455016616,13.96650926532002,18.850674370883112,32.178372376111618]
[null,null,"LP STAGE (509 g/s)",null,null,null,null,null,null,null,null,null,null,null,null,null,null,null,null,null,null,null,null,null,null,null,2.4402548575094234,2.474897601877307,2.4812951857645689,2.4889152295541503,null,3.2686464382421496,3.3150493303993178,3.3236186975382065,3.3338255121729228,null,5.4815064242872964,5.5593238806169634,5.573694673515921,5.5908114590260105]
[null,1,"VMY536B (DP<8 b)",9937,3600,298,1.05,5,null,{"$f":"$D$4*G40*273.15/(F40)*4/$D$3","v":0.16960739225420454},null,{"$f":"H40/G40","v":4.7619047619047619},{"$f":"L40^1/($D$5)","v":4.7619047619047619},null,{"$f":"IF(G40>3,extrapol_(L40,Vol_ratio,Vol_MP_HP)/100,extrapol_(L40,Vol_ratio,Vol_LPL_MP)/100)","v":0.85980952380952369},{"$f":"IF(G40>3,extrapol_(L40,IsoT_ratio,IsoT_MP_HP)/100,extrapol_(L40,IsoT_ratio,IsoT_LPL_MP)/100)","v":{"$error":"#VALUE!"}},{"$f":"T40*3600/1000/0.17625","v":10033.528234579742},{"$f":"E40/$D$8*O40*D40","v":10426.487476997578},null,{"$f":"R40*J40*1000/3600*B40","v":491.22481981796659},null,{"$f":"T40*8.314*F40/4*LN(H40/G40)/P40/1000","v":{"$error":"#VALUE!"}},null,null,null,null,50,50,50,50,null,50,50,50,50,null,50,50,50,50]
[null,1,"VMY536B (DP<8 b)",9937,2950,298,1.05,5,null,{"$f":"$D$4*G41*273.15/(F41)*4/$D$3","v":0.16960739225420454},null,{"$f":"H41/G41","v":4.7619047619047619},4.7619047619047619,null,{"$f":"IF(G41>3,extrapol_(L41,Vol_ratio,Vol_MP_HP)/100,extrapol_(L41,Vol_ratio,Vol_LPL_MP)/100)","v":0.85980952380952369},{"$f":"IF(G41>3,extrapol_(L41,IsoT_ratio,IsoT_MP_HP)/100,extrapol_(L41,IsoT_ratio,IsoT_LPL_MP)/100)","v":{"$error":"#VALUE!"}},{"$f":"T41*3600/1000/0.17625","v":8221.9189700028437},{"$f":"E41/$D$8*O41*D41","v":8543.927238095237},null,{"$f":"R41*J41*1000/3600*B41","v":402.53144957305591},null,{"$f":"T41*8.314*F41/4*LN(H41/G41)/P41/1000","v":{"$error":"#VALUE!"}},null,null,null,null,2.5122676003848947,6.1676050594666325,8.3419357454473602,14.275155061322945,null,3.3820787601542572,8.2782910264398453,11.190740203795524,19.138105260550201,null,5.7055817455016618,13.91650926532002,18.800674370883112,32.128372376111621]
[null,null,null,null,null,null,null,null,null,null,null,null,null,null,null,null,null,null,null,null,null,null,null,null,null,null,0.87240254857509425,0.87274897601877299,0.75755862239343141,0.76955257131823274,null,0.8734627071235157,0.87336990133920134,0.79,0.79,null,0.84925891005997789,0.84816946567136253,0.77241044261187253,0.77227350832779196]
[null,2,"VMY536H (DP<20 b)",5699,3100,298,1.05,5,null,{"$f":"$D$4*G43*273.15/(F43)*4/$D$3","v":0.16960739225420454},null,{"$f":"H43/G43","v":4.7619047619047619},{"$f":"L43^1/($D$5)","v":4.7619047619047619},null,{"$f":"IF(G43>3,extrapol_(L43,Vol_ratio,Vol_MP_HP)/100,extrapol_(L43,Vol_ratio,Vol_LPL_MP)/100)","v":0.85980952380952369},{"$f":"IF(G43>3,extrapol_(L43,IsoT_ratio,IsoT_MP_HP)/100,extrapol_(L43,IsoT_ratio,IsoT_LPL_MP)/100)","v":{"$error":"#VALUE!"}},{"$f":"T43*3600/1000/0.17625","v":9910.2870286972866},{"$f":"E43/$D$8*O43*D43","v":5149.209788539144},null,{"$f":"R43*J43*1000/3600*B43","v":485.19113577997126},null,{"$f":"T43*8.314*F43/4*LN(H43/G43)/P43/1000","v":{"$error":"#VALUE!"}},{"$f":"V43/B43","v":{"$error":"#VALUE!"}},"each",null,null,{"$error":"#VALUE!"},{"$error":"#VALUE!"},{"$error":"#VALUE!"},{"$error":"#VALUE!"},null,{"$error":"#VALUE!"},{"$error":"#VALUE!"},{"$error":"#VALUE!"},{"$error":"#VALUE!"},null,{"$f":"AB26","v":{"$error":"#VALUE!"}},{"$f":"AF26","v":{"$error":"#VALUE!"}},{"$f":"AJ26","v":{"$error":"#VALUE!"}},{"$error":"#VALUE!"}]
[]
[null,2,"VMY536H (DP<20 b)",5699,2950,298,1.05,5,null,0.16960739225420454,null,4.7619047619047619,{"$f":"L45^1/($D$5)","v":4.7619047619047619},null,{"$f":"IF(G45>3,extrapol_(L45,Vol_ratio,Vol_MP_HP)/100,extrapol_(L45,Vol_ratio,Vol_LPL_MP)/100)","v":0.85980952380952369},{"$f":"IF(G45>3,extrapol_(L45,IsoT_ratio,IsoT_MP_HP)/100,extrapol_(L45,IsoT_ratio,IsoT_LPL_MP)/100)","v":{"$error":"#VALUE!"}},9430.757011179674,4900.0544761904757,null,{"$f":"R45*J45*1000/3600*B45","v":461.71414533900486},null,{"$f":"T45*8.314*F45/4*LN(H45/G45)/P45/1000","v":{"$error":"#VALUE!"}},{"$f":"V45/B45","v":{"$error":"#VALUE!"}},"each"]
[]
[null,null,"HP STAGE (969 g/s)"]
[null,1,"VMY536H (DP<20 b)",5699,2710,298,5,20,null,{"$f":"$D$4*G48*273.15/(F48)*4/$D$3","v":0.80765424882954551},null,{"$f":"H48/G48","v":4},{"$f":"L48^1/($D$5)","v":4},null,{"$f":"IF(G48>3,extrapol_(L48,Vol_ratio,Vol_MP_HP)/100,extrapol_(L48,Vol_ratio,Vol_LPL_MP)/100)","v":0.78700000000000003},{"$f":"IF(G48>3,extrapol_(L48,IsoT_ratio,IsoT_MP_HP)/100,extrapol_(L48,IsoT_ratio,IsoT_LPL_MP)/100)","v":{"$error":"#VALUE!"}},{"$f":"T48*3600/1000/0.17625","v":18880.653438580608},{"$f":"E48/$D$8*O48*D48","v":4120.2224508474574},null,{"$f":"R48*J48*1000/3600","v":924.36532459717557},null,{"$f":"T48*8.314*F48/4*LN(H48/G48)/P48/1000","v":{"$error":"#VALUE!"}}]
[null,1,"VMY536H (DP<20 b)",5699,2950,298,5,20,null,{"$f":"$D$4*G49*273.15/(F49)*4/$D$3","v":0.80765424882954551},null,{"$f":"H49/G49","v":4},{"$f":"L49^1/($D$5)","v":4},null,{"$f":"IF(G49>3,extrapol_(L49,Vol_ratio,Vol_MP_HP)/100,extrapol_(L49,Vol_ratio,Vol_LPL_MP)/100)","v":0.78700000000000003},{"$f":"IF(G49>3,extrapol_(L49,IsoT_ratio,IsoT_MP_HP)/100,extrapol_(L49,IsoT_ratio,IsoT_LPL_MP)/100)","v":{"$error":"#VALUE!"}},{"$f":"T49*3600/1000/0.17625","v":20552.740827975205},{"$f":"E49/$D$8*O49*D49","v":4485.1130000000003},null,{"$f":"R49*J49*1000/3600","v":1006.2279363696194},null,{"$f":"T49*8.314*F49/4*LN(H49/G49)/P49/1000","v":{"$error":"#VALUE!"}}]
[]
[null,1,"VMY536H (DP<20 b)",5699,2950,298,4.5999999999999996,20,null,{"$f":"$D$4*G51*273.15/(F51)*4/$D$3","v":0.74304190892318167},null,{"$f":"H51/G51","v":4.3478260869565224},{"$f":"L51^1/($D$5)","v":4.3478260869565224},null,{"$f":"IF(G51>3,extrapol_(L51,Vol_ratio,Vol_MP_HP)/100,extrapol_(L51,Vol_ratio,Vol_LPL_MP)/100)","v":0.78421739130434787},{"$f":"IF(G51>3,extrapol_(L51,IsoT_ratio,IsoT_MP_HP)/100,extrapol_(L51,IsoT_ratio,IsoT_LPL_MP)/100)","v":{"$error":"#VALUE!"}},{"$f":"T51*3600/1000/0.17625","v":18841.66639462204},{"$f":"E51/$D$8*O51*D51","v":4469.2549130434782},null,{"$f":"R51*J51*1000/3600","v":922.45658390337053},null,{"$f":"T51*8.314*F51/4*LN(H51/G51)/P51/1000","v":{"$error":"#VALUE!"}}]
[]
[]
[null,null,null,null,null,null,null,null,null,null,null,null,null,null,null,null,null,null,null,null,null,null,null,null,null,null,"Vi",2.2999999999999998,3,4.8]
[null,null,"25kW@4,5K",null,"Rotation","Tin","Pin","Pout",null,"Rho_in",null,"Pr","Vi_ideal",null,"Vol_%","Iso_%","Nm3/h","A_m3/h"]
[null,"NB UNIT","LP STAGE (1030 g/s)"]
[null,3,"VMY536M (DP<16 b)",7459,3200,298,1.05,5,null,{"$f":"$D$4*G57*273.15/(F57)*4/$D$3","v":0.16960739225420454},null,{"$f":"H57/G57","v":4.7619047619047619},{"$f":"L57^1/($D$5)","v":4.7619047619047619},null,{"$f":"IF(G57>3,extrapol_(L57,Vol_ratio,Vol_MP_HP)/100,extrapol_(L57,Vol_ratio,Vol_LPL_MP)/100)","v":0.85980952380952369},{"$f":"IF(G57>3,extrapol_(L57,IsoT_ratio,IsoT_MP_HP)/100,extrapol_(L57,IsoT_ratio,IsoT_LPL_MP)/100)","v":{"$error":"#VALUE!"}},{"$f":"T57*3600/1000/0.17625","v":20083.885036189407},{"$f":"E57/$D$8*O57*D57","v":6956.8208684422916},null,{"$f":"R57*J57*1000/3600*B57","v":983.27353823010628},null,{"$f":"T57*8.314*F57/4*LN(H57/G57)/P57/1000","v":{"$error":"#VALUE!"}},{"$f":"V57/B57","v":{"$error":"#VALUE!"}},"each"]
[null,2,"VMY536B (DP<8 b)",9937,3600,298,1.05,5,null,{"$f":"$D$4*G58*273.15/(F58)*4/$D$3","v":0.16960739225420454},null,{"$f":"H58/G58","v":4.7619047619047619},{"$f":"L58^1/($D$5)","v":4.7619047619047619},null,{"$f":"IF(G58>3,extrapol_(L58,Vol_ratio,Vol_MP_HP)/100,extrapol_(L58,Vol_ratio,Vol_LPL_MP)/100)","v":0.85980952380952369},{"$f":"IF(G58>3,extrapol_(L58,IsoT_ratio,IsoT_MP_HP)/100,extrapol_(L58,IsoT_ratio,IsoT_LPL_MP)/100)","v":{"$error":"#VALUE!"}},{"$f":"T58*3600/1000/0.17625","v":20067.056469159485},{"$f":"E58/$D$8*O58*D58","v":10426.487476997578},null,{"$f":"R58*J58*1000/3600*B58","v":982.44963963593318},null,{"$f":"T58*8.314*F58/4*LN(H58/G58)/P58/1000","v":{"$error":"#VALUE!"}},{"$f":"V58/B58","v":{"$error":"#VALUE!"}},"each"]
[]
[null,null,"HP STAGE (1962 g/s)"]
[null,2,"VMY536H (DP<20 b)",5699,2740,298,5,20,null,{"$f":"$D$4*G61*273.15/(F61)*4/$D$3","v":0.80765424882954551},null,{"$f":"H61/G61","v":4},{"$f":"L61^1/($D$5)","v":4},null,{"$f":"IF(G61>3,extrapol_(L61,Vol_ratio,Vol_MP_HP)/100,extrapol_(L61,Vol_ratio,Vol_LPL_MP)/100)","v":0.78700000000000003},{"$f":"IF(G61>3,extrapol_(L61,IsoT_ratio,IsoT_MP_HP)/100,extrapol_(L61,IsoT_ratio,IsoT_LPL_MP)/100)","v":{"$error":"#VALUE!"}},{"$f":"T61*3600/1000/0.17625","v":38179.328724509869},{"$f":"E61/$D$8*O61*D61","v":4165.8337694915253},null,{"$f":"R61*J61*1000/3600*B61","v":1869.196302137462},null,{"$f":"T61*8.314*F61/4*LN(H61/G61)/P61/1000","v":{"$error":"#VALUE!"}},{"$f":"V61/B61","v":{"$error":"#VALUE!"}},"each"]
[null,1,"VMY536H (DP<20 b)",5699,3600,298,5,20,null,0.80765424882954551,null,4,{"$f":"L62^1/($D$5)","v":4},null,{"$f":"IF(G62>3,extrapol_(L62,Vol_ratio,Vol_MP_HP)/100,extrapol_(L62,Vol_ratio,Vol_LPL_MP)/100)","v":0.78700000000000003},{"$f":"IF(G62>3,extrapol_(L62,IsoT_ratio,IsoT_MP_HP)/100,extrapol_(L62,IsoT_ratio,IsoT_LPL_MP)/100)","v":{"$error":"#VALUE!"}},25081.310840918897,5473.3582372881365,null,{"$f":"R62*J62*1000/3600*B62","v":1227.9391765866542},null,{"$f":"T62*8.314*F62/4*LN(H62/G62)/P62/1000","v":{"$error":"#VALUE!"}}]
[]
[null,2,"VMY536H (DP<20 b)",5699,2950,298,4.6500000000000004,20,null,{"$f":"$D$4*G64*273.15/(F64)*4/$D$3","v":0.75111845141147726},null,{"$f":"H64/G64","v":4.301075268817204},{"$f":"L64^1/($D$5)","v":4.301075268817204},null,{"$f":"IF(G64>3,extrapol_(L64,Vol_ratio,Vol_MP_HP)/100,extrapol_(L64,Vol_ratio,Vol_LPL_MP)/100)","v":0.7845913978494623},{"$f":"IF(G64>3,extrapol_(L64,IsoT_ratio,IsoT_MP_HP)/100,extrapol_(L64,IsoT_ratio,IsoT_LPL_MP)/100)","v":{"$error":"#VALUE!"}},{"$f":"T64*3600/1000/0.17625","v":38111.101397582373},{"$f":"E64/$D$8*O64*D64","v":4471.3863763440859},null,{"$f":"R64*J64*1000/3600*B64","v":1865.8560059233037},null,{"$f":"T64*8.314*F64/4*LN(H64/G64)/P64/1000","v":{"$error":"#VALUE!"}},{"$f":"V64/B64","v":{"$error":"#VALUE!"}},"each"]
[]
[null,null,"35kW at 15K",null,"Rotation","Tin","Pin","Pout",null,"Rho_in",null,"Pr","Vi_ideal",null,"Vol_%","Iso_%","Nm3/h","dislpa m3/h"]
[null,null,"LP STAGE (1158 g/s)",null,null,298,3.4,20,null,{"$f":"$D$4*G67*273.15/(F67)*4/$D$3","v":0.54920488920409083},null,null,null,null,null,null,{"$f":"T67*3600/1000/0.17615495053003","v":23665.528487598902},null,null,1158,{"$f":"T67*8.314*F67/4*LN(H67/G67)/1000","v":1270.9486151374742}]
[null,"OFF DESIGN","LP STAGE (1158 g/s)",null,null,298,2,8.0000000114232677,null,{"$f":"$D$4*G68*273.15/(F68)*4/$D$3","v":0.32306169953181818},null,null,null,null,null,null,{"$f":"T68*3600/1000/0.17625","v":30232.886783910522},null,null,1480.1517487956194,{"$f":"T68*8.314*F68/4*LN(H68/G68)/1000","v":1270.9486164465748},{"$f":"U67-U68","v":-1.3091005257592769E-6}]
[null,"OFF DESIGN","LP STAGE (1158 g/s)",null,null,298,2,8.0000000114232677,null,{"$f":"$D$4*G69*273.15/(F69)*4/$D$3","v":0.32306169953181818},null,null,null,null,null,null,null,null,null,1480.1517487956194,{"$f":"T69*8.314*F69/4*LN(H69/G69)/1000","v":1270.9486164465748},{"$f":"U68-U69","v":0},null,null,null,null,11681,{"$f":"AA69*2","v":23362},{"$f":"AA69*J69*1000/3600*B70","v":2096.4909512395379}]
[null,2,"VMY536H (DP<20 b)",5699,2280,298,3.4,20,null,0.54920488920409083,null,{"$f":"H70/G70","v":5.882352941176471},{"$f":"L70^1/($D$5)","v":5.882352941176471},null,0.86272445458267555,0.58479777424122359,23682.0264280913,{"$f":"E70/$D$8*O70*D70","v":3800.0000000000009},null,{"$f":"R70*J70*1000/3600*B70","v":1159.4325438753031},{"$f":"T70*8.314*F70/4*LN(H70/G70)/1000","v":1272.5208859962308},{"$f":"T70*8.314*F70/4*LN(H70/G70)/P70/1000","v":2176.0015890062673},{"$f":"V70/B70","v":1088.0007945031336},"each",{"$f":"H70-G70","v":16.600000000000001}]
[4.8,2,"VMY536H (DP<20 b)",5699,2950,298,2.6985817875949487,{"$f":"G71*A71^1.1","v":15.153081049194856},null,{"$f":"$D$4*G71*273.15/(F71)*4/$D$3","v":0.43590420931301804},null,{"$f":"H71/G71","v":5.6152017029284496},{"$f":"L71^1/($D$5)","v":5.6152017029284496},null,0.86272445458267555,0.58479777424122359,{"$f":"T71*3600/1000/0.17625","v":24319.951157889431},{"$f":"E71/$D$8*O71*D71","v":4916.6666666666679},null,{"$f":"R71*J71*1000/3600*B71","v":1190.6642754383367},{"$f":"T71*8.314*F71/4*LN(H71/G71)/1000","v":1272.5208859962311},{"$f":"T71*8.314*F71/4*LN(H71/G71)/P71/1000","v":2176.0015890062673},{"$f":"V71/B71","v":1088.0007945031336},"each",{"$f":"H71-G71","v":12.454499261599908},null,{"$f":"U70-U71","v":0}]
[4.8]
[3,1,"VMY536M (DP<16 b)",7459,3600,298,3.185612883211749,{"$f":"G73*A73^$D$5","v":9.556838649635246},null,{"$f":"$D$4*G73*273.15/(F73)*4/$D$3","v":0.51457475605042158},1.6659999999999999,{"$f":"H73/G73","v":2.9999999999999996},{"$f":"L73^1/($D$5)","v":2.9999999999999996},null,0.86272445458267555,0.58479777424122359,{"$f":"T73*3600/1000/0.17625","v":22927.280891414895},{"$f":"E73/$D$8*O73*D73","v":7852.9566590629956},null,{"$f":"R73*J73*1000/3600*B73","v":1122.4814603088541},{"$f":"T73*8.314*F73/4*LN(H73/G73)/1000","v":763.81805882126662},{"$f":"T73*8.314*F73/4*LN(H73/G73)/P73/1000","v":1306.1234027648657},{"$f":"V73/B73","v":1306.1234027648657},"each",{"$f":"H73-G73","v":6.371225766423497},null,{"$f":"U70-U73","v":508.70282717496423}]
[]
[]
[]
[]
[null,{"$f":"H70-G70","v":16.600000000000001},"Vi = 2.3 --> Pout = 4,2 bar abs:        4788 Nm³/h        854 kg/h        443 kW"]
[null,{"$f":"H71-G71","v":12.454499261599908},"Vi = 3,0 --> Pout = 4,2 bar abs:        4832Nm³/h        861 kg/h        417 kW"]
[null,null,"Vi = 4,8 --> Pout = 4,2 bar abs:        4913Nm³/h        877 kg/h        423 kW"]
[null,null,null,"Displ @ 2950rpm","Rotation","Tin","Pin","Pout","Pout","Rho_in","gamma","Pr","Vi","Vi\nideal","Vol_%","Iso_%","Nm3/h","A_m3/h","kg/h","g/s"]
[null,1,"VMY536H (DP<20 b)",5699,2950,298,1.05,{"$f":"M82^K82*G82","v":3.1005267734827271},{"$f":"M82^K82*G82","v":3.1005267734827271},{"$f":"$D$4*G82*273.15/(F82)*4/$D$3","v":0.16960739225420454},1.3,{"$f":"H82/G82","v":2.952882641412121},2.2999999999999998,{"$f":"L82^1/(K82)","v":2.2714481857016313},{"$f":"R82/(B82*E82/$D$8*D82)","v":0.88351603685942004},{"$f":"(T82*8.314*F82/4*LN(H82/G82)/1000)/V82","v":0.35913597243557499},{"$f":"T82*3600/1000/0.17625","v":4845.3900709219861},{"$f":"T82/J82*3.6","v":5035.1578940618347},854,{"$f":"S82/3.6","v":237.22222222222223},{"$f":"T82*8.314*F82/4*LN(H82/G82)/1000","v":159.09723578895972},{"$f":"W82*B82","v":443},443,"each",{"$f":"H82-G82","v":2.0505267734827273}]
[null,1,"VMY536H (DP<20 b)",5699,2950,298,1.05,{"$f":"M83^K83*G83","v":4.3797258864951152},4.3797258864951152,{"$f":"$D$4*G83*273.15/(F83)*4/$D$3","v":0.16960739225420454},1.3,{"$f":"H83/G83","v":4.1711675109477282},3,{"$f":"L83^1/(K83)","v":3.2085903930367139},0.86696304319460649,{"$f":"(T83*8.314*F83/4*LN(H83/G83)/1000)/V83","v":0.37783232730711935},{"$f":"T83*3600/1000/0.17625","v":4754.6099290780148},{"$f":"T83/J83*3.6","v":4940.8223831660625},838,{"$f":"S83/3.6","v":232.77777777777777},{"$f":"T83*8.314*F83/4*LN(H83/G83)/1000","v":205.91861838238006},{"$f":"W83*B83","v":545},545,"each",{"$f":"H83-G83","v":3.3297258864951154}]
[null,1,"VMY536H (DP<20 b)",5699,2950,298,1.05,8.0686877243740653,8.0686877243740653,0.16960739225420454,1.3,7.6844644994038713,4.8,5.9111265380029776,0.85247917373789461,{"$f":"(T84*8.314*F84/4*LN(H84/G84)/1000)/V84","v":0.37741764840970859},{"$f":"T84*3600/1000/0.17625","v":4675.177304964539},{"$f":"T84/J84*3.6","v":4858.2788111322616},824,{"$f":"S84/3.6","v":228.88888888888889},{"$f":"T84*8.314*F84/4*LN(H84/G84)/1000","v":289.10191868183676},{"$f":"W84*B84","v":766},766,"each",{"$f":"H84-G84","v":7.0186877243740655}]
["<"]
[{"$f":"+H86/I86","v":1},1,"VMY536H (DP<20 b)",5699,2950,298,1.05,{"$f":"+H82","v":3.1005267734827271},{"$f":"M86^K86*G86","v":3.1005267734827271},{"$f":"$D$4*G86*273.15/(F86)*4/$D$3","v":0.16960739225420454},1.3,{"$f":"H86/G86","v":2.952882641412121},2.2999999999999998,{"$f":"L86^1/(K86)","v":2.2714481857016313},{"$f":"R86/(B86*E86/$D$8*D86)","v":0.88351603685942004},{"$f":"(T86*8.314*F86/4*LN(H86/G86)/1000)/V86","v":0.35913597243557499},{"$f":"T86*3600/1000/0.17625","v":4845.3900709219861},{"$f":"T86/J86*3.6","v":5035.1578940618347},854,{"$f":"S86/3.6","v":237.22222222222223},{"$f":"T86*8.314*F86/4*LN(H86/G86)/1000","v":159.09723578895972},{"$f":"W86*B86","v":443},443,"each",{"$f":"H86-G86","v":2.0505267734827273}]
[{"$f":"+H87/I87","v":1},1,"VMY536H (DP<20 b)",5699,2950,298,1.05,{"$f":"+H83","v":4.3797258864951152},{"$f":"M87^K87*G87","v":4.3797258864951152},0.16960739225420454,1.3,4.1711675109477282,3,{"$f":"L87^1/(K87)","v":3.2085903930367139},0.86696304319460649,{"$f":"(T87*8.314*F87/4*LN(H87/G87)/1000)/V87","v":0.37783232730711935},{"$f":"T87*3600/1000/0.17625","v":4754.6099290780148},{"$f":"T87/J87*3.6","v":4940.8223831660625},838,{"$f":"S87/3.6","v":232.77777777777777},{"$f":"T87*8.314*F87/4*LN(H87/G87)/1000","v":205.91861838238006},{"$f":"W87*B87","v":545},545,"each",{"$f":"H87-G87","v":3.3297258864951154}]
[1,1,"VMY536H (DP<20 b)",5699,2950,298,1.05,8.0686877243740653,8.0686877243740653,0.16960739225420454,1.3,7.6844644994038713,4.8,5.9111265380029776,0.85247917373789461,{"$f":"(T88*8.314*F88/4*LN(H88/G88)/1000)/V88","v":0.37741764840970859},{"$f":"T88*3600/1000/0.17625","v":4675.177304964539},{"$f":"T88/J88*3.6","v":4858.2788111322616},824,{"$f":"S88/3.6","v":228.88888888888889},{"$f":"T88*8.314*F88/4*LN(H88/G88)/1000","v":289.10191868183676},{"$f":"W88*B88","v":766},766,"each",{"$f":"H88-G88","v":7.0186877243740655}]
["<"]
[{"$f":"+H90/I90","v":0.99206349206349209},1,"VMY536H (DP<20 b)",5699,2950,298,1.05,5,{"$f":"M90^K90*G90","v":5.04},{"$f":"$D$4*G90*273.15/(F90)*4/$D$3","v":0.16960739225420454},1,{"$f":"H90/G90","v":4.7619047619047619},4.8,{"$f":"L90^1/(K90)","v":4.7619047619047619},{"$f":"R90/(B90*E90/$D$8*D90)","v":0.903172716836386},{"$f":"(T90*8.314*F90/4*LN(H90/G90)/1000)/V90","v":0.52207943319525096},{"$f":"T90*3600/1000/0.17625","v":4953.1914893617022},{"$f":"T90/J90*3.6","v":5147.181313250564},873,{"$f":"S90/3.6","v":242.5},{"$f":"T90*8.314*F90/4*LN(H90/G90)/1000","v":234.41366550466768},{"$f":"W90*B90","v":449},449,"each",{"$f":"H90-G90","v":3.95}]
[{"$f":"+H91/I91","v":1.7391304347826086},1,"VMY536H (DP<20 b)",5699,2950,298,1.05,4.2,{"$f":"M91^K91*G91","v":2.415},0.16960739225420454,1,4,2.2999999999999998,{"$f":"L91^1/(K91)","v":4},0.88351603685942004,{"$f":"(T91*8.314*F91/4*LN(H91/G91)/1000)/V91","v":0.45980468637285621},{"$f":"T91*3600/1000/0.17625","v":4845.3900709219861},{"$f":"T91/J91*3.6","v":5035.1578940618347},854,{"$f":"S91/3.6","v":237.22222222222223},{"$f":"T91*8.314*F91/4*LN(H91/G91)/1000","v":203.6934760631753},{"$f":"W91*B91","v":443},443,"each",{"$f":"H91-G91","v":3.1500000000000004}]
["<"]
[null,1,"VMY536H (DP<20 b)",5699,2950,298,1.05,4.2,null,{"$f":"$D$4*G93*273.15/(F93)*4/$D$3","v":0.16960739225420454},1.3,{"$f":"H93/G93","v":4},2.2999999999999998,3.0769230769230766,{"$f":"R93/(B93*E93/$D$8*D93)","v":0.88351603685942004},{"$f":"(T93*8.314*F93/4*LN(H93/G93)/1000)/V93","v":0.45980468637285621},{"$f":"T93*3600/1000/0.17625","v":4845.3900709219861},{"$f":"T93/J93*3.6","v":5035.1578940618347},854,{"$f":"S93/3.6","v":237.22222222222223},{"$f":"T93*8.314*F93/4*LN(H93/G93)/1000","v":203.6934760631753},{"$f":"W93*B93","v":443},443,"each",{"$f":"H93-G93","v":3.1500000000000004}]
[null,1,"VMY536H (DP<20 b)",5699,2950,298,1.05,6.55,null,0.16960739225420454,1.3,6.2380952380952372,2.2999999999999998,4.7985347985347975,{"$f":"R94/(B94*E94/$D$8*D94)","v":0.85661742215409808},{"$f":"(T94*8.314*F94/4*LN(H94/G94)/1000)/V94","v":0.42544642438558322},{"$f":"T94*3600/1000/0.17625","v":4697.8723404255325},{"$f":"T94/J94*3.6","v":4881.8626888562048},828,{"$f":"S94/3.6","v":230},{"$f":"T94*8.314*F94/4*LN(H94/G94)/1000","v":260.79865814836251},{"$f":"W94*B94","v":613},613,"each",{"$f":"H94-G94","v":5.5}]
[null,1,"VMY536H (DP<20 b)",5699,2950,298,1.05,14.31,null,0.16960739225420454,1.3,13.628571428571428,2.2999999999999998,10.483516483516484,{"$f":"R95/(B95*E95/$D$8*D95)","v":0.76557595699762371},{"$f":"(T95*8.314*F95/4*LN(H95/G95)/1000)/V95","v":0.28280648658189489},{"$f":"T95*3600/1000/0.17625","v":4198.5815602836883},{"$f":"T95/J95*3.6","v":4363.0173789294577},740,{"$f":"S95/3.6","v":205.55555555555554},{"$f":"T95*8.314*F95/4*LN(H95/G95)/1000","v":332.58042822030842},{"$f":"W95*B95","v":1176},1176,"each",{"$f":"H95-G95","v":13.26}]
[]
[null,1,"VMY536H (DP<20 b)",5699,2950,298,1.05,4.2,null,{"$f":"$D$4*G97*273.15/(F97)*4/$D$3","v":0.16960739225420454},1.3,{"$f":"H97/G97","v":4},3,3.0769230769230766,{"$f":"R97/(B97*E97/$D$8*D97)","v":0.89075797158777581},{"$f":"(T97*8.314*F97/4*LN(H97/G97)/1000)/V97","v":0.49247744537033772},{"$f":"T97*3600/1000/0.17625","v":4885.1063829787236},{"$f":"T97/J97*3.6","v":5076.4296800787342},861,{"$f":"S97/3.6","v":239.16666666666666},{"$f":"T97*8.314*F97/4*LN(H97/G97)/1000","v":205.36309471943082},{"$f":"W97*B97","v":417},417,"each",{"$f":"H97-G97","v":3.1500000000000004}]
[null,1,"VMY536H (DP<20 b)",5699,2950,298,1.05,6.55,null,0.16960739225420454,1.3,6.2380952380952372,3,4.7985347985347975,0.86696304319460649,{"$f":"(T98*8.314*F98/4*LN(H98/G98)/1000)/V98","v":0.48430899155326818},{"$f":"T98*3600/1000/0.17625","v":4754.6099290780148},{"$f":"T98/J98*3.6","v":4940.8223831660625},838,{"$f":"S98/3.6","v":232.77777777777777},{"$f":"T98*8.314*F98/4*LN(H98/G98)/1000","v":263.94840039653116},{"$f":"W98*B98","v":545},545,"each",{"$f":"H98-G98","v":5.5}]
[null,1,"VMY536H (DP<20 b)",5699,2950,298,1.05,14.31,null,0.16960739225420454,1.3,13.628571428571428,3,10.483516483516484,0.78937088539079314,{"$f":"(T99*8.314*F99/4*LN(H99/G99)/1000)/V99","v":0.35134978224979968},{"$f":"T99*3600/1000/0.17625","v":4329.078014184397},{"$f":"T99/J99*3.6","v":4498.6246758421303},763,{"$f":"S99/3.6","v":211.94444444444443},{"$f":"T99*8.314*F99/4*LN(H99/G99)/1000","v":342.9173874758045},{"$f":"W99*B99","v":976},976,"each",{"$f":"H99-G99","v":13.26}]
[]
[null,1,"VMY536H (DP<20 b)",5699,2950,298,1.05,4.2,null,{"$f":"$D$4*G101*273.15/(F101)*4/$D$3","v":0.16960739225420454},1.3,{"$f":"H101/G101","v":4},4.8,3.0769230769230766,{"$f":"R101/(B101*E101/$D$8*D101)","v":0.90731096525258925},{"$f":"(T101*8.314*F101/4*LN(H101/G101)/1000)/V101","v":0.49451386745562459},{"$f":"T101*3600/1000/0.17625","v":4975.8865248226957},{"$f":"T101/J101*3.6","v":5170.7651909745064},877,{"$f":"S101/3.6","v":243.61111111111111},{"$f":"T101*8.314*F101/4*LN(H101/G101)/1000","v":209.1793659337292},{"$f":"W101*B101","v":423},423,"each",{"$f":"H101-G101","v":3.1500000000000004}]
[null,1,"VMY536H (DP<20 b)",5699,2950,298,1.05,6.55,null,0.16960739225420454,1.3,6.2380952380952372,4.8,4.7985347985347975,0.89489622000397917,{"$f":"(T102*8.314*F102/4*LN(H102/G102)/1000)/V102","v":0.54381777338640014},{"$f":"T102*3600/1000/0.17625","v":4907.8014184397161},{"$f":"T102/J102*3.6","v":5100.0135578026775},865,{"$f":"S102/3.6","v":240.27777777777777},{"$f":"T102*8.314*F102/4*LN(H102/G102)/1000","v":272.45270446658645},{"$f":"W102*B102","v":501},501,"each",{"$f":"H102-G102","v":5.5}]
[null,1,"VMY536H (DP<20 b)",5699,2950,298,1.05,14.31,null,0.16960739225420454,1.3,13.628571428571428,4.8,10.483516483516484,0.85247917373789461,{"$f":"(T103*8.314*F103/4*LN(H103/G103)/1000)/V103","v":0.48346318688436635},{"$f":"T103*3600/1000/0.17625","v":4675.177304964539},{"$f":"T103/J103*3.6","v":4858.2788111322616},824,{"$f":"S103/3.6","v":228.88888888888889},{"$f":"T103*8.314*F103/4*LN(H103/G103)/1000","v":370.33280115342461},{"$f":"W103*B103","v":766},766,"each",{"$f":"H103-G103","v":13.26}]
[]
[]
[null,1,"VMY536H (DP<20 b)",5699,2950,298,1.05,{"$f":"M106^K106*G106","v":4.2055991271539437},null,{"$f":"$D$4*G106*273.15/(F106)*4/$D$3","v":0.16960739225420454},1.6659999999999999,{"$f":"H106/G106","v":4.0053325020513748},2.2999999999999998,{"$f":"L106^1/(K106)","v":2.4041611656971038},{"$f":"R106/(B106*E106/$D$8*D106)","v":0.88351603685942004},{"$f":"(T106*8.314*F106/4*LN(H106/G106)/1000)/V106","v":0.46024656159820609},{"$f":"T106*3600/1000/0.17625","v":4845.3900709219861},{"$f":"T106/J106*3.6","v":5035.1578940618347},854,{"$f":"S106/3.6","v":237.22222222222223},{"$f":"T106*8.314*F106/4*LN(H106/G106)/1000","v":203.88922678800529},{"$f":"W106*B106","v":443},443,"each",{"$f":"H106-G106","v":3.1555991271539439}]
[null,1,"VMY536H (DP<20 b)",5699,2950,298,1.05,4.2,null,0.16960739225420454,1.6659999999999999,4,3,2.4009603841536618,0.89075797158777581,{"$f":"(T107*8.314*F107/4*LN(H107/G107)/1000)/V107","v":0.49247744537033772},{"$f":"T107*3600/1000/0.17625","v":4885.1063829787236},{"$f":"T107/J107*3.6","v":5076.4296800787342},861,{"$f":"S107/3.6","v":239.16666666666666},{"$f":"T107*8.314*F107/4*LN(H107/G107)/1000","v":205.36309471943082},{"$f":"W107*B107","v":417},417,"each",{"$f":"H107-G107","v":3.1500000000000004}]
[null,1,"VMY536H (DP<20 b)",5699,2950,298,1.05,4.2,null,0.16960739225420454,1.6659999999999999,4,4.8,2.4009603841536618,0.90731096525258925,{"$f":"(T108*8.314*F108/4*LN(H108/G108)/1000)/V108","v":0.49451386745562459},{"$f":"T108*3600/1000/0.17625","v":4975.8865248226957},{"$f":"T108/J108*3.6","v":5170.7651909745064},877,{"$f":"S108/3.6","v":243.61111111111111},{"$f":"T108*8.314*F108/4*LN(H108/G108)/1000","v":209.1793659337292},{"$f":"W108*B108","v":423},423,"each",{"$f":"H108-G108","v":3.1500000000000004}]
[]
[null,1,"VMY536H (DP<20 b)",5699,2950,298,1.05,6.55,null,{"$f":"$D$4*G110*273.15/(F110)*4/$D$3","v":0.16960739225420454},1.6659999999999999,{"$f":"H110/G110","v":6.2380952380952372},2.2999999999999998,3.744354884811067,{"$f":"R110/(B110*E110/$D$8*D110)","v":0.85661742215409808},{"$f":"(T110*8.314*F110/4*LN(H110/G110)/1000)/V110","v":0.42544642438558322},{"$f":"T110*3600/1000/0.17625","v":4697.8723404255325},{"$f":"T110/J110*3.6","v":4881.8626888562048},828,{"$f":"S110/3.6","v":230},{"$f":"T110*8.314*F110/4*LN(H110/G110)/1000","v":260.79865814836251},{"$f":"W110*B110","v":613},613,"each",{"$f":"H110-G110","v":5.5}]
[null,1,"VMY536H (DP<20 b)",5699,2950,298,1.05,{"$f":"M111^K111*G111","v":6.5474668677091667},null,0.16960739225420454,1.6659999999999999,6.235682731151587,3,3.7429068014115168,0.86696304319460649,{"$f":"(T111*8.314*F111/4*LN(H111/G111)/1000)/V111","v":0.48420665945666219},{"$f":"T111*3600/1000/0.17625","v":4754.6099290780148},{"$f":"T111/J111*3.6","v":4940.8223831660625},838,{"$f":"S111/3.6","v":232.77777777777777},{"$f":"T111*8.314*F111/4*LN(H111/G111)/1000","v":263.8926294038809},{"$f":"W111*B111","v":545},545,"each",{"$f":"H111-G111","v":5.4974668677091669},null,{"$f":"[3]!h_(11,H111,F111)-[3]!h_(11,G111,F111)","v":{"$error":"#VALUE!"}}]
[null,1,"VMY536H (DP<20 b)",5699,2950,298,1.05,6.55,null,0.16960739225420454,1.6659999999999999,6.2380952380952372,4.8,3.744354884811067,0.85247917373789461,{"$f":"(T112*8.314*F112/4*LN(H112/G112)/1000)/V112","v":0.33882344810586829},{"$f":"T112*3600/1000/0.17625","v":4675.177304964539},{"$f":"T112/J112*3.6","v":4858.2788111322616},824,{"$f":"S112/3.6","v":228.88888888888889},{"$f":"T112*8.314*F112/4*LN(H112/G112)/1000","v":259.5387612490951},{"$f":"W112*B112","v":766},766,"each",{"$f":"H112-G112","v":5.5}]
[]
[null,1,"VMY536H (DP<20 b)",5699,2950,298,1.05,14.31,null,{"$f":"$D$4*G114*273.15/(F114)*4/$D$3","v":0.16960739225420454},1.6659999999999999,{"$f":"H114/G114","v":13.628571428571428},2.2999999999999998,{"$f":"L114^1/(K114)","v":8.1804150231521184},{"$f":"R114/(B114*E114/$D$8*D114)","v":0.76557595699762371},{"$f":"(T114*8.314*F114/4*LN(H114/G114)/1000)/V114","v":0.28280648658189489},{"$f":"T114*3600/1000/0.17625","v":4198.5815602836883},{"$f":"T114/J114*3.6","v":4363.0173789294577},740,{"$f":"S114/3.6","v":205.55555555555554},{"$f":"T114*8.314*F114/4*LN(H114/G114)/1000","v":332.58042822030842},{"$f":"W114*B114","v":1176},1176,"each",{"$f":"H114-G114","v":13.26}]
[null,1,"VMY536H (DP<20 b)",5699,2950,298,1.05,14.31,null,0.16960739225420454,1.6659999999999999,13.628571428571428,3,8.1804150231521184,0.78937088539079314,{"$f":"(T115*8.314*F115/4*LN(H115/G115)/1000)/V115","v":0.35134978224979968},{"$f":"T115*3600/1000/0.17625","v":4329.078014184397},{"$f":"T115/J115*3.6","v":4498.6246758421303},763,{"$f":"S115/3.6","v":211.94444444444443},{"$f":"T115*8.314*F115/4*LN(H115/G115)/1000","v":342.9173874758045},{"$f":"W115*B115","v":976},976,"each",{"$f":"H115-G115","v":13.26}]
[null,1,"VMY536H (DP<20 b)",5699,2950,298,1.05,{"$f":"M116^K116*G116","v":14.326404216967706},null,0.16960739225420454,1.6659999999999999,13.644194492350195,4.8,8.1897926124550988,0.85247917373789461,{"$f":"(T116*8.314*F116/4*LN(H116/G116)/1000)/V116","v":0.48367523250044192},{"$f":"T116*3600/1000/0.17625","v":4675.177304964539},{"$f":"T116/J116*3.6","v":4858.2788111322616},824,{"$f":"S116/3.6","v":228.88888888888889},{"$f":"T116*8.314*F116/4*LN(H116/G116)/1000","v":370.49522809533852},{"$f":"W116*B116","v":766},766,"each",{"$f":"H116-G116","v":13.276404216967705}]
[]
[null,null,"TMCP"]
[]
[null,2,"VMY536H (DP<20 b)",5699,2280,298,3.4,20,null,{"$f":"$D$4*G120*273.15/(F120)*4/$D$3","v":0.54920488920409083},1.6659999999999999,{"$f":"H120/G120","v":5.882352941176471},4.8,{"$f":"L120^1/(K120)","v":3.53082409434362},{"$f":"R120/(B120*E120/$D$8*D120)","v":0.86190654083659157},{"$f":"(T120*8.314*F120/4*LN(H120/G120)/1000)/V120","v":0.58424377804482497},{"$f":"T120*3600/1000/0.17625","v":23659.574468085102},{"$f":"T120/J120*3.6","v":7592.7947510503309},{"$f":"2*2085","v":4170},{"$f":"S120/3.6","v":1158.3333333333333},{"$f":"T120*8.314*F120/4*LN(H120/G120)/1000","v":1271.3144610255392},{"$f":"W120*B120","v":2176},1088,"each",{"$f":"H120-G120","v":16.600000000000001}]
[null,2,"VMY536H (DP<20 b)",5699,2950,298,2.5,{"$f":"M121^K121*G121","v":15.589206827878968},null,0.40382712441477275,1.6659999999999999,6.235682731151587,3,3.7429068014115168,0.8294912037858847,{"$f":"(T121*8.314*F121/4*LN(H121/G121)/1000)/V121","v":0.51381089440875571},{"$f":"T121*3600/1000/0.17625","v":21662.411347517729},{"$f":"T121/J121*3.6","v":9454.540740751514},{"$f":"2*1909","v":3818},{"$f":"S121/3.6","v":1060.5555555555554},{"$f":"T121*8.314*F121/4*LN(H121/G121)/1000","v":1202.3174929164884},{"$f":"W121*B121","v":2340},{"$f":"1170","v":1170},"each",{"$f":"H121-G121","v":13.089206827878968}]
[]
[null,null,"LPcompressor        (1,05 - 4,2bara, Vi=2,3,t1=25°C)"]
[null,1,"VMY536B (DP<8 b)",9937,3600,298,1.05,{"$f":"M124^K124*G124","v":4.2055991271539437},null,{"$f":"$D$4*G124*273.15/(F124)*4/$D$3","v":0.16960739225420454},1.6659999999999999,{"$f":"H124/G124","v":4.0053325020513748},2.2999999999999998,{"$f":"L124^1/(K124)","v":2.4041611656971038},{"$f":"R124/(B124*E124/$D$8*D124)","v":0.87565526115515968},{"$f":"(T124*8.314*F124/4*LN(H124/G124)/1000)/V124","v":0.4507147244502348},{"$f":"T124*3600/1000/0.17625","v":10218.439716312057},{"$f":"T124/J124*3.6","v":10618.640945205343},1801,{"$f":"S124/3.6","v":500.27777777777777},{"$f":"T124*8.314*F124/4*LN(H124/G124)/1000","v":429.98184712552398},{"$f":"W124*B124","v":954},954,"each",{"$f":"H124-G124","v":3.1555991271539439}]
[null,1,"VMY536B (DP<8 b)",9937,2950,298,1.05,4.2055991271539437,null,0.16960739225420454,1.6659999999999999,4.0053325020513748,2.2999999999999998,2.4041611656971038,0.87516905612397988,{"$f":"(T125*8.314*F125/4*LN(H125/G125)/1000)/V125","v":0.44917167936049418},{"$f":"T125*3600/1000/0.17625","v":8368.7943262411354},{"$f":"T125/J125*3.6","v":8696.5549107039878},1475,{"$f":"S125/3.6","v":409.72222222222223},{"$f":"T125*8.314*F125/4*LN(H125/G125)/1000","v":352.15059661862745},{"$f":"W125*B125","v":784},784,"each",{"$f":"H125-G125","v":3.1555991271539439}]
[]
[null,2,"VMY536H (DP<20 b)",5699,3600,298,1.05,{"$f":"M127^K127*G127","v":4.2055991271539437},null,{"$f":"$D$4*G127*273.15/(F127)*4/$D$3","v":0.16960739225420454},1.6659999999999999,{"$f":"H127/G127","v":4.0053325020513748},2.2999999999999998,{"$f":"L127^1/(K127)","v":2.4041611656971038},{"$f":"R127/(B127*E127/$D$8*D127)","v":0.88930671085848212},{"$f":"(T127*8.314*F127/4*LN(H127/G127)/1000)/V127","v":0.46207514647937969},{"$f":"T127*3600/1000/0.17625","v":11903.546099290781},{"$f":"T127/J127*3.6","v":12369.743866208111},{"$f":"2*1049","v":2098},{"$f":"S127/3.6","v":582.77777777777771},{"$f":"T127*8.314*F127/4*LN(H127/G127)/1000","v":500.88945878364757},{"$f":"W127*B127","v":1084},542,"each",{"$f":"H127-G127","v":3.1555991271539439}]
[null,2,"VMY536H (DP<20 b)",5699,2950,298,1.05,4.2055991271539437,null,0.16960739225420454,1.6659999999999999,4.0053325020513748,2.2999999999999998,2.4041611656971038,{"$f":"R128/(B128*E128/$D$8*D128)","v":0.88351603685942004},{"$f":"(T128*8.314*F128/4*LN(H128/G128)/1000)/V128","v":0.46024656159820609},{"$f":"T128*3600/1000/0.17625","v":9690.7801418439722},{"$f":"T128/J128*3.6","v":10070.315788123669},{"$f":"2*854","v":1708},{"$f":"S128/3.6","v":474.44444444444446},{"$f":"T128*8.314*F128/4*LN(H128/G128)/1000","v":407.77845357601058},{"$f":"W128*B128","v":886},443,"each",{"$f":"H128-G128","v":3.1555991271539439}]
[]
[null,null,"HPcompressor        (4,2 - 16,84bara, Vi=2,3,t1=30°C)"]
[null,1,"VMY536H (DP<20 b)",5699,2950,{"$f":"273+30","v":303},4.2,{"$f":"M131^K131*G131","v":16.822396508615775},null,{"$f":"$D$4*G131*273.15/(F131)*4/$D$3","v":0.66723436160729976},1.6659999999999999,{"$f":"H131/G131","v":4.0053325020513748},2.2999999999999998,{"$f":"L131^1/(K131)","v":2.4041611656971038},{"$f":"R131/(B131*E131/$D$8*D131)","v":0.37632456911217882},{"$f":"(T131*8.314*F131/4*LN(H131/G131)/1000)/V131","v":0.24275197537355045},{"$f":"T131*3600/1000/0.17625","v":8119.1489361702133},{"$f":"T131/J131*3.6","v":2144.673719370307},1431,{"$f":"S131/3.6","v":397.5},{"$f":"T131*8.314*F131/4*LN(H131/G131)/1000","v":347.37807675955071},{"$f":"W131*B131","v":1431},1431,"each",{"$f":"H131-G131","v":12.622396508615775}]
[null,1,"VMY536M (DP<16 b)",7459,2950,298,4.2,16.822396508615775,null,0.67842956901681817,1.6659999999999999,4.0053325020513748,2.2999999999999998,2.4041611656971038,{"$f":"R132/(B132*E132/$D$8*D132)","v":0.82424214025477882},{"$f":"(T132*8.314*F132/4*LN(H132/G132)/1000)/V132","v":0.53423297392023528},{"$f":"T132*3600/1000/0.17625","v":23665.248226950356},{"$f":"T132/J132*3.6","v":6148.0221241603949},4171,{"$f":"S132/3.6","v":1158.6111111111111},{"$f":"T132*8.314*F132/4*LN(H132/G132)/1000","v":995.81026338731863},{"$f":"W132*B132","v":1864},1864,"each",{"$f":"H132-G132","v":12.622396508615775}]
[]
[]
[]
[null,null,null,null,"Pin stage 1","bar abs",1.05,1.05,null,"Pin stage 1","bar abs",1.05,1.05,1.05,null,null,3.5]
[null,null,null,null,"Vi stage 1",null,2.2999999999999998,3,null,"Vi stage 1",null,2.2999999999999998,3,4.8,null,null,4.8]
[null,null,null,null,"Gamme",null,1.6659999999999999,1.6659999999999999,null,"Gamme",null,1,1,1,null,null,1.1000000000000001]
[null,null,null,null,"Pint","bar abs",{"$f":"G136*G137^G138","v":4.2055991271539437},6.5474668677091667,null,"Pint","bar abs",{"$f":"L136*L137^L138","v":2.415},3.1500000000000004,5.04,null,null,{"$f":"Q136*Q137^Q138","v":19.653205960249572}]
[null,null,null,null,"Vi stage 2",null,2.2999999999999998,3,null,"Vi stage 2",null,2.2999999999999998,3,3,null,null,3]
[null,null,null,null,"gamma",null,1.6659999999999999,1.6659999999999999,null,"gamma",null,1,1,1,null,null,1]
[null,null,null,null,"Pout stage 2","bar abs",{"$f":"G139*G140^G141","v":16.844822874588584},40.827926079761227,null,"Pout stage 2","bar abs",{"$f":"L139*L140^L141","v":5.5545},9.4500000000000011,15.120000000000001,null,null,{"$f":"Q139*Q140^Q141","v":58.959617880748716}]
[]
[]
[]
[null,null,null,null,null,null,null,null,null,null,null,1.05,1.05,1.05]
[null,null,null,null,null,null,null,null,null,null,null,2.2999999999999998,3,4.8]
[null,null,null,null,null,null,null,null,null,null,null,1.1000000000000001,1.1000000000000001,1.1000000000000001]
[null,null,null,null,null,null,null,null,null,null,null,{"$f":"L146*L147^L148","v":2.6247619321015989},3.5157879982067994,5.8959617880748727]
[null,null,null,null,null,null,null,null,null,null,null,2.2999999999999998,3,3]
[null,null,null,null,null,null,null,null,null,null,null,1.1000000000000001,1.1000000000000001,1.1000000000000001]
[null,null,null,null,null,null,null,null,null,null,null,{"$f":"L149*L150^L151","v":6.5613097144854455},11.772157379366641,19.741858754666229]
[]
[null,null,null,null,null,null,null,null,null,null,null,1.05,1.05,1.05]
[null,null,null,null,null,null,null,null,null,null,null,2.2999999999999998,3,4.8]
[null,null,null,null,null,null,null,null,null,null,null,1.2,1.2,1.2]
[null,null,null,null,null,null,null,null,null,null,null,{"$f":"L154*L155^L156","v":2.8527433541241067},3.92405245978888,6.8972947234998063]
[null,null,null,null,null,null,null,null,null,null,null,2.2999999999999998,3,3]
[null,null,null,null,null,null,null,null,null,null,null,1.2,1.2,1.2]
[null,null,null,null,null,null,null,null,null,null,null,{"$f":"L157*L158^L159","v":7.75061394714215},14.664940673500151,25.776520310131691]
[]
[]
[]
[null,null,null,"Displ @ 2950rpm","Rotation","Tin","Pin","Pout","Pout","Rho_in","gamma","Pr","Vi","Vi\nideal","Vol_%","Iso_%","Nm3/h","A_m3/h","kg/h","g/s"]
[]
[null,null,"LP STAGE (509 g/s)"]
[null,2,"VMY536H (DP<20 b)",5699,3100,298,1.05,5,null,{"$f":"$D$4*G167*273.15/(F167)*4/$D$3","v":0.16960739225420454},1.3,{"$f":"H167/G167","v":4.7619047619047619},4.8,{"$f":"L167^1/(K167)","v":3.6630036630036629},{"$f":"R167/(B167*E167/$D$8*D167)","v":0.45237896648178028},{"$f":"(T167*8.314*F167/4*LN(H167/G167)/1000)/V167","v":0.2608513310990383},{"$f":"T167*3600/1000/0.17625","v":5214.1843971631206},{"$f":"T167/J167*3.6","v":5418.3959070759083},919,{"$f":"S167/3.6","v":255.27777777777777},{"$f":"T167*8.314*F167/4*LN(H167/G167)/1000","v":246.76535921969025},{"$f":"W167*B167","v":946},473,"each",{"$f":"H167-G167","v":3.95}]
[null,2,"VMY536H (DP<20 b)",5699,3600,298,1.05,4.2,null,0.16960739225420454,1.3,4,2.2999999999999998,3.0769230769230766,0.44465335542924106,{"$f":"(T168*8.314*F168/4*LN(H168/G168)/1000)/V168","v":0.23081575782973854},{"$f":"T168*3600/1000/0.17625","v":5951.7730496453905},{"$f":"T168/J168*3.6","v":6184.8719331040556},1049,{"$f":"S168/3.6","v":291.38888888888886},{"$f":"T168*8.314*F168/4*LN(H168/G168)/1000","v":250.20428148743659},{"$f":"W168*B168","v":1084},542,"each",{"$f":"H168-G168","v":3.1500000000000004}]
[null,2,"VMY536H (DP<20 b)",5699,2950,298,1.05,5,null,{"$f":"$D$4*G169*273.15/(F169)*4/$D$3","v":0.16960739225420454},1.3,{"$f":"H169/G169","v":4.7619047619047619},4.8,{"$f":"L169^1/(K169)","v":3.6630036630036629},{"$f":"R169/(B169*E169/$D$8*D169)","v":0.451586358418193},{"$f":"(T169*8.314*F169/4*LN(H169/G169)/1000)/V169","v":0.26103971659762548},{"$f":"T169*3600/1000/0.17625","v":4953.1914893617022},{"$f":"T169/J169*3.6","v":5147.181313250564},873,{"$f":"S169/3.6","v":242.5},{"$f":"T169*8.314*F169/4*LN(H169/G169)/1000","v":234.41366550466768},{"$f":"W169*B169","v":898},449,"each",{"$f":"H169-G169","v":3.95}]
[null,2,"VMY536H (DP<20 b)",5699,2950,298,1.05,4.2,null,0.16960739225420454,1.3,4,2.2999999999999998,3.0769230769230766,0.44175801842971002,{"$f":"(T170*8.314*F170/4*LN(H170/G170)/1000)/V170","v":0.2299023431864281},{"$f":"T170*3600/1000/0.17625","v":4845.3900709219861},{"$f":"T170/J170*3.6","v":5035.1578940618347},854,{"$f":"S170/3.6","v":237.22222222222223},{"$f":"T170*8.314*F170/4*LN(H170/G170)/1000","v":203.6934760631753},{"$f":"W170*B170","v":886},443,"each",{"$f":"H170-G170","v":3.1500000000000004}]
[]
[null,null,"HP STAGE (969 g/s)"]
[null,1,"VMY536H (DP<20 b)",5699,2950,298,5,20,null,{"$f":"$D$4*G173*273.15/(F173)*4/$D$3","v":0.80765424882954551},1.3,{"$f":"H173/G173","v":4},3,{"$f":"L173^1/(K173)","v":3.0769230769230766},{"$f":"R173/(B173*E173/$D$8*D173)","v":0.83101201007883951},{"$f":"(T173*8.314*F173/4*LN(H173/G173)/1000)/V173","v":0.56177791697549462},{"$f":"T173*3600/1000/0.17625","v":21702.127659574468},{"$f":"T173/J173*3.6","v":4735.9374454393064},3825,{"$f":"S173/3.6","v":1062.5},{"$f":"T173*8.314*F173/4*LN(H173/G173)/1000","v":912.32733716820326},{"$f":"W173*B173","v":1624},1624,"each",{"$f":"H173-G173","v":15}]
[null,1,"VMY536H (DP<20 b)",5699,2950,298,4.5999999999999996,20,null,0.74304190892318167,1.3,4.3478260869565224,3,3.344481605351171,0.82392750871414366,{"$f":"(T174*8.314*F174/4*LN(H174/G174)/1000)/V174","v":0.55767333040809175},{"$f":"T174*3600/1000/0.17625","v":19795.744680851065},{"$f":"T174/J174*3.6","v":4695.562872161905},3489,{"$f":"S174/3.6","v":969.16666666666663},{"$f":"T174*8.314*F174/4*LN(H174/G174)/1000","v":882.23920870560107},{"$f":"W174*B174","v":1582},1582,"each",{"$f":"H174-G174","v":15.4}]
[null,1,"VMY536H (DP<20 b)",5699,2950,298,4.2,16.84,null,0.67842956901681817,1.3,4.0095238095238095,2.2999999999999998,3.0842490842490839,0.82428735640250916,{"$f":"(T175*8.314*F175/4*LN(H175/G175)/1000)/V175","v":0.5321156742912253},{"$f":"T175*3600/1000/0.17625","v":18082.2695035461},{"$f":"T175/J175*3.6","v":4697.6136441378994},3187,{"$f":"S175/3.6","v":885.27777777777771},{"$f":"T175*8.314*F175/4*LN(H175/G175)/1000","v":761.45752991074346},{"$f":"W175*B175","v":1431},1431,"each",{"$f":"H175-G175","v":12.64}]
[]
[]
[null,1,"VMY536H (DP<20 b)",5699,2950,298,1.03,3.97,null,{"$f":"$D$4*G178*273.15/(F178)*4/$D$3","v":0.16637677525888639},1.3,{"$f":"H178/G178","v":3.854368932038835},3,{"$f":"L178^1/(K178)","v":2.9648991784914114},{"$f":"R178/(B178*E178/$D$8*D178)","v":3.36117174455392},{"$f":"(T178*8.314*F178/4*LN(H178/G178)/1000)/V178","v":0.51699328437931047},{"$f":"T178*3600/1000/0.17625","v":18082.2695035461},{"$f":"T178/J178*3.6","v":19155.317772212791},3187,{"$f":"S178/3.6","v":885.27777777777771},{"$f":"T178*8.314*F178/4*LN(H178/G178)/1000","v":739.81738994679324},{"$f":"W178*B178","v":1431},1431,"each",{"$f":"H178-G178","v":2.9400000000000004}]
[]
[]
[]
[]
[]
[null,null,null,null,null,null,0.5,"m3/day NTP"]

{"sheet":"Sheet3","index":4,"n_rows":20,"n_cols":14,"rows_kept":20,"cut":false,"hidden":false,"merged":[]}
[]
[]
[]
[]
[null,null,null,null,null,null,"L = 2.63"]
[null,null,"M for Pin =1,05 and 2",null,null,null,"M = 3.65"]
[null,null,"M for Pin =4"]
[null,null,"320MUD"]
[null,null,null,"Vol eff pi=1.05",null,"Vol eff pi=2",null,"Vol eff pi=4",null,"Iso eff pi=1.05",null,"Iso eff pi=2",null,"Iso eff pi=4"]
[null,null,1.98886815723727,0.91839809296781905,1.98886815723727,0.94158124751688499,1.98886815723727,0.94349463647199006,1.9869706840390799,0.31405641636869169,3.0089708316203301,0.56657926102502898,1.99772303216216,0.59045689312673799]
[null,null,3.0043958129091299,0.91652920143027394,3.0030675816704,0.93852205005959499,3.0132506878340202,0.91372586412395695,2.99790223796421,0.43141835518474303,1.9869706840390799,0.43734207389749602,2.99790223796421,0.63721891140246301]
[null,null,5.0086967521583698,0.9143265792610249,4.0014547294519396,0.91616209773539903,4.0058821669143798,0.87611442193087008,4.0051442606706402,0.48398092967818701,4.0088337918893497,0.59361144219308604,4.0051442606706402,0.59550258243941101]
[null,null,5.9960153062837902,0.90848629320619789,4.9976281585022502,0.89196662693682893,5.0086967521583698,0.8362336114421931,4.9976281585022502,0.50266984505363399,4.9954144397710296,0.5800953516090579,4.9976281585022502,0.53737783075089296]
[null,null,7.0054710477214401,0.89563766388557808,5.9938015875525696,0.87500198649185501,5.9915878688213402,0.79368295589988103,5.9938015875525696,0.50350417163289496,5.9884886625976304,0.56050536352800906,5.9974911187712703,0.47814064362336001]
[null,null,7.9972170393093096,0.87972983710766806,7.0084226726964101,0.85664680174811303,null,null,7.0054710477214401,0.49265792610250203,7.0032573289902196,0.53434088200238294]
[null,null,8.99339046835963,0.863321414382201,8.0082856329654302,0.83745729042510897,null,null,7.9972170393093096,0.47613825983313396,8.0045961017467206,0.506507747318235]
[null,null,9.9969429598473507,0.84830353595550201,8.99339046835963,0.81910210568136588,null,null,9.0044590620157408,0.45911799761620897,8.9970799995783306,0.47619388160508502]
[null,null,11.004184982553801,0.83161700437028196,10.000632491066099,0.79629717918156495,null,null,9.9939913348723906,0.439761620977353,9.9969429598473507,0.44671434247119501]
[null,null,12.004047942822799,0.81520858164481491,null,null,null,null,11.001233357578799,0.42040524433849702]
[null,null,null,null,null,null,null,null,11.995193067897899,0.40121573301549396]

{"sheet":"MYCOM","index":5,"n_rows":98,"n_cols":33,"rows_kept":98,"cut":false,"hidden":false,"merged":[]}
[]
[]
[null,null,"air molar mass",28.958600656000002]
[null,null,"air density",1.2758162153163073]
[null,null,"gamma",{"$f":"1.66","v":1.66},null,null,null,null,null,null,null,null,null,null,null,null,null,null,null,null,null,null,null,null,null,null,null,null,null,null,null,"JCI","JCI"]
[null,null,null,null,null,null,null,null,null,null,null,null,null,null,null,null,null,null,null,null,null,null,null,null,null,null,null,null,"P1",1,4.88,1.01,4.88]
[null,null,null,{"$f":"D8/60","v":49.166666666666664},"Hz",null,null,null,null,null,null,null,null,null,null,null,null,null,null,null,null,null,null,null,null,null,null,null,"P2",5.48,22.5,5,22.5]
[null,null,null,2950,"RPm",null,null,null,null,null,null,null,null,null,null,null,null,null,null,null,null,null,null,null,null,null,null,null,"Vi",3.65,2.63,4.04,3.43]
[null,null,null,null,null,null,null,null,null,null,null,null,null,null,null,null,null,null,null,null,null,null,null,null,null,null,null,null,"gamma",{"$f":"LN(AD7/AD6)/LN(AD8)","v":1.3138714808314198},{"$f":"LN(AE7/AE6)/LN(AE8)","v":1.5805539000136823},{"$f":"LN(AF7/AF6)/LN(AF8)","v":1.1455639479070587},{"$f":"LN(AG7/AG6)/LN(AG8)","v":1.2399962399280915}]
[null,null,null,"Displacement @ 2950 RPM \nm3/h","Rotation","Tin","Pin","Pout","Rho_in","Pr",null,null,"Vi_ideal","Vol_%","Iso_%","Nm3/h","A_m3/h"]
[]
[null,1,"320 SUD",3170,2950,298,1.05,4,{"$f":"1.27581621531631*G12*273.15/(F12)*4/28.958600656","v":0.1696073922542049},{"$f":"H12/G12","v":3.8095238095238093},null,null,{"$f":"J12^1/($D$5)","v":2.2948938611589216},{"$f":"IF(G12>3,extrapol_(J12,Vol_ratio,Vol_MP_HP)/100,extrapol_(J12,Vol_ratio,Vol_LPL_MP)/100)","v":0.87052380952380959},{"$f":"IF(G12>3,extrapol_(J12,IsoT_ratio,IsoT_MP_HP)/100,extrapol_(J12,IsoT_ratio,IsoT_LPL_MP)/100)","v":{"$error":"#VALUE!"}},{"$f":"R12*3600/1000/0.17625","v":2655.5566305500065},{"$f":"E12/$D$8*N12*D12","v":2759.5604761904765},{"$f":"Q12*I12*1000/3600*B12","v":130.01162670401072},null,{"$f":"R12*8.314*F12/4*LN(H12/G12)/O12/1000","v":{"$error":"#VALUE!"}},null,null,"320 VSD",3168.5746478873239]
[null,1,"320 MUD",3960,2950,298,1.05,4,{"$f":"1.27581621531631*G13*273.15/(F13)*4/28.958600656","v":0.1696073922542049},{"$f":"H13/G13","v":3.8095238095238093},null,null,{"$f":"J13^1/($D$5)","v":2.2948938611589216},{"$f":"IF(G13>3,extrapol_(J13,Vol_ratio,Vol_MP_HP)/100,extrapol_(J13,Vol_ratio,Vol_LPL_MP)/100)","v":0.87052380952380959},{"$f":"IF(G13>3,extrapol_(J13,IsoT_ratio,IsoT_MP_HP)/100,extrapol_(J13,IsoT_ratio,IsoT_LPL_MP)/100)","v":{"$error":"#VALUE!"}},{"$f":"R13*3600/1000/0.17625","v":3317.3515006239832},{"$f":"E13/$D$8*N13*D13","v":3447.2742857142862},162.4120005513825,null,{"$error":"#VALUE!"},null,null,"320 MUD",4000,null,"Y",2.41]
[null,1,"320 L",4740,2950,298,1.05,4,0.1696073922542049,3.8095238095238093,null,null,2.2948938611589216,{"$f":"IF(G14>3,extrapol_(J14,Vol_ratio,Vol_MP_HP)/100,extrapol_(J14,Vol_ratio,Vol_LPL_MP)/100)","v":0.87052380952380959},{"$f":"IF(G14>3,extrapol_(J14,IsoT_ratio,IsoT_MP_HP)/100,extrapol_(J14,IsoT_ratio,IsoT_LPL_MP)/100)","v":{"$error":"#VALUE!"}},3970.7692204438581,4126.2828571428572,194.40224308423055,null,{"$error":"#VALUE!"},null,null,"320 L",4740,null,"N",2.4500000000000002]
[null,1,"320 VLD",4717.2507042253519,2950,298,1.05,4,0.1696073922542049,3.8095238095238093,null,null,2.2948938611589216,{"$f":"IF(G15>3,extrapol_(J15,Vol_ratio,Vol_MP_HP)/100,extrapol_(J15,Vol_ratio,Vol_LPL_MP)/100)","v":0.87052380952380959},{"$f":"IF(G15>3,extrapol_(J15,IsoT_ratio,IsoT_MP_HP)/100,extrapol_(J15,IsoT_ratio,IsoT_LPL_MP)/100)","v":{"$error":"#VALUE!"}},3951.7117935559368,4106.4790535211268,193.46922322617604,null,{"$error":"#VALUE!"},null,null,"320 VLD",4717.2507042253519,null,"K",2.2200000000000002]
[null,1,"320 LLUD",5600,2950,298,1.05,4,0.1696073922542049,3.8095238095238093,null,null,2.2948938611589216,{"$f":"IF(G16>3,extrapol_(J16,Vol_ratio,Vol_MP_HP)/100,extrapol_(J16,Vol_ratio,Vol_LPL_MP)/100)","v":0.87052380952380959},{"$f":"IF(G16>3,extrapol_(J16,IsoT_ratio,IsoT_MP_HP)/100,extrapol_(J16,IsoT_ratio,IsoT_LPL_MP)/100)","v":{"$error":"#VALUE!"}},4691.2041422965412,4874.9333333333334,229.67353613326813,null,{"$error":"#VALUE!"},null,null,"320 LLUD",5600,null,"L",2.63]
[null,1,"400SUD",6480,2950,298,1.05,4,0.1696073922542049,3.8095238095238093,null,null,2.2948938611589216,{"$f":"IF(G17>3,extrapol_(J17,Vol_ratio,Vol_MP_HP)/100,extrapol_(J17,Vol_ratio,Vol_LPL_MP)/100)","v":0.87052380952380959},{"$f":"IF(G17>3,extrapol_(J17,IsoT_ratio,IsoT_MP_HP)/100,extrapol_(J17,IsoT_ratio,IsoT_LPL_MP)/100)","v":{"$error":"#VALUE!"}},5428.393364657426,5640.994285714286,265.76509181135316,null,{"$error":"#VALUE!"},null,null,"400SUD",6463.0309859154931,null,"M",3.65]
[null,1,"400MUD",8026.6140845070422,2950,298,1.05,4,0.1696073922542049,3.8095238095238093,null,null,2.2948938611589216,{"$f":"IF(G18>3,extrapol_(J18,Vol_ratio,Vol_MP_HP)/100,extrapol_(J18,Vol_ratio,Vol_LPL_MP)/100)","v":0.87052380952380959},{"$f":"IF(G18>3,extrapol_(J18,IsoT_ratio,IsoT_MP_HP)/100,extrapol_(J18,IsoT_ratio,IsoT_LPL_MP)/100)","v":{"$error":"#VALUE!"}},6724.0152217598561,6987.3586704225354,329.19657856532626,null,{"$error":"#VALUE!"},null,null,"400MUD",8026.6140845070422,null,"H",5.8]
[null,1,"400LUD",9702,2950,298,1.05,4,0.1696073922542049,3.8095238095238093,null,null,2.2948938611589216,{"$f":"IF(G19>3,extrapol_(J19,Vol_ratio,Vol_MP_HP)/100,extrapol_(J19,Vol_ratio,Vol_LPL_MP)/100)","v":0.87052380952380959},{"$f":"IF(G19>3,extrapol_(J19,IsoT_ratio,IsoT_MP_HP)/100,extrapol_(J19,IsoT_ratio,IsoT_LPL_MP)/100)","v":{"$error":"#VALUE!"}},8127.5111765287566,8445.8220000000001,397.90940135088704,null,{"$error":"#VALUE!"},null,null,"400LUD",9702]
[null,1,"400LLUD",11434.529577464789,2950,298,1.05,4,0.1696073922542049,3.8095238095238093,null,null,2.2948938611589216,{"$f":"IF(G20>3,extrapol_(J20,Vol_ratio,Vol_MP_HP)/100,extrapol_(J20,Vol_ratio,Vol_LPL_MP)/100)","v":0.87052380952380959},{"$f":"IF(G20>3,extrapol_(J20,IsoT_ratio,IsoT_MP_HP)/100,extrapol_(J20,IsoT_ratio,IsoT_LPL_MP)/100)","v":{"$error":"#VALUE!"}},9578.8772355384172,9954.0302478873255,468.96586465656833,null,{"$error":"#VALUE!"},null,null,"400LLUD",11434.529577464789]
[]
[]
[null,null,"5kW@4,5K",null,"Rotation","Tin","Pin","Pout","Rho_in","Pr","gamma","Vi","Vi_ideal","Vol_%","Iso_%","Nm3/h","A_m3/h"]
[null,null,"LP STAGE (298 g/s)"]
[null,2,"320 MUD",4000,2950,{"$f":"273+40","v":313},1.04,5.33,{"$f":"$D$4*G25*273.15/(F25)*4/$D$3","v":0.15994134491837239},{"$f":"H25/G25","v":5.125},{"$f":"LN(J25)/LN(L25)","v":1.6703331199602607},2.66,{"$f":"J25^1/(1.66)","v":3.0873493975903616},0.91300000000000003,0.53,{"$f":"R25*3600/1000/0.17625","v":6628.1508271420826},{"$f":"E25/$D$8*N25*D25","v":3652},{"$f":"Q25*I25*1000/3600*B25","v":324.50321757883114},{"$f":"R25*3.6","v":1168.2115832837922},{"$f":"R25*8.314*F25/4*LN(H25/G25)/O25/1000","v":650.9149504606462},{"$f":"T25/B25","v":325.4574752303231},"each"]
[null,null,"HP STAGE (568 g/s)"]
[null,1,"320 SUD",3170,2950,{"$f":"273+40","v":313},5.29,20.03,{"$f":"$D$4*G27*273.15/(F27)*4/$D$3","v":0.81354780251749026},3.7863894139886582,{"$f":"LN(J27)/LN(L27)","v":1.6694682012635573},2.2200000000000002,{"$f":"J27^1/(1.66)","v":2.2809574783064206},{"$f":"IF(G27>3,extrapol_(J27,Vol_ratio,Vol_MP_HP)/100,extrapol_(J27,Vol_ratio,Vol_LPL_MP)/100)","v":0.7882816635160681},{"$f":"IF(G27>3,extrapol_(J27,IsoT_ratio,IsoT_MP_HP)/100,extrapol_(J27,IsoT_ratio,IsoT_LPL_MP)/100)","v":{"$error":"#VALUE!"}},11534.390149929661,{"$f":"E27/$D$8*N27*D27","v":2498.8528733459357},{"$f":"Q27*I27*1000/3600*B27","v":564.7045177569729},null,{"$f":"R27*8.314*F27/4*LN(H27/G27)/O27/1000","v":{"$error":"#VALUE!"}},{"$f":"T27/B27","v":{"$error":"#VALUE!"}},"each"]
[null,null,"10kW@4,5K",null,"Rotation","Tin","Pin","Pout","Rho_in","Pr",null,null,"Vi_ideal","Vol_%","Iso_%","Nm3/h","A_m3/h"]
[null,null,"LP STAGE (509 g/s)"]
[null,2,"400SUD",6480,2950,{"$f":"273+40","v":313},1.04,4.53,{"$f":"$D$4*G30*273.15/(F30)*4/$D$3","v":0.15994134491837239},{"$f":"H30/G30","v":4.3557692307692308},{"$f":"LN(J30)/LN(L30)","v":1.504100925098262},2.66,{"$f":"J30^1/(1.66)","v":2.6239573679332717},{"$f":"IF(G30>3,extrapol_(J30,Vol_ratio,Vol_MP_HP)/100,extrapol_(J30,Vol_ratio,Vol_LPL_MP)/100)","v":0.86544230769230779},{"$f":"IF(G30>3,extrapol_(J30,IsoT_ratio,IsoT_MP_HP)/100,extrapol_(J30,IsoT_ratio,IsoT_LPL_MP)/100)","v":{"$error":"#VALUE!"}},{"$f":"R30*3600/1000/0.17625","v":10178.28814794165},{"$f":"E30/$D$8*N30*D30","v":5608.0661538461545},{"$f":"Q30*I30*1000/3600*B30","v":498.31202390964324},{"$f":"R30*3.6","v":1793.9232860747156},{"$f":"R30*8.314*F30/4*LN(H30/G30)/O30/1000","v":{"$error":"#VALUE!"}},{"$f":"T30/B30","v":{"$error":"#VALUE!"}},"each"]
[null,null,"HP STAGE (969 g/s)"]
[null,1,"400SUD",6480,2950,{"$f":"273+40","v":313},4.49,20.03,{"$f":"$D$4*G32*273.15/(F32)*4/$D$3","v":0.69051599873412683},{"$f":"H32/G32","v":4.4610244988864141},{"$f":"LN(J32)/LN(L32)","v":1.8750657745045836},2.2200000000000002,{"$f":"J32^1/($D$13)","v":1.1265213381026298E-3},{"$f":"IF(G32>3,extrapol_(J32,Vol_ratio,Vol_MP_HP)/100,extrapol_(J32,Vol_ratio,Vol_LPL_MP)/100)","v":0.78331180400890876},{"$f":"IF(G32>3,extrapol_(J32,IsoT_ratio,IsoT_MP_HP)/100,extrapol_(J32,IsoT_ratio,IsoT_LPL_MP)/100)","v":{"$error":"#VALUE!"}},{"$f":"R32*3600/1000/0.17625","v":19886.314188210305},{"$f":"E32/$D$8*N32*D32","v":5075.8604899777292},{"$f":"Q32*I32*1000/3600*B32","v":973.60079879779619},null,{"$f":"R32*8.314*F32/4*LN(H32/G32)/O32/1000","v":{"$error":"#VALUE!"}},{"$f":"T32/B32","v":{"$error":"#VALUE!"}},"each"]
[null,null,"25kW  @4,5K",null,"Rotation","Tin","Pin","Pout","Rho_in","Pr",null,null,"Vi_ideal","Vol_%","Iso_%","Nm3/h","A_m3/h"]
[null,null,"LP STAGE (1030 g/s)"]
[null,4,"400SUD",6480,2950,{"$f":"273+40","v":313},1.04,4.53,{"$f":"$D$4*G35*273.15/(F35)*4/$D$3","v":0.15994134491837239},{"$f":"H35/G35","v":4.3557692307692308},null,null,{"$f":"J35^1/(1.66)","v":2.6239573679332717},{"$f":"IF(G35>3,extrapol_(J35,Vol_ratio,Vol_MP_HP)/100,extrapol_(J35,Vol_ratio,Vol_LPL_MP)/100)","v":0.86544230769230779},{"$f":"IF(G35>3,extrapol_(J35,IsoT_ratio,IsoT_MP_HP)/100,extrapol_(J35,IsoT_ratio,IsoT_LPL_MP)/100)","v":{"$error":"#VALUE!"}},{"$f":"R35*3600/1000/0.17625","v":20356.5762958833},{"$f":"E35/$D$8*N35*D35","v":5608.0661538461545},{"$f":"Q35*I35*1000/3600*B35","v":996.62404781928649},{"$f":"R35*3.6","v":3587.8465721494313},{"$f":"R35*8.314*F35/4*LN(H35/G35)/O35/1000","v":{"$error":"#VALUE!"}},{"$f":"T35/B35","v":{"$error":"#VALUE!"}},"each"]
[null,null,"HP STAGE (1962 g/s)"]
[null,2,"400SUD",6480,2950,{"$f":"273+40","v":313},4.49,20.03,{"$f":"$D$4*G37*273.15/(F37)*4/$D$3","v":0.69051599873412683},{"$f":"H37/G37","v":4.4610244988864141},null,null,{"$f":"J37^1/($D$13)","v":1.1265213381026298E-3},{"$f":"IF(G37>3,extrapol_(J37,Vol_ratio,Vol_MP_HP)/100,extrapol_(J37,Vol_ratio,Vol_LPL_MP)/100)","v":0.78331180400890876},{"$f":"IF(G37>3,extrapol_(J37,IsoT_ratio,IsoT_MP_HP)/100,extrapol_(J37,IsoT_ratio,IsoT_LPL_MP)/100)","v":{"$error":"#VALUE!"}},{"$f":"R37*3600/1000/0.17625","v":39772.628376420609},{"$f":"E37/$D$8*N37*D37","v":5075.8604899777292},{"$f":"Q37*I37*1000/3600*B37","v":1947.2015975955924},null,{"$f":"R37*8.314*F37/4*LN(H37/G37)/O37/1000","v":{"$error":"#VALUE!"}},{"$f":"T37/B37","v":{"$error":"#VALUE!"}},"each"]
[null,null,"35kW  @15K",null,"Rotation","Tin","Pin","Pout","Rho_in","Pr",null,null,"Vi_ideal","Vol_%","Iso_%","Nm3/h","A_m3/h"]
[null,null,"LP STAGE (1158 g/s)"]
[null,2,"400SUD",6480,2950,{"$f":"273+40","v":313},1.04,4.53,{"$f":"$D$4*G40*273.15/(F40)*4/$D$3","v":0.15994134491837239},{"$f":"H40/G40","v":4.3557692307692308},null,null,{"$f":"J40^1/(1.66)","v":2.6239573679332717},{"$f":"IF(G40>3,extrapol_(J40,Vol_ratio,Vol_MP_HP)/100,extrapol_(J40,Vol_ratio,Vol_LPL_MP)/100)","v":0.86544230769230779},{"$f":"IF(G40>3,extrapol_(J40,IsoT_ratio,IsoT_MP_HP)/100,extrapol_(J40,IsoT_ratio,IsoT_LPL_MP)/100)","v":{"$error":"#VALUE!"}},{"$f":"R40*3600/1000/0.17625","v":10178.28814794165},{"$f":"E40/$D$8*N40*D40","v":5608.0661538461545},{"$f":"Q40*I40*1000/3600*B40","v":498.31202390964324},{"$f":"R40*3.6","v":1793.9232860747156},{"$f":"R40*8.314*F40/4*LN(H40/G40)/O40/1000","v":{"$error":"#VALUE!"}}]
[]
[]
[]
[]
[]
[]
[]
[]
[]
[]
[]
[]
[]
[]
[]
[]
[]
[]
[]
[]
[]
[]
[]
[]
[]
[]
[]
[]
[]
[]
[]
[]
[]
[]
[]
[]
[]
[]
[]
[]
[]
[]
[]
[]
[]
[]
[]
[]
[null,null,null,null,null,null,null,null,null,null,null,null,null,null,null,null,null,null,null,null,null,null,null,null,"Case 1","Case 2","Case 3"]
[null,null,null,null,null,null,null,null,null,null,null,null,null,null,null,null,null,null,null,null,null,null,"Stage 1 :",null,"L","L","Y"]
[null,null,null,null,null,null,null,null,null,null,null,null,null,null,null,null,null,null,null,null,null,null,"Pin stage 1","bar abs",1.05,1.05,1.05,1.05,1.05]
[null,null,null,null,null,null,null,null,null,null,null,null,null,null,null,null,null,null,null,null,null,null,"Vi stage 1",null,2.66,2.66,2.41,2.6,2.6]
[null,null,null,null,null,null,null,null,null,null,null,null,null,null,null,null,null,null,null,null,null,null,"Gamme",null,1.6659999999999999,1.6659999999999999,1.6659999999999999,1.6659999999999999,1.6659999999999999]
[null,null,null,null,null,null,null,null,null,null,null,null,null,null,null,null,null,null,null,null,null,null,"Pint","bar abs",{"$f":"Y91*Y92^Y93","v":5.3584860656282585},{"$f":"Z91*Z92^Z93","v":5.3584860656282585},{"$f":"AA91*AA92^AA93","v":4.5460027279570046},{"$f":"AB91*AB92^AB93","v":5.1586361450670566},{"$f":"AC91*AC92^AC93","v":5.1586361450670566}]
[null,null,null,null,null,null,null,null,null,null,null,null,null,null,null,null,null,null,null,null,null,null,"Stage 2:"]
[null,null,null,null,null,null,null,null,null,null,null,null,null,null,null,null,null,null,null,null,null,null,"Vi stage 2",null,2.2200000000000002,2.66,2.2200000000000002,2.6,2.2000000000000002]
[null,null,null,null,null,null,null,null,null,null,null,null,null,null,null,null,null,null,null,null,null,null,"gamma",null,1.6659999999999999,1.6659999999999999,1.6659999999999999,1.6659999999999999,1.6659999999999999]
[null,null,null,null,null,null,null,null,null,null,null,null,null,null,null,null,null,null,null,null,null,null,"Pout stage 2","bar abs",{"$f":"Y94*Y96^Y97","v":20.233273922067337},{"$f":"Z94*Z96^Z97","v":27.346069443364012},{"$f":"AA94*AA96^AA97","v":17.165392858856883},{"$f":"AB94*AB96^AB97","v":25.344311311611715},{"$f":"AC94*AC96^AC97","v":19.187177050318603}]

{"sheet":"Data 320MUD-LM","index":6,"n_rows":90,"n_cols":26,"rows_kept":90,"cut":false,"hidden":false,"merged":[]}
[]
["Compressor 320 M with L or M port",null,null,null,null,null,null,null,null,null,null,null,null,null,"Compressor 400 S with L or M port"]
["Volumetric Efficiency",null,null,null,null,null,"Isothermal Efficiency",null,null,null,null,null," ",null,"Volumetric Efficiency",null,null,null,null,null,"Isothermal Efficiency"]
["Pin = 1,05",null,"Pin = 2",null,"Pin = 4",null,"Pin = 1,05",null,"Pin = 2",null,"Pin = 4",null,null,null,"Pin = 1,05",null,"Pin = 2",null,"Pin = 4",null,"Pin = 1,05",null,"Pin = 2",null,"Pin = 4"]
["Pr","Vol eff pi=1.05","Pr","Vol eff pi=2","Pr","Vol eff pi=4","Pr","Iso eff pi=1.05","Pr","Iso eff pi=2","Pr","Iso eff pi=4",null,null,null,"Vol eff pi=1.05",null,"Vol eff pi=2",null,"Vol eff pi=4"]
[1.98886815723727,0.91839809296781905,1.98886815723727,0.94158124751688499,1.98886815723727,0.94349463647199006,1.9869706840390799,0.31405641636869169,1.9869706840390799,0.43734207389749602,1.99772303216216,0.59045689312673799,null,null,2.0028563911752499,0.89890265722552198,2.0013530273987898,0.92287288716308813,3.0023677979479002,0.89451233439926914,null,"Iso eff pi=1.05",null,"Iso eff pi=2",null,"Iso eff pi=4"]
[3.0043958129091299,0.91652920143027394,3.0030675816704,0.93852205005959499,3.0132506878340202,0.91372586412395695,2.99790223796421,0.43141835518474303,3.0089708316203301,0.56657926102502898,2.99790223796421,0.63721891140246301,null,null,3.00087517248414,0.89716670473579996,3.0014657796820301,0.91997487437185899,2.0047355958958102,0.92441183188670606,2.9997744954335199,0.40717650753768703,2.0024805502311298,0.41096391046139702,2.0015141020891298,0.55593878483325598]
[5.0086967521583698,0.9143265792610249,4.0014547294519396,0.91616209773539903,4.0058821669143798,0.87611442193087008,4.0051442606706402,0.48398092967818701,4.0088337918893497,0.59361144219308604,4.0051442606706402,0.59550258243941101,null,null,4.0034040451223802,0.89808036394091706,4.0057664739139502,0.89714767016902697,4.0085691735257596,0.85873686614892586,4.0032698162137699,0.45494375285518401,3.0001127522832198,0.53312014618547199,2.9982442858753502,0.59890931932389102]
[5.9960153062837902,0.90848629320619789,4.9976281585022502,0.89196662693682893,5.0086967521583698,0.8362336114421931,4.9976281585022502,0.50266984505363399,4.9954144397710296,0.5800953516090579,4.9976281585022502,0.53737783075089296,null,null,4.9966550155973897,0.89570485000761413,5.0041718344796404,0.87398640931932392,5.0030443116473,0.81956372772955699,4.9999999999999902,0.47201775925079803,5.0016912842485004,0.54723047053449003,4.0017396066556001,0.56013590680676006]
[7.0054710477214401,0.89563766388557808,5.9938015875525696,0.87500198649185501,5.9915878688213402,0.79368295589988103,5.9938015875525696,0.50350417163289496,5.9884886625976304,0.56050536352800906,5.9974911187712703,0.47814064362336001,null,null,6.0024053820423102,0.88938918075224593,6.0040590821964104,0.85691811329374101,5.9997744954335301,0.77659319323892106,6.0012402751155598,0.47405065098218302,6.0020295410982003,0.52688442211055209,4.9984697904418196,0.50417428049337498]
[7.9972170393093096,0.87972983710766806,7.0084226726964101,0.85664680174811303,null,null,7.0054710477214401,0.49265792610250203,7.0032573289902196,0.53434088200238294,null,null,null,null,7.0018416206261502,0.87715756814374901,7.0030443116473098,0.83992976244860595,null,null,6.9999033551857899,0.46299537460027296,7.0019167888149703,0.50306075833713904,6.00196511122207,0.44921196893558601]
[8.99339046835963,0.863321414382201,8.0082856329654302,0.83745729042510897,null,null,7.9972170393093096,0.47613825983313396,8.0045961017467206,0.506507747318235,null,null,null,null,8.0035329048746497,0.86164820313689605,8.0042845867628802,0.82114264504339896,null,null,8.0055248618784507,0.44782863179533899,8.0061637914834396,0.47561291305009801]
[9.9969429598473507,0.84830353595550201,8.99339046835963,0.81910210568136588,null,null,9.0044590620157408,0.45911799761620897,8.9970799995783306,0.47619388160508502,null,null,null,null,9.0036456571578896,0.84605889294959613,9.0032698162137805,0.80095648698035604,null,null,9.0013530273987996,0.43072036317953299,9.0021422933814392,0.44853814527181302]
[11.004184982553801,0.83161700437028196,10.000632491066099,0.79629717918156495,null,null,9.9939913348723906,0.439761620977353,9.9969429598473507,0.44671434247119501,null,null,null,null,10.001503363776401,0.83076937718897492,10,0.77997087711283597,null,null,9.9989852294509003,0.41409176564641298,10.003382568497001,0.42183645500228301]
[12.004047942822799,0.81520858164481491,null,null,null,null,11.001233357578799,0.42040524433849702,null,null,null,null,null,null,11.0072537302214,0.814680409623877,null,null,null,null,11.002029541098199,0.39586426450433865]
[null,null,null,null,null,null,11.995193067897899,0.40121573301549396]
[]
[]
[null,"Equation volumetric Effiency Pin=1,05",null,null,{"$f":"[3]!f_reg_(\"0\",$A$6:$A$15,$B$6:$B$15,7,\"form\")","v":"7.66E-07* x^7 -38.046E-6*x^6 + 76.790E-5*x^5 -80.700E-4*x^4 + 47.040E-3*x^3 -15.129E-2*x^2 + 24.705E-2*x +  0.760"}]
[null,"Equation volumetric Effiency Pin=2",null,null,{"$f":"[3]!f_reg_(\"0\",$C$6:$C$14,$D$6:$D$14,7,\"form\")","v":"-3.60E-06* x^7 + 14.269E-5*x^6 -22.853E-4*x^5 + 18.815E-3*x^4 -83.254E-3*x^3 + 18.504E-2*x^2 -17.471E-2*x +  0.980"}]
[null,"Equation volumetric Effiency Pin=4",null,null,{"$f":"[3]!f_reg_(\"0\",$E$6:$E$10,$F$6:$F$10,7,\"form\")","v":"6.05E-06* x^7 -11.902E-5*x^6 + 82.507E-5*x^5 -20.995E-4*x^4 +  0.957"}]
[]
[]
[]
[]
[]
[]
[null,"EXTRAPOLATION LINEAIRE",null,null,null,"Regression linaire X^6"]
[]
[null,"Volumetric Efficiency",null,null,null,"Isothermal Efficiency"]
[null,1.05,2,4,null,1.05,2,4,null,"Pout","PR",1.05,1.5,1.8,2,2.2000000000000002,3.9,3.95,4]
[2,{"$f":"extrapol_(A32,$A$6:$A$15,$B$6:$B$15)","v":0.91837760686227543},{"$f":"extrapol_(A32,$C$6:$C$15,$D$6:$D$15)","v":0.94154766979611892},{"$f":"extrapol_(A32,$E$6:$E$15,$F$6:$F$15)","v":0.9431711427739623},2,{"$f":"[3]!f_reg_(A32,$G$6:$G$16,$H$6:$H$16,7,\"value\")","v":0.31620764226663589},{"$f":"[3]!f_reg_(A32,$I$6:$I$14,$J$6:$J$14,7,\"value\")","v":0.43993536008305201},{"$f":"[3]!f_reg_(A32,$K$6:$K$10,$L$6:$L$10,7,\"value\")","v":0.59061316361431382},null,{"$f":"L31*K32","v":2.1},2,{"$f":"[3]!BILINTERP($E$31:$H$39,L$31,$K32)","v":0.31620764226663589},{"$f":"[3]!BILINTERP($E$31:$H$39,M$31,$K32)","v":0.37481550860072771},{"$f":"[3]!BILINTERP($E$31:$H$39,N$31,$K32)","v":0.41388741949012231},{"$f":"[3]!BILINTERP($E$31:$H$39,O$31,$K32)","v":0.43993536008305201},{"$f":"[3]!BILINTERP($E$31:$H$39,P$31,$K32)","v":0.45500314043617818},{"$f":"[3]!BILINTERP($E$31:$H$39,Q$31,$K32)","v":0.58307927343775068},{"$f":"[3]!BILINTERP($E$31:$H$39,R$31,$K32)","v":0.58684621852603225},{"$f":"[3]!BILINTERP($E$31:$H$39,S$31,$K32)","v":0.59061316361431382}]
[2.5,{"$f":"extrapol_(A33,$A$6:$A$15,$B$6:$B$15)","v":0.91745744898813619},{"$f":"extrapol_(A33,$C$6:$C$15,$D$6:$D$15)","v":0.94003948640358748},{"$f":"extrapol_(A33,$E$6:$E$15,$F$6:$F$15)","v":0.92864103734025705},2.5,{"$f":"[3]!f_reg_(A33,$G$6:$G$16,$H$6:$H$16,7,\"value\")","v":0.3847332042220078},{"$f":"[3]!f_reg_(A33,$I$6:$I$14,$J$6:$J$14,7,\"value\")","v":0.51980160688566335},{"$f":"[3]!f_reg_(A33,$K$6:$K$10,$L$6:$L$10,7,\"value\")","v":0.62189051857277877},null,{"$f":"L32*K33","v":0.79051910566658967},2.5,{"$f":"[3]!BILINTERP($E$31:$H$39,L$31,$K33)","v":0.3847332042220078},{"$f":"[3]!BILINTERP($E$31:$H$39,M$31,$K33)","v":0.44871297390479198},{"$f":"[3]!BILINTERP($E$31:$H$39,N$31,$K33)","v":0.49136615369331482},{"$f":"[3]!BILINTERP($E$31:$H$39,O$31,$K33)","v":0.51980160688566335},{"$f":"[3]!BILINTERP($E$31:$H$39,P$31,$K33)","v":0.53001049805437495},{"$f":"[3]!BILINTERP($E$31:$H$39,Q$31,$K33)","v":0.61678607298842303},{"$f":"[3]!BILINTERP($E$31:$H$39,R$31,$K33)","v":0.61933829578060084},{"$f":"[3]!BILINTERP($E$31:$H$39,S$31,$K33)","v":0.62189051857277877}]
[{"$f":"A33+0.5","v":3},{"$f":"extrapol_(A34,$A$6:$A$15,$B$6:$B$15)","v":0.91653729111399707},{"$f":"extrapol_(A34,$C$6:$C$15,$D$6:$D$15)","v":0.93853130301105603},{"$f":"extrapol_(A34,$E$6:$E$15,$F$6:$F$15)","v":0.91411093190655179},{"$f":"E33+0.5","v":3},{"$f":"[3]!f_reg_(A34,$G$6:$G$16,$H$6:$H$16,7,\"value\")","v":0.43158849348275768},{"$f":"[3]!f_reg_(A34,$I$6:$I$14,$J$6:$J$14,7,\"value\")","v":0.56610307061694187},{"$f":"[3]!f_reg_(A34,$K$6:$K$10,$L$6:$L$10,7,\"value\")","v":0.63723352993588933},null,1.1541996126660234,{"$f":"K33+0.5","v":3},{"$f":"[3]!BILINTERP($E$31:$H$39,L$31,$K34)","v":0.43158849348275768},{"$f":"[3]!BILINTERP($E$31:$H$39,M$31,$K34)","v":0.49530592475684493},{"$f":"[3]!BILINTERP($E$31:$H$39,N$31,$K34)","v":0.53778421227290307},{"$f":"[3]!BILINTERP($E$31:$H$39,O$31,$K34)","v":0.56610307061694187},{"$f":"[3]!BILINTERP($E$31:$H$39,P$31,$K34)","v":0.57321611654883664},{"$f":"[3]!BILINTERP($E$31:$H$39,Q$31,$K34)","v":0.633677006969942},{"$f":"[3]!BILINTERP($E$31:$H$39,R$31,$K34)","v":0.63545526845291567},{"$f":"[3]!BILINTERP($E$31:$H$39,S$31,$K34)","v":0.63723352993588933}]
[{"$f":"A34+0.5","v":3.5},{"$f":"extrapol_(A35,$A$6:$A$15,$B$6:$B$15)","v":0.91598455828398673},{"$f":"extrapol_(A35,$C$6:$C$15,$D$6:$D$15)","v":0.92739271490450281},{"$f":"extrapol_(A35,$E$6:$E$15,$F$6:$F$15)","v":0.89528262108474088},{"$f":"E34+0.5","v":3.5},{"$f":"[3]!f_reg_(A35,$G$6:$G$16,$H$6:$H$16,7,\"value\")","v":0.46314171267688869},{"$f":"[3]!f_reg_(A35,$I$6:$I$14,$J$6:$J$14,7,\"value\")","v":0.58778720153714004},{"$f":"[3]!f_reg_(A35,$K$6:$K$10,$L$6:$L$10,7,\"value\")","v":0.62746174447180236},null,1.5105597271896518,{"$f":"K34+0.5","v":3.5},{"$f":"[3]!BILINTERP($E$31:$H$39,L$31,$K35)","v":0.46314171267688869},{"$f":"[3]!BILINTERP($E$31:$H$39,M$31,$K35)","v":0.52218431266332355},{"$f":"[3]!BILINTERP($E$31:$H$39,N$31,$K35)","v":0.56154604598761348},{"$f":"[3]!BILINTERP($E$31:$H$39,O$31,$K35)","v":0.58778720153714004},{"$f":"[3]!BILINTERP($E$31:$H$39,P$31,$K35)","v":0.59175465583060627},{"$f":"[3]!BILINTERP($E$31:$H$39,Q$31,$K35)","v":0.62547801732506925},{"$f":"[3]!BILINTERP($E$31:$H$39,R$31,$K35)","v":0.6264698808984358},{"$f":"[3]!BILINTERP($E$31:$H$39,S$31,$K35)","v":0.62746174447180236}]
[4,{"$f":"extrapol_(A36,$A$6:$A$15,$B$6:$B$15)","v":0.91543508436863896},{"$f":"extrapol_(A36,$C$6:$C$15,$D$6:$D$15)","v":0.91619467796368248},{"$f":"extrapol_(A36,$E$6:$E$15,$F$6:$F$15)","v":0.87633730100082985},4,{"$f":"[3]!f_reg_(A36,$G$6:$G$16,$H$6:$H$16,7,\"value\")","v":0.48374049203500658},{"$f":"[3]!f_reg_(A36,$I$6:$I$14,$J$6:$J$14,7,\"value\")","v":0.59324807027020876},{"$f":"[3]!f_reg_(A36,$K$6:$K$10,$L$6:$L$10,7,\"value\")","v":0.59589169739461378},null,1.8525668507075548,4,{"$f":"[3]!BILINTERP($E$31:$H$39,L$31,$K36)","v":0.48374049203500658},{"$f":"[3]!BILINTERP($E$31:$H$39,M$31,$K36)","v":0.5356125027779971},{"$f":"[3]!BILINTERP($E$31:$H$39,N$31,$K36)","v":0.57019384327332412},{"$f":"[3]!BILINTERP($E$31:$H$39,O$31,$K36)","v":0.59324807027020876},{"$f":"[3]!BILINTERP($E$31:$H$39,P$31,$K36)","v":0.59351243298264922},{"$f":"[3]!BILINTERP($E$31:$H$39,Q$31,$K36)","v":0.5957595160383935},{"$f":"[3]!BILINTERP($E$31:$H$39,R$31,$K36)","v":0.59582560671650364},{"$f":"[3]!BILINTERP($E$31:$H$39,S$31,$K36)","v":0.59589169739461378}]
[4.5,{"$f":"extrapol_(A37,$A$6:$A$15,$B$6:$B$15)","v":0.9148856104532912},{"$f":"extrapol_(A37,$C$6:$C$15,$D$6:$D$15)","v":0.90405322473844463},{"$f":"extrapol_(A37,$E$6:$E$15,$F$6:$F$15)","v":0.85646391031055014},4.5,{"$f":"[3]!f_reg_(A37,$G$6:$G$16,$H$6:$H$16,7,\"value\")","v":0.49632361211086651},{"$f":"[3]!f_reg_(A37,$I$6:$I$14,$J$6:$J$14,7,\"value\")","v":0.58930013973365813},{"$f":"[3]!f_reg_(A37,$K$6:$K$10,$L$6:$L$10,7,\"value\")","v":0.5590747491156618},null,2.1768322141575296,4.5,{"$f":"[3]!BILINTERP($E$31:$H$39,L$31,$K37)","v":0.49632361211086651},{"$f":"[3]!BILINTERP($E$31:$H$39,M$31,$K37)","v":0.54036512519534674},{"$f":"[3]!BILINTERP($E$31:$H$39,N$31,$K37)","v":0.5697261339183336},{"$f":"[3]!BILINTERP($E$31:$H$39,O$31,$K37)","v":0.58930013973365813},{"$f":"[3]!BILINTERP($E$31:$H$39,P$31,$K37)","v":0.58627760067185852},{"$f":"[3]!BILINTERP($E$31:$H$39,Q$31,$K37)","v":0.56058601864656166},{"$f":"[3]!BILINTERP($E$31:$H$39,R$31,$K37)","v":0.55983038388111173},{"$f":"[3]!BILINTERP($E$31:$H$39,S$31,$K37)","v":0.5590747491156618}]
[5,{"$f":"extrapol_(A38,$A$6:$A$15,$B$6:$B$15)","v":0.91433613653794343},{"$f":"extrapol_(A38,$C$6:$C$15,$D$6:$D$15)","v":0.89192623493576928},{"$f":"extrapol_(A38,$E$6:$E$15,$F$6:$F$15)","v":0.83657947151423284},5,{"$f":"[3]!f_reg_(A38,$G$6:$G$16,$H$6:$H$16,7,\"value\")","v":0.5028908783217354},{"$f":"[3]!f_reg_(A38,$I$6:$I$14,$J$6:$J$14,7,\"value\")","v":0.58074045421588194},{"$f":"[3]!f_reg_(A38,$K$6:$K$10,$L$6:$L$10,7,\"value\")","v":0.53732688880664803},null,2.4816180605543323,5,{"$f":"[3]!BILINTERP($E$31:$H$39,L$31,$K38)","v":0.5028908783217354},{"$f":"[3]!BILINTERP($E$31:$H$39,M$31,$K38)","v":0.53976699321896271},{"$f":"[3]!BILINTERP($E$31:$H$39,N$31,$K38)","v":0.56435106981711425},{"$f":"[3]!BILINTERP($E$31:$H$39,O$31,$K38)","v":0.58074045421588194},{"$f":"[3]!BILINTERP($E$31:$H$39,P$31,$K38)","v":0.57639909767495856},{"$f":"[3]!BILINTERP($E$31:$H$39,Q$31,$K38)","v":0.53949756707710972},{"$f":"[3]!BILINTERP($E$31:$H$39,R$31,$K38)","v":0.53841222794187882},{"$f":"[3]!BILINTERP($E$31:$H$39,S$31,$K38)","v":0.53732688880664803}]
[5.5,{"$f":"extrapol_(A39,$A$6:$A$15,$B$6:$B$15)","v":0.91142037285472233},{"$f":"extrapol_(A39,$C$6:$C$15,$D$6:$D$15)","v":0.8834113318324277},{"$f":"extrapol_(A39,$E$6:$E$15,$F$6:$F$15)","v":0.81496444448023686},5.5,{"$f":"[3]!f_reg_(A39,$G$6:$G$16,$H$6:$H$16,7,\"value\")","v":0.50484889237102815},{"$f":"[3]!f_reg_(A39,$I$6:$I$14,$J$6:$J$14,7,\"value\")","v":0.57037019554673818},{"$f":"[3]!f_reg_(A39,$K$6:$K$10,$L$6:$L$10,7,\"value\")","v":0.5308837879276993},null,2.7658998307695448,5.5,{"$f":"[3]!BILINTERP($E$31:$H$39,L$31,$K39)","v":0.50484889237102815},{"$f":"[3]!BILINTERP($E$31:$H$39,M$31,$K39)","v":0.53588529913846972},{"$f":"[3]!BILINTERP($E$31:$H$39,N$31,$K39)","v":0.55657623698343084},{"$f":"[3]!BILINTERP($E$31:$H$39,O$31,$K39)","v":0.57037019554673818},{"$f":"[3]!BILINTERP($E$31:$H$39,P$31,$K39)","v":0.56642155478483425},{"$f":"[3]!BILINTERP($E$31:$H$39,Q$31,$K39)","v":0.53285810830865121},{"$f":"[3]!BILINTERP($E$31:$H$39,R$31,$K39)","v":0.53187094811817526},{"$f":"[3]!BILINTERP($E$31:$H$39,S$31,$K39)","v":0.5308837879276993}]
[6,{"$f":"extrapol_(A40,$A$6:$A$15,$B$6:$B$15)","v":0.90843557493256377},{"$f":"extrapol_(A40,$C$6:$C$15,$D$6:$D$15)","v":0.8748898529996022},null,6,{"$f":"[3]!f_reg_(A40,$G$6:$G$16,$H$6:$H$16,7,\"value\")","v":0.50325046561572184},{"$f":"[3]!f_reg_(A40,$I$6:$I$14,$J$6:$J$14,7,\"value\")","v":0.55934655630716446},{"$f":"[3]!f_reg_(A40,$K$6:$K$10,$L$6:$L$10,7,\"value\")","v":0.47751438687366843}]
[6.5,{"$f":"extrapol_(A41,$A$6:$A$15,$B$6:$B$15)","v":0.90207143790644662},{"$f":"extrapol_(A41,$C$6:$C$15,$D$6:$D$15)","v":0.86584451330949519},null,6.5,{"$f":"[3]!f_reg_(A41,$G$6:$G$16,$H$6:$H$16,7,\"value\")","v":0.49894541944097265},{"$f":"[3]!f_reg_(A41,$I$6:$I$14,$J$6:$J$14,7,\"value\")","v":0.54773588002361606}]
[7,{"$f":"extrapol_(A42,$A$6:$A$15,$B$6:$B$15)","v":0.89570730088032946},{"$f":"extrapol_(A42,$C$6:$C$15,$D$6:$D$15)","v":0.85679917361938818},null,7,{"$f":"[3]!f_reg_(A42,$G$6:$G$16,$H$6:$H$16,7,\"value\")","v":0.49266051770448643},{"$f":"[3]!f_reg_(A42,$I$6:$I$14,$J$6:$J$14,7,\"value\")","v":0.53513901829313326},null,null,null,null,{"$f":"L$31*$K32","v":2.1},{"$f":"M$31*$K32","v":3},3.6,4,4.4000000000000004,7.8,7.9,8]
[7.5,{"$f":"extrapol_(A43,$A$6:$A$15,$B$6:$B$15)","v":0.8877053092542142},{"$f":"extrapol_(A43,$C$6:$C$15,$D$6:$D$15)","v":0.84721238016909362},null,7.5,{"$f":"[3]!f_reg_(A43,$G$6:$G$16,$H$6:$H$16,7,\"value\")","v":0.48502627631302631},{"$f":"[3]!f_reg_(A43,$I$6:$I$14,$J$6:$J$14,7,\"value\")","v":0.52125985478482306},null,null,null,null,{"$f":"L$31*$K33","v":2.625},3.75,4.5,5,5.5,9.75,9.875,10]
[null,null,null,null,null,null,null,null,null,null,null,{"$f":"L$31*$K34","v":3.1500000000000004},4.5,5.4,6,6.6000000000000005,11.7,11.850000000000001,12]
[null,null,null,null,null,null,null,null,null,null,null,{"$f":"L$31*$K35","v":3.6750000000000003},5.25,6.3,7,7.7000000000000011,13.65,13.825000000000001,14]
[null,null,null,null,null,null,null,null,null,null,null,{"$f":"L$31*$K36","v":4.2},6,7.2,8,8.8000000000000007,15.6,15.8,16]
[null,null,null,null,null,null,null,null,null,null,null,{"$f":"L$31*$K37","v":4.7250000000000005},6.75,8.1,9,9.9,17.55,17.775000000000002,18]
[null,null,null,null,null,null,null,null,null,null,null,{"$f":"L$31*$K38","v":5.25},7.5,9,10,11,19.5,19.75,20]
[null,null,null,null,null,null,null,null,null,null,null,{"$f":"L$31*$K39","v":5.7750000000000004},8.25,9.9,11,12.100000000000001,21.45,21.725000000000001,22]
[]
[]
[]
[]
[]
[]
[]
[]
[]
[]
[]
[]
[]
[]
[]
[]
[]
[]
[]
[]
[]
[]
[]
[]
[]
[]
[]
[]
[]
[]
[]
[]
[]
[]
[]
[]
[]
[]
[]
[]
[null,1.05]

{"sheet":"Kobelco_","index":7,"n_rows":90,"n_cols":27,"rows_kept":90,"cut":false,"hidden":false,"merged":[]}
[null,null,null,"Displ @","Rotation","Tin","Pin","Pout","Pout","Rho_in","gamma","Pr","Vi","Vi\nideal",null,"Vol_%","Iso_%","Nm3/h","A_m3/h","kg/h","g/s"]
["CASE A",1,"KS50LX",18643.680937055746,2052,{"$f":"50+273","v":323},4.0199999999999996,21,null,{"$f":"1.27581621531631*G2*273.15/(F2)*4/28.958600656","v":0.59909441729278268},1.667,{"$f":"H2/G2","v":5.2238805970149258},2.9,{"$f":"L2^1/(K2)","v":3.1337016178853783},{"$f":"M2-N2","v":-0.23370161788537835},{"$f":"S2/(B2*E2/2950*D2)","v":0.84497584421084737},{"$f":"(U2*8.314*F2/4*LN(H2/G2)/1000)/W2","v":0.48560701720904381},{"$f":"U2*3600/1000/0.17625","v":37247.526948620223},{"$f":"U2/J2*3.6","v":10958.000000000004},6564.8766246943142,{"$f":"T2/3.6","v":1823.5768401928649},{"$f":"U2*8.314*F2/4*LN(H2/G2)/1000","v":2024.0100477272947},{"$f":"X2*B2","v":4168},4168,"each",{"$f":"H2-G2","v":16.98}]
["CASE D",1,"321/220 22",7662,3550,{"$f":"34.85+273","v":307.85000000000002},{"$f":"1.5*1.013","v":1.5194999999999999},{"$f":"4.8*1.013","v":4.8623999999999992},null,0.23759280692983989,1.667,{"$f":"H3/G3","v":3.1999999999999997},2.2000000000000002,{"$f":"L3^1/(K3)","v":1.9196160767846429},{"$f":"M3-N3","v":0.28038392321535732},{"$f":"S3/(B3*E3/3600*D3)","v":0.90187336369540294},0.58495399135861159,9185.8156028368794,6814.1793555142585,1619,449.72222222222223,334.7106738553976,572.20000000000005,572.20000000000005,"each",3.3428999999999993]
["CASE C",1,"321/220 28",7662,3550,307.85000000000002,{"$f":"1.5*1.013","v":1.5194999999999999},6.1,null,0.23759280692983989,1.667,{"$f":"H4/G4","v":4.0144784468575194},2.8,{"$f":"L4^1/(K4)","v":2.4082054270291056},0.39179457297089426,0.59772088897169073,0.38612839992567966,6087.9432624113479,4516.1299866996906,1073,298.05555555555554,265.0771465489791,686.5,686.5,"each",4.5804999999999998]
["CASE B",1,"321/220 26",7662,3550,307.85000000000002,1.0129999999999999,{"$f":"4.8*1.013","v":4.8623999999999992},null,0.15839520461989323,1.667,4.8,2.6,2.8794241151769646,-0.27942411517696453,0.8673359031956408,0.51494914541988879,5889.3617021276586,6553.2286945865972,1038,288.33333333333331,289.40141972597752,562,562,"each",3.8493999999999993]
[]
[null,null,"air molar mass",28.958600656000002]
[null,null,"air density",1.2758162153163073]
[null,null,"gamma",1]
[]
[null,null,null,{"$f":"D12/60","v":49.166666666666664},"Hz"]
[null,null,null,2950,"RPm"]
[]
[null,null,null,"Displ @ 2950rpm","Rotation","Tin","Pin","Pout","Pout","Rho_in","gamma","Pr","Vi","Vi\nideal","Vol_%","Iso_%","Nm3/h","A_m3/h","kg/h","g/s"]
[null,2,"KS50STX",10812,2950,{"$f":"273+25","v":298},1.05,{"$f":"M15^K15*G15","v":4.2091034682305928},{"$f":"M15^K15*G15","v":4.2091034682305928},{"$f":"$D$8*G15*273.15/(F15)*4/$D$7","v":0.16960739225420454},1.667,{"$f":"H15/G15","v":4.0086699697434218},2.2999999999999998,{"$f":"L15^1/(K15)","v":2.4047210376385255},{"$f":"R15/(B15*E15/$D$12*D15)","v":0.49951054372761283},{"$f":"(T15*8.314*F15/4*LN(H15/G15)/1000)/V15","v":0.2089997674830949},{"$f":"T15*3600/1000/0.17625","v":10394.326241134753},{"$f":"T15/J15*3.6","v":10801.4159975659},1832,{"$f":"S15/3.6","v":508.88888888888886},{"$f":"T15*8.314*F15/4*LN(H15/G15)/1000","v":437.6455131096007},{"$f":"W15*B15","v":2094},1047,"each",{"$f":"H15-G15","v":3.159103468230593}]
[null,1,"VMY536H (DP<20 b)",5699,2950,298,1.05,{"$f":"M16^K16*G16","v":6.5546639479461994},6.5546639479461994,0.16960739225420454,1.667,6.2425370932820945,3,{"$f":"L16^1/(K16)","v":3.744773301308995},0.86696304319460649,{"$f":"(T16*8.314*F16/4*LN(H16/G16)/1000)/V16","v":0.48449729970843691},{"$f":"T16*3600/1000/0.17625","v":4754.6099290780148},{"$f":"T16/J16*3.6","v":4940.8223831660625},838,{"$f":"S16/3.6","v":232.77777777777777},{"$f":"T16*8.314*F16/4*LN(H16/G16)/1000","v":264.05102834109812},{"$f":"W16*B16","v":545},545,"each",{"$f":"H16-G16","v":5.5046639479461996}]
[null,1,"VMY536H (DP<20 b)",5699,2950,298,1.05,14.348894477347578,14.348894477347578,0.16960739225420454,1.667,13.665613787950074,4.8,8.1977287270246393,0.85247917373789461,{"$f":"(T17*8.314*F17/4*LN(H17/G17)/1000)/V17","v":0.48396555376844935},{"$f":"T17*3600/1000/0.17625","v":4675.177304964539},{"$f":"T17/J17*3.6","v":4858.2788111322616},824,{"$f":"S17/3.6","v":228.88888888888889},{"$f":"T17*8.314*F17/4*LN(H17/G17)/1000","v":370.7176141866322},{"$f":"W17*B17","v":766},766,"each",{"$f":"H17-G17","v":13.298894477347577}]
["<"]
[{"$f":"+H19/I19","v":1.3575446289414348},1,"VMY536H (DP<20 b)",5699,2950,298,1.05,{"$f":"+H15","v":4.2091034682305928},{"$f":"M19^K19*G19","v":3.1005267734827271},{"$f":"$D$8*G19*273.15/(F19)*4/$D$7","v":0.16960739225420454},1.3,{"$f":"H19/G19","v":4.0086699697434218},2.2999999999999998,{"$f":"L19^1/(K19)","v":3.0835922844180166},{"$f":"R19/(B19*E19/$D$12*D19)","v":0.88351603685942004},{"$f":"(T19*8.314*F19/4*LN(H19/G19)/1000)/V19","v":0.46052282003854111},{"$f":"T19*3600/1000/0.17625","v":4845.3900709219861},{"$f":"T19/J19*3.6","v":5035.1578940618347},854,{"$f":"S19/3.6","v":237.22222222222223},{"$f":"T19*8.314*F19/4*LN(H19/G19)/1000","v":204.01160927707372},{"$f":"W19*B19","v":443},443,"each",{"$f":"H19-G19","v":3.159103468230593}]
[{"$f":"+H20/I20","v":1.4965922794751849},1,"VMY536H (DP<20 b)",5699,2950,298,1.05,{"$f":"+H16","v":6.5546639479461994},{"$f":"M20^K20*G20","v":4.3797258864951152},0.16960739225420454,1.3,6.2425370932820945,3,{"$f":"L20^1/(K20)","v":4.8019516102169959},0.86696304319460649,{"$f":"(T20*8.314*F20/4*LN(H20/G20)/1000)/V20","v":0.48449729970843691},{"$f":"T20*3600/1000/0.17625","v":4754.6099290780148},{"$f":"T20/J20*3.6","v":4940.8223831660625},838,{"$f":"S20/3.6","v":232.77777777777777},{"$f":"T20*8.314*F20/4*LN(H20/G20)/1000","v":264.05102834109812},{"$f":"W20*B20","v":545},545,"each",{"$f":"H20-G20","v":5.5046639479461996}]
[1.7783430177874067,1,"VMY536H (DP<20 b)",5699,2950,298,1.05,14.348894477347578,8.0686877243740653,0.16960739225420454,1.3,13.665613787950074,4.8,10.512010606115441,0.85247917373789461,{"$f":"(T21*8.314*F21/4*LN(H21/G21)/1000)/V21","v":0.48396555376844935},{"$f":"T21*3600/1000/0.17625","v":4675.177304964539},{"$f":"T21/J21*3.6","v":4858.2788111322616},824,{"$f":"S21/3.6","v":228.88888888888889},{"$f":"T21*8.314*F21/4*LN(H21/G21)/1000","v":370.7176141866322},{"$f":"W21*B21","v":766},766,"each",{"$f":"H21-G21","v":13.298894477347577}]
["<"]
[null,1,"VMY536H (DP<20 b)",5699,2950,298,1.05,4.2,null,{"$f":"$D$8*G23*273.15/(F23)*4/$D$7","v":0.16960739225420454},1.3,{"$f":"H23/G23","v":4},2.2999999999999998,3.0769230769230766,{"$f":"R23/(B23*E23/$D$12*D23)","v":0.88351603685942004},{"$f":"(T23*8.314*F23/4*LN(H23/G23)/1000)/V23","v":0.45980468637285621},{"$f":"T23*3600/1000/0.17625","v":4845.3900709219861},{"$f":"T23/J23*3.6","v":5035.1578940618347},854,{"$f":"S23/3.6","v":237.22222222222223},{"$f":"T23*8.314*F23/4*LN(H23/G23)/1000","v":203.6934760631753},{"$f":"W23*B23","v":443},443,"each",{"$f":"H23-G23","v":3.1500000000000004}]
[null,1,"VMY536H (DP<20 b)",5699,2950,298,1.05,6.55,null,0.16960739225420454,1.3,6.2380952380952372,2.2999999999999998,4.7985347985347975,0.85661742215409808,{"$f":"(T24*8.314*F24/4*LN(H24/G24)/1000)/V24","v":0.42544642438558322},{"$f":"T24*3600/1000/0.17625","v":4697.8723404255325},{"$f":"T24/J24*3.6","v":4881.8626888562048},828,{"$f":"S24/3.6","v":230},{"$f":"T24*8.314*F24/4*LN(H24/G24)/1000","v":260.79865814836251},{"$f":"W24*B24","v":613},613,"each",{"$f":"H24-G24","v":5.5}]
[null,1,"VMY536H (DP<20 b)",5699,2950,298,1.05,14.31,null,0.16960739225420454,1.3,13.628571428571428,2.2999999999999998,10.483516483516484,0.76557595699762371,{"$f":"(T25*8.314*F25/4*LN(H25/G25)/1000)/V25","v":0.28280648658189489},{"$f":"T25*3600/1000/0.17625","v":4198.5815602836883},{"$f":"T25/J25*3.6","v":4363.0173789294577},740,{"$f":"S25/3.6","v":205.55555555555554},{"$f":"T25*8.314*F25/4*LN(H25/G25)/1000","v":332.58042822030842},{"$f":"W25*B25","v":1176},1176,"each",{"$f":"H25-G25","v":13.26}]
[]
[null,1,"VMY536H (DP<20 b)",5699,2950,298,1.05,4.2,null,{"$f":"$D$8*G27*273.15/(F27)*4/$D$7","v":0.16960739225420454},1.3,{"$f":"H27/G27","v":4},3,3.0769230769230766,{"$f":"R27/(B27*E27/$D$12*D27)","v":0.89075797158777581},{"$f":"(T27*8.314*F27/4*LN(H27/G27)/1000)/V27","v":0.49247744537033772},{"$f":"T27*3600/1000/0.17625","v":4885.1063829787236},{"$f":"T27/J27*3.6","v":5076.4296800787342},861,{"$f":"S27/3.6","v":239.16666666666666},{"$f":"T27*8.314*F27/4*LN(H27/G27)/1000","v":205.36309471943082},{"$f":"W27*B27","v":417},417,"each",{"$f":"H27-G27","v":3.1500000000000004}]
[null,1,"VMY536H (DP<20 b)",5699,2950,298,1.05,6.55,null,0.16960739225420454,1.3,6.2380952380952372,3,4.7985347985347975,0.86696304319460649,{"$f":"(T28*8.314*F28/4*LN(H28/G28)/1000)/V28","v":0.48430899155326818},{"$f":"T28*3600/1000/0.17625","v":4754.6099290780148},{"$f":"T28/J28*3.6","v":4940.8223831660625},838,{"$f":"S28/3.6","v":232.77777777777777},{"$f":"T28*8.314*F28/4*LN(H28/G28)/1000","v":263.94840039653116},{"$f":"W28*B28","v":545},545,"each",{"$f":"H28-G28","v":5.5}]
[null,1,"VMY536H (DP<20 b)",5699,2950,298,1.05,14.31,null,0.16960739225420454,1.3,13.628571428571428,3,10.483516483516484,0.78937088539079314,{"$f":"(T29*8.314*F29/4*LN(H29/G29)/1000)/V29","v":0.35134978224979968},{"$f":"T29*3600/1000/0.17625","v":4329.078014184397},{"$f":"T29/J29*3.6","v":4498.6246758421303},763,{"$f":"S29/3.6","v":211.94444444444443},{"$f":"T29*8.314*F29/4*LN(H29/G29)/1000","v":342.9173874758045},{"$f":"W29*B29","v":976},976,"each",{"$f":"H29-G29","v":13.26}]
[]
[null,1,"VMY536H (DP<20 b)",5699,2950,298,1.05,4.2,null,{"$f":"$D$8*G31*273.15/(F31)*4/$D$7","v":0.16960739225420454},1.3,{"$f":"H31/G31","v":4},4.8,3.0769230769230766,{"$f":"R31/(B31*E31/$D$12*D31)","v":0.90731096525258925},{"$f":"(T31*8.314*F31/4*LN(H31/G31)/1000)/V31","v":0.49451386745562459},{"$f":"T31*3600/1000/0.17625","v":4975.8865248226957},{"$f":"T31/J31*3.6","v":5170.7651909745064},877,{"$f":"S31/3.6","v":243.61111111111111},{"$f":"T31*8.314*F31/4*LN(H31/G31)/1000","v":209.1793659337292},{"$f":"W31*B31","v":423},423,"each",{"$f":"H31-G31","v":3.1500000000000004}]
[null,1,"VMY536H (DP<20 b)",5699,2950,298,1.05,6.55,null,0.16960739225420454,1.3,6.2380952380952372,4.8,4.7985347985347975,0.89489622000397917,{"$f":"(T32*8.314*F32/4*LN(H32/G32)/1000)/V32","v":0.54381777338640014},{"$f":"T32*3600/1000/0.17625","v":4907.8014184397161},{"$f":"T32/J32*3.6","v":5100.0135578026775},865,{"$f":"S32/3.6","v":240.27777777777777},{"$f":"T32*8.314*F32/4*LN(H32/G32)/1000","v":272.45270446658645},{"$f":"W32*B32","v":501},501,"each",{"$f":"H32-G32","v":5.5}]
[null,1,"VMY536H (DP<20 b)",5699,2950,298,1.05,14.31,null,0.16960739225420454,1.3,13.628571428571428,4.8,10.483516483516484,0.85247917373789461,{"$f":"(T33*8.314*F33/4*LN(H33/G33)/1000)/V33","v":0.48346318688436635},{"$f":"T33*3600/1000/0.17625","v":4675.177304964539},{"$f":"T33/J33*3.6","v":4858.2788111322616},824,{"$f":"S33/3.6","v":228.88888888888889},{"$f":"T33*8.314*F33/4*LN(H33/G33)/1000","v":370.33280115342461},{"$f":"W33*B33","v":766},766,"each",{"$f":"H33-G33","v":13.26}]
[]
[]
[null,1,"VMY536H (DP<20 b)",5699,2950,298,1.05,{"$f":"M36^K36*G36","v":4.2055991271539437},null,{"$f":"$D$8*G36*273.15/(F36)*4/$D$7","v":0.16960739225420454},1.6659999999999999,{"$f":"H36/G36","v":4.0053325020513748},2.2999999999999998,{"$f":"L36^1/(K36)","v":2.4041611656971038},{"$f":"R36/(B36*E36/$D$12*D36)","v":0.88351603685942004},{"$f":"(T36*8.314*F36/4*LN(H36/G36)/1000)/V36","v":0.46024656159820609},{"$f":"T36*3600/1000/0.17625","v":4845.3900709219861},{"$f":"T36/J36*3.6","v":5035.1578940618347},854,{"$f":"S36/3.6","v":237.22222222222223},{"$f":"T36*8.314*F36/4*LN(H36/G36)/1000","v":203.88922678800529},{"$f":"W36*B36","v":443},443,"each",{"$f":"H36-G36","v":3.1555991271539439}]
[null,1,"VMY536H (DP<20 b)",5699,2950,298,1.05,4.2,null,0.16960739225420454,1.6659999999999999,4,3,2.4009603841536618,0.89075797158777581,{"$f":"(T37*8.314*F37/4*LN(H37/G37)/1000)/V37","v":0.49247744537033772},{"$f":"T37*3600/1000/0.17625","v":4885.1063829787236},{"$f":"T37/J37*3.6","v":5076.4296800787342},861,{"$f":"S37/3.6","v":239.16666666666666},{"$f":"T37*8.314*F37/4*LN(H37/G37)/1000","v":205.36309471943082},{"$f":"W37*B37","v":417},417,"each",{"$f":"H37-G37","v":3.1500000000000004}]
[null,1,"VMY536H (DP<20 b)",5699,2950,298,1.05,4.2,null,0.16960739225420454,1.6659999999999999,4,4.8,2.4009603841536618,0.90731096525258925,{"$f":"(T38*8.314*F38/4*LN(H38/G38)/1000)/V38","v":0.49451386745562459},{"$f":"T38*3600/1000/0.17625","v":4975.8865248226957},{"$f":"T38/J38*3.6","v":5170.7651909745064},877,{"$f":"S38/3.6","v":243.61111111111111},{"$f":"T38*8.314*F38/4*LN(H38/G38)/1000","v":209.1793659337292},{"$f":"W38*B38","v":423},423,"each",{"$f":"H38-G38","v":3.1500000000000004}]
[]
[null,1,"VMY536H (DP<20 b)",5699,2950,298,1.05,6.55,null,{"$f":"$D$8*G40*273.15/(F40)*4/$D$7","v":0.16960739225420454},1.6659999999999999,{"$f":"H40/G40","v":6.2380952380952372},2.2999999999999998,3.744354884811067,{"$f":"R40/(B40*E40/$D$12*D40)","v":0.85661742215409808},{"$f":"(T40*8.314*F40/4*LN(H40/G40)/1000)/V40","v":0.42544642438558322},{"$f":"T40*3600/1000/0.17625","v":4697.8723404255325},{"$f":"T40/J40*3.6","v":4881.8626888562048},828,{"$f":"S40/3.6","v":230},{"$f":"T40*8.314*F40/4*LN(H40/G40)/1000","v":260.79865814836251},{"$f":"W40*B40","v":613},613,"each",{"$f":"H40-G40","v":5.5}]
[null,1,"VMY536H (DP<20 b)",5699,2950,298,1.05,{"$f":"M41^K41*G41","v":6.5474668677091667},null,0.16960739225420454,1.6659999999999999,6.235682731151587,3,3.7429068014115168,0.86696304319460649,{"$f":"(T41*8.314*F41/4*LN(H41/G41)/1000)/V41","v":0.48420665945666219},{"$f":"T41*3600/1000/0.17625","v":4754.6099290780148},{"$f":"T41/J41*3.6","v":4940.8223831660625},838,{"$f":"S41/3.6","v":232.77777777777777},{"$f":"T41*8.314*F41/4*LN(H41/G41)/1000","v":263.8926294038809},{"$f":"W41*B41","v":545},545,"each",{"$f":"H41-G41","v":5.4974668677091669},null,{"$f":"[3]!h_(11,H41,F41)-[3]!h_(11,G41,F41)","v":{"$error":"#VALUE!"}}]
[null,1,"VMY536H (DP<20 b)",5699,2950,298,1.05,6.55,null,0.16960739225420454,1.6659999999999999,6.2380952380952372,4.8,3.744354884811067,0.85247917373789461,{"$f":"(T42*8.314*F42/4*LN(H42/G42)/1000)/V42","v":0.33882344810586829},{"$f":"T42*3600/1000/0.17625","v":4675.177304964539},{"$f":"T42/J42*3.6","v":4858.2788111322616},824,{"$f":"S42/3.6","v":228.88888888888889},{"$f":"T42*8.314*F42/4*LN(H42/G42)/1000","v":259.5387612490951},{"$f":"W42*B42","v":766},766,"each",{"$f":"H42-G42","v":5.5}]
[]
[null,1,"VMY536H (DP<20 b)",5699,2950,298,1.05,14.31,null,{"$f":"$D$8*G44*273.15/(F44)*4/$D$7","v":0.16960739225420454},1.6659999999999999,{"$f":"H44/G44","v":13.628571428571428},2.2999999999999998,{"$f":"L44^1/(K44)","v":8.1804150231521184},{"$f":"R44/(B44*E44/$D$12*D44)","v":0.76557595699762371},{"$f":"(T44*8.314*F44/4*LN(H44/G44)/1000)/V44","v":0.28280648658189489},{"$f":"T44*3600/1000/0.17625","v":4198.5815602836883},{"$f":"T44/J44*3.6","v":4363.0173789294577},740,{"$f":"S44/3.6","v":205.55555555555554},{"$f":"T44*8.314*F44/4*LN(H44/G44)/1000","v":332.58042822030842},{"$f":"W44*B44","v":1176},1176,"each",{"$f":"H44-G44","v":13.26}]
[null,1,"VMY536H (DP<20 b)",5699,2950,298,1.05,14.31,null,0.16960739225420454,1.6659999999999999,13.628571428571428,3,8.1804150231521184,0.78937088539079314,{"$f":"(T45*8.314*F45/4*LN(H45/G45)/1000)/V45","v":0.35134978224979968},{"$f":"T45*3600/1000/0.17625","v":4329.078014184397},{"$f":"T45/J45*3.6","v":4498.6246758421303},763,{"$f":"S45/3.6","v":211.94444444444443},{"$f":"T45*8.314*F45/4*LN(H45/G45)/1000","v":342.9173874758045},{"$f":"W45*B45","v":976},976,"each",{"$f":"H45-G45","v":13.26}]
[null,1,"VMY536H (DP<20 b)",5699,2950,298,1.05,{"$f":"M46^K46*G46","v":14.326404216967706},null,0.16960739225420454,1.6659999999999999,13.644194492350195,4.8,8.1897926124550988,0.85247917373789461,{"$f":"(T46*8.314*F46/4*LN(H46/G46)/1000)/V46","v":0.48367523250044192},{"$f":"T46*3600/1000/0.17625","v":4675.177304964539},{"$f":"T46/J46*3.6","v":4858.2788111322616},824,{"$f":"S46/3.6","v":228.88888888888889},{"$f":"T46*8.314*F46/4*LN(H46/G46)/1000","v":370.49522809533852},{"$f":"W46*B46","v":766},766,"each",{"$f":"H46-G46","v":13.276404216967705}]
[]
[null,null,"TMCP"]
[]
[null,2,"VMY536H (DP<20 b)",5699,2280,298,3.4,20,null,{"$f":"$D$8*G50*273.15/(F50)*4/$D$7","v":0.54920488920409083},1.6659999999999999,{"$f":"H50/G50","v":5.882352941176471},4.8,{"$f":"L50^1/(K50)","v":3.53082409434362},{"$f":"R50/(B50*E50/$D$12*D50)","v":0.86190654083659157},{"$f":"(T50*8.314*F50/4*LN(H50/G50)/1000)/V50","v":0.58424377804482497},{"$f":"T50*3600/1000/0.17625","v":23659.574468085102},{"$f":"T50/J50*3.6","v":7592.7947510503309},{"$f":"2*2085","v":4170},{"$f":"S50/3.6","v":1158.3333333333333},{"$f":"T50*8.314*F50/4*LN(H50/G50)/1000","v":1271.3144610255392},{"$f":"W50*B50","v":2176},1088,"each",{"$f":"H50-G50","v":16.600000000000001}]
[null,2,"VMY536H (DP<20 b)",5699,2950,298,2.5,{"$f":"M51^K51*G51","v":15.589206827878968},null,0.40382712441477275,1.6659999999999999,6.235682731151587,3,3.7429068014115168,0.8294912037858847,{"$f":"(T51*8.314*F51/4*LN(H51/G51)/1000)/V51","v":0.51381089440875571},{"$f":"T51*3600/1000/0.17625","v":21662.411347517729},{"$f":"T51/J51*3.6","v":9454.540740751514},{"$f":"2*1909","v":3818},{"$f":"S51/3.6","v":1060.5555555555554},{"$f":"T51*8.314*F51/4*LN(H51/G51)/1000","v":1202.3174929164884},{"$f":"W51*B51","v":2340},{"$f":"1170","v":1170},"each",{"$f":"H51-G51","v":13.089206827878968}]
[]
[null,null,"LPcompressor        (1,05 - 4,2bara, Vi=2,3,t1=25°C)"]
[null,1,"VMY536B (DP<8 b)",9937,3600,298,1.05,{"$f":"M54^K54*G54","v":4.2055991271539437},null,{"$f":"$D$8*G54*273.15/(F54)*4/$D$7","v":0.16960739225420454},1.6659999999999999,{"$f":"H54/G54","v":4.0053325020513748},2.2999999999999998,{"$f":"L54^1/(K54)","v":2.4041611656971038},{"$f":"R54/(B54*E54/$D$12*D54)","v":0.87565526115515968},{"$f":"(T54*8.314*F54/4*LN(H54/G54)/1000)/V54","v":0.4507147244502348},{"$f":"T54*3600/1000/0.17625","v":10218.439716312057},{"$f":"T54/J54*3.6","v":10618.640945205343},1801,{"$f":"S54/3.6","v":500.27777777777777},{"$f":"T54*8.314*F54/4*LN(H54/G54)/1000","v":429.98184712552398},{"$f":"W54*B54","v":954},954,"each",{"$f":"H54-G54","v":3.1555991271539439}]
[null,1,"VMY536B (DP<8 b)",9937,2950,298,1.05,4.2055991271539437,null,0.16960739225420454,1.6659999999999999,4.0053325020513748,2.2999999999999998,2.4041611656971038,0.87516905612397988,{"$f":"(T55*8.314*F55/4*LN(H55/G55)/1000)/V55","v":0.44917167936049418},{"$f":"T55*3600/1000/0.17625","v":8368.7943262411354},{"$f":"T55/J55*3.6","v":8696.5549107039878},1475,{"$f":"S55/3.6","v":409.72222222222223},{"$f":"T55*8.314*F55/4*LN(H55/G55)/1000","v":352.15059661862745},{"$f":"W55*B55","v":784},784,"each",{"$f":"H55-G55","v":3.1555991271539439}]
[]
[null,2,"VMY536H (DP<20 b)",5699,3600,298,1.05,{"$f":"M57^K57*G57","v":4.2055991271539437},null,{"$f":"$D$8*G57*273.15/(F57)*4/$D$7","v":0.16960739225420454},1.6659999999999999,{"$f":"H57/G57","v":4.0053325020513748},2.2999999999999998,{"$f":"L57^1/(K57)","v":2.4041611656971038},{"$f":"R57/(B57*E57/$D$12*D57)","v":0.88930671085848212},{"$f":"(T57*8.314*F57/4*LN(H57/G57)/1000)/V57","v":0.46207514647937969},{"$f":"T57*3600/1000/0.17625","v":11903.546099290781},{"$f":"T57/J57*3.6","v":12369.743866208111},{"$f":"2*1049","v":2098},{"$f":"S57/3.6","v":582.77777777777771},{"$f":"T57*8.314*F57/4*LN(H57/G57)/1000","v":500.88945878364757},{"$f":"W57*B57","v":1084},542,"each",{"$f":"H57-G57","v":3.1555991271539439}]
[null,2,"VMY536H (DP<20 b)",5699,2950,298,1.05,4.2055991271539437,null,0.16960739225420454,1.6659999999999999,4.0053325020513748,2.2999999999999998,2.4041611656971038,{"$f":"R58/(B58*E58/$D$12*D58)","v":0.88351603685942004},{"$f":"(T58*8.314*F58/4*LN(H58/G58)/1000)/V58","v":0.46024656159820609},{"$f":"T58*3600/1000/0.17625","v":9690.7801418439722},{"$f":"T58/J58*3.6","v":10070.315788123669},{"$f":"2*854","v":1708},{"$f":"S58/3.6","v":474.44444444444446},{"$f":"T58*8.314*F58/4*LN(H58/G58)/1000","v":407.77845357601058},{"$f":"W58*B58","v":886},443,"each",{"$f":"H58-G58","v":3.1555991271539439}]
[]
[null,null,"HPcompressor        (4,2 - 16,84bara, Vi=2,3,t1=30°C)"]
[null,1,"VMY536H (DP<20 b)",5699,2950,{"$f":"273+30","v":303},4.2,{"$f":"M61^K61*G61","v":16.822396508615775},null,{"$f":"$D$8*G61*273.15/(F61)*4/$D$7","v":0.66723436160729976},1.6659999999999999,{"$f":"H61/G61","v":4.0053325020513748},2.2999999999999998,{"$f":"L61^1/(K61)","v":2.4041611656971038},{"$f":"R61/(B61*E61/$D$12*D61)","v":0.37632456911217882},{"$f":"(T61*8.314*F61/4*LN(H61/G61)/1000)/V61","v":0.24275197537355045},{"$f":"T61*3600/1000/0.17625","v":8119.1489361702133},{"$f":"T61/J61*3.6","v":2144.673719370307},1431,{"$f":"S61/3.6","v":397.5},{"$f":"T61*8.314*F61/4*LN(H61/G61)/1000","v":347.37807675955071},{"$f":"W61*B61","v":1431},1431,"each",{"$f":"H61-G61","v":12.622396508615775}]
[null,1,"VMY536M (DP<16 b)",7459,2950,298,4.2,16.822396508615775,null,0.67842956901681817,1.6659999999999999,4.0053325020513748,2.2999999999999998,2.4041611656971038,{"$f":"R62/(B62*E62/$D$12*D62)","v":0.82424214025477882},{"$f":"(T62*8.314*F62/4*LN(H62/G62)/1000)/V62","v":0.53423297392023528},{"$f":"T62*3600/1000/0.17625","v":23665.248226950356},{"$f":"T62/J62*3.6","v":6148.0221241603949},4171,{"$f":"S62/3.6","v":1158.6111111111111},{"$f":"T62*8.314*F62/4*LN(H62/G62)/1000","v":995.81026338731863},{"$f":"W62*B62","v":1864},1864,"each",{"$f":"H62-G62","v":12.622396508615775}]
[]
[]
[]
[null,null,null,null,"Pin stage 1","bar abs",1.05,1.05,null,"Pin stage 1","bar abs",1.05,1.05,1.05,null,null,3.5]
[null,null,null,null,"Vi stage 1",null,2.2999999999999998,3,null,"Vi stage 1",null,2.2999999999999998,3,4.8,null,null,4.8]
[null,null,null,null,"Gamme",null,1.6659999999999999,1.6659999999999999,null,"Gamme",null,1,1,1,null,null,1.1000000000000001]
[null,null,null,null,"Pint","bar abs",{"$f":"G66*G67^G68","v":4.2055991271539437},6.5474668677091667,null,"Pint","bar abs",{"$f":"L66*L67^L68","v":2.415},3.1500000000000004,5.04,null,null,{"$f":"Q66*Q67^Q68","v":19.653205960249572}]
[null,null,null,null,"Vi stage 2",null,2.2999999999999998,3,null,"Vi stage 2",null,2.2999999999999998,3,3,null,null,3]
[null,null,null,null,"gamma",null,1.6659999999999999,1.6659999999999999,null,"gamma",null,1,1,1,null,null,1]
[null,null,null,null,"Pout stage 2","bar abs",{"$f":"G69*G70^G71","v":16.844822874588584},40.827926079761227,null,"Pout stage 2","bar abs",{"$f":"L69*L70^L71","v":5.5545},9.4500000000000011,15.120000000000001,null,null,{"$f":"Q69*Q70^Q71","v":58.959617880748716}]
[]
[]
[]
[null,null,null,null,null,null,null,null,null,null,null,1.05,1.05,1.05]
[null,null,null,null,null,null,null,null,null,null,null,2.2999999999999998,3,4.8]
[null,null,null,null,null,"Vi^g=p2/p1",null,null,null,null,null,1.1000000000000001,1.1000000000000001,1.1000000000000001]
[null,null,null,null,null,"g",1.01,null,null,null,null,{"$f":"L76*L77^L78","v":2.6247619321015989},3.5157879982067994,5.8959617880748727]
[null,null,null,null,null,"P1",1.05,null,null,null,null,2.2999999999999998,3,3]
[null,null,null,null,null,"P2",5,null,null,null,null,1.1000000000000001,1.1000000000000001,1.1000000000000001]
[null,null,null,null,null,"Vi",{"$f":"(G81/G80)^(1/G79)","v":4.6888895765393981},null,null,null,null,{"$f":"L79*L80^L81","v":6.5613097144854455},11.772157379366641,19.741858754666229]
[]
[null,null,null,null,null,null,null,null,null,null,null,1.05,1.05,1.05]
[null,null,null,null,null,null,null,null,null,null,null,2.2999999999999998,3,4.8]
[null,null,null,null,null,null,null,null,null,null,null,1.2,1.2,1.2]
[null,null,null,null,null,null,null,null,null,null,null,{"$f":"L84*L85^L86","v":2.8527433541241067},3.92405245978888,6.8972947234998063]
[null,null,null,null,null,null,null,null,null,null,null,2.2999999999999998,3,3]
[null,null,null,null,null,null,null,null,null,null,null,1.2,1.2,1.2]
[null,null,null,null,null,null,null,null,null,null,null,{"$f":"L87*L88^L89","v":7.75061394714215},14.664940673500151,25.776520310131691]

{"sheet":"Kaeser","index":8,"n_rows":86,"n_cols":27,"rows_kept":86,"cut":false,"hidden":false,"merged":[]}
[]
[]
[null,null,"air molar mass",28.958600656000002]
[null,null,"air density",1.2758162153163073]
[null,null,"gamma",1]
[]
[null,null,null,{"$f":"D8/60","v":49.166666666666664},"Hz"]
[null,null,null,2950,"RPm"]
[]
[null,null,null,"Displ @ 2950rpm","Rotation","Tin","Pin","Pout","Pout","Rho_in","gamma","Pr","Vi","Vi\nideal","Vol_%","Iso_%","Nm3/h","A_m3/h","kg/h","g/s"]
[null,2,"KS50STX",10812,2950,{"$f":"273+25","v":298},1.05,{"$f":"M11^K11*G11","v":4.2091034682305928},{"$f":"M11^K11*G11","v":4.2091034682305928},{"$f":"$D$4*G11*273.15/(F11)*4/$D$3","v":0.16960739225420454},1.667,{"$f":"H11/G11","v":4.0086699697434218},2.2999999999999998,{"$f":"L11^1/(K11)","v":2.4047210376385255},{"$f":"R11/(B11*E11/$D$8*D11)","v":0.49951054372761283},{"$f":"(T11*8.314*F11/4*LN(H11/G11)/1000)/V11","v":0.2089997674830949},{"$f":"T11*3600/1000/0.17625","v":10394.326241134753},{"$f":"T11/J11*3.6","v":10801.4159975659},1832,{"$f":"S11/3.6","v":508.88888888888886},{"$f":"T11*8.314*F11/4*LN(H11/G11)/1000","v":437.6455131096007},{"$f":"W11*B11","v":2094},1047,"each",{"$f":"H11-G11","v":3.159103468230593}]
[null,1,"VMY536H (DP<20 b)",5699,2950,298,1.05,{"$f":"M12^K12*G12","v":6.5546639479461994},6.5546639479461994,0.16960739225420454,1.667,6.2425370932820945,3,{"$f":"L12^1/(K12)","v":3.744773301308995},0.86696304319460649,{"$f":"(T12*8.314*F12/4*LN(H12/G12)/1000)/V12","v":0.48449729970843691},{"$f":"T12*3600/1000/0.17625","v":4754.6099290780148},{"$f":"T12/J12*3.6","v":4940.8223831660625},838,{"$f":"S12/3.6","v":232.77777777777777},{"$f":"T12*8.314*F12/4*LN(H12/G12)/1000","v":264.05102834109812},{"$f":"W12*B12","v":545},545,"each",{"$f":"H12-G12","v":5.5046639479461996}]
[null,1,"VMY536H (DP<20 b)",5699,2950,298,1.05,14.348894477347578,14.348894477347578,0.16960739225420454,1.667,13.665613787950074,4.8,8.1977287270246393,0.85247917373789461,{"$f":"(T13*8.314*F13/4*LN(H13/G13)/1000)/V13","v":0.48396555376844935},{"$f":"T13*3600/1000/0.17625","v":4675.177304964539},{"$f":"T13/J13*3.6","v":4858.2788111322616},824,{"$f":"S13/3.6","v":228.88888888888889},{"$f":"T13*8.314*F13/4*LN(H13/G13)/1000","v":370.7176141866322},{"$f":"W13*B13","v":766},766,"each",{"$f":"H13-G13","v":13.298894477347577}]
["<"]
[{"$f":"+H15/I15","v":1.3575446289414348},1,"VMY536H (DP<20 b)",5699,2950,298,1.05,{"$f":"+H11","v":4.2091034682305928},{"$f":"M15^K15*G15","v":3.1005267734827271},{"$f":"$D$4*G15*273.15/(F15)*4/$D$3","v":0.16960739225420454},1.3,{"$f":"H15/G15","v":4.0086699697434218},2.2999999999999998,{"$f":"L15^1/(K15)","v":3.0835922844180166},{"$f":"R15/(B15*E15/$D$8*D15)","v":0.88351603685942004},{"$f":"(T15*8.314*F15/4*LN(H15/G15)/1000)/V15","v":0.46052282003854111},{"$f":"T15*3600/1000/0.17625","v":4845.3900709219861},{"$f":"T15/J15*3.6","v":5035.1578940618347},854,{"$f":"S15/3.6","v":237.22222222222223},{"$f":"T15*8.314*F15/4*LN(H15/G15)/1000","v":204.01160927707372},{"$f":"W15*B15","v":443},443,"each",{"$f":"H15-G15","v":3.159103468230593}]
[{"$f":"+H16/I16","v":1.4965922794751849},1,"VMY536H (DP<20 b)",5699,2950,298,1.05,{"$f":"+H12","v":6.5546639479461994},{"$f":"M16^K16*G16","v":4.3797258864951152},0.16960739225420454,1.3,6.2425370932820945,3,{"$f":"L16^1/(K16)","v":4.8019516102169959},0.86696304319460649,{"$f":"(T16*8.314*F16/4*LN(H16/G16)/1000)/V16","v":0.48449729970843691},{"$f":"T16*3600/1000/0.17625","v":4754.6099290780148},{"$f":"T16/J16*3.6","v":4940.8223831660625},838,{"$f":"S16/3.6","v":232.77777777777777},{"$f":"T16*8.314*F16/4*LN(H16/G16)/1000","v":264.05102834109812},{"$f":"W16*B16","v":545},545,"each",{"$f":"H16-G16","v":5.5046639479461996}]
[1.7783430177874067,1,"VMY536H (DP<20 b)",5699,2950,298,1.05,14.348894477347578,8.0686877243740653,0.16960739225420454,1.3,13.665613787950074,4.8,10.512010606115441,0.85247917373789461,{"$f":"(T17*8.314*F17/4*LN(H17/G17)/1000)/V17","v":0.48396555376844935},{"$f":"T17*3600/1000/0.17625","v":4675.177304964539},{"$f":"T17/J17*3.6","v":4858.2788111322616},824,{"$f":"S17/3.6","v":228.88888888888889},{"$f":"T17*8.314*F17/4*LN(H17/G17)/1000","v":370.7176141866322},{"$f":"W17*B17","v":766},766,"each",{"$f":"H17-G17","v":13.298894477347577}]
["<"]
[null,1,"VMY536H (DP<20 b)",5699,2950,298,1.05,4.2,null,{"$f":"$D$4*G19*273.15/(F19)*4/$D$3","v":0.16960739225420454},1.3,{"$f":"H19/G19","v":4},2.2999999999999998,3.0769230769230766,{"$f":"R19/(B19*E19/$D$8*D19)","v":0.88351603685942004},{"$f":"(T19*8.314*F19/4*LN(H19/G19)/1000)/V19","v":0.45980468637285621},{"$f":"T19*3600/1000/0.17625","v":4845.3900709219861},{"$f":"T19/J19*3.6","v":5035.1578940618347},854,{"$f":"S19/3.6","v":237.22222222222223},{"$f":"T19*8.314*F19/4*LN(H19/G19)/1000","v":203.6934760631753},{"$f":"W19*B19","v":443},443,"each",{"$f":"H19-G19","v":3.1500000000000004}]
[null,1,"VMY536H (DP<20 b)",5699,2950,298,1.05,6.55,null,0.16960739225420454,1.3,6.2380952380952372,2.2999999999999998,4.7985347985347975,0.85661742215409808,{"$f":"(T20*8.314*F20/4*LN(H20/G20)/1000)/V20","v":0.42544642438558322},{"$f":"T20*3600/1000/0.17625","v":4697.8723404255325},{"$f":"T20/J20*3.6","v":4881.8626888562048},828,{"$f":"S20/3.6","v":230},{"$f":"T20*8.314*F20/4*LN(H20/G20)/1000","v":260.79865814836251},{"$f":"W20*B20","v":613},613,"each",{"$f":"H20-G20","v":5.5}]
[null,1,"VMY536H (DP<20 b)",5699,2950,298,1.05,14.31,null,0.16960739225420454,1.3,13.628571428571428,2.2999999999999998,10.483516483516484,0.76557595699762371,{"$f":"(T21*8.314*F21/4*LN(H21/G21)/1000)/V21","v":0.28280648658189489},{"$f":"T21*3600/1000/0.17625","v":4198.5815602836883},{"$f":"T21/J21*3.6","v":4363.0173789294577},740,{"$f":"S21/3.6","v":205.55555555555554},{"$f":"T21*8.314*F21/4*LN(H21/G21)/1000","v":332.58042822030842},{"$f":"W21*B21","v":1176},1176,"each",{"$f":"H21-G21","v":13.26}]
[]
[null,1,"VMY536H (DP<20 b)",5699,2950,298,1.05,4.2,null,{"$f":"$D$4*G23*273.15/(F23)*4/$D$3","v":0.16960739225420454},1.3,{"$f":"H23/G23","v":4},3,3.0769230769230766,{"$f":"R23/(B23*E23/$D$8*D23)","v":0.89075797158777581},{"$f":"(T23*8.314*F23/4*LN(H23/G23)/1000)/V23","v":0.49247744537033772},{"$f":"T23*3600/1000/0.17625","v":4885.1063829787236},{"$f":"T23/J23*3.6","v":5076.4296800787342},861,{"$f":"S23/3.6","v":239.16666666666666},{"$f":"T23*8.314*F23/4*LN(H23/G23)/1000","v":205.36309471943082},{"$f":"W23*B23","v":417},417,"each",{"$f":"H23-G23","v":3.1500000000000004}]
[null,1,"VMY536H (DP<20 b)",5699,2950,298,1.05,6.55,null,0.16960739225420454,1.3,6.2380952380952372,3,4.7985347985347975,0.86696304319460649,{"$f":"(T24*8.314*F24/4*LN(H24/G24)/1000)/V24","v":0.48430899155326818},{"$f":"T24*3600/1000/0.17625","v":4754.6099290780148},{"$f":"T24/J24*3.6","v":4940.8223831660625},838,{"$f":"S24/3.6","v":232.77777777777777},{"$f":"T24*8.314*F24/4*LN(H24/G24)/1000","v":263.94840039653116},{"$f":"W24*B24","v":545},545,"each",{"$f":"H24-G24","v":5.5}]
[null,1,"VMY536H (DP<20 b)",5699,2950,298,1.05,14.31,null,0.16960739225420454,1.3,13.628571428571428,3,10.483516483516484,0.78937088539079314,{"$f":"(T25*8.314*F25/4*LN(H25/G25)/1000)/V25","v":0.35134978224979968},{"$f":"T25*3600/1000/0.17625","v":4329.078014184397},{"$f":"T25/J25*3.6","v":4498.6246758421303},763,{"$f":"S25/3.6","v":211.94444444444443},{"$f":"T25*8.314*F25/4*LN(H25/G25)/1000","v":342.9173874758045},{"$f":"W25*B25","v":976},976,"each",{"$f":"H25-G25","v":13.26}]
[]
[null,1,"VMY536H (DP<20 b)",5699,2950,298,1.05,4.2,null,{"$f":"$D$4*G27*273.15/(F27)*4/$D$3","v":0.16960739225420454},1.3,{"$f":"H27/G27","v":4},4.8,3.0769230769230766,{"$f":"R27/(B27*E27/$D$8*D27)","v":0.90731096525258925},{"$f":"(T27*8.314*F27/4*LN(H27/G27)/1000)/V27","v":0.49451386745562459},{"$f":"T27*3600/1000/0.17625","v":4975.8865248226957},{"$f":"T27/J27*3.6","v":5170.7651909745064},877,{"$f":"S27/3.6","v":243.61111111111111},{"$f":"T27*8.314*F27/4*LN(H27/G27)/1000","v":209.1793659337292},{"$f":"W27*B27","v":423},423,"each",{"$f":"H27-G27","v":3.1500000000000004}]
[null,1,"VMY536H (DP<20 b)",5699,2950,298,1.05,6.55,null,0.16960739225420454,1.3,6.2380952380952372,4.8,4.7985347985347975,0.89489622000397917,{"$f":"(T28*8.314*F28/4*LN(H28/G28)/1000)/V28","v":0.54381777338640014},{"$f":"T28*3600/1000/0.17625","v":4907.8014184397161},{"$f":"T28/J28*3.6","v":5100.0135578026775},865,{"$f":"S28/3.6","v":240.27777777777777},{"$f":"T28*8.314*F28/4*LN(H28/G28)/1000","v":272.45270446658645},{"$f":"W28*B28","v":501},501,"each",{"$f":"H28-G28","v":5.5}]
[null,1,"VMY536H (DP<20 b)",5699,2950,298,1.05,14.31,null,0.16960739225420454,1.3,13.628571428571428,4.8,10.483516483516484,0.85247917373789461,{"$f":"(T29*8.314*F29/4*LN(H29/G29)/1000)/V29","v":0.48346318688436635},{"$f":"T29*3600/1000/0.17625","v":4675.177304964539},{"$f":"T29/J29*3.6","v":4858.2788111322616},824,{"$f":"S29/3.6","v":228.88888888888889},{"$f":"T29*8.314*F29/4*LN(H29/G29)/1000","v":370.33280115342461},{"$f":"W29*B29","v":766},766,"each",{"$f":"H29-G29","v":13.26}]
[]
[]
[null,1,"VMY536H (DP<20 b)",5699,2950,298,1.05,{"$f":"M32^K32*G32","v":4.2055991271539437},null,{"$f":"$D$4*G32*273.15/(F32)*4/$D$3","v":0.16960739225420454},1.6659999999999999,{"$f":"H32/G32","v":4.0053325020513748},2.2999999999999998,{"$f":"L32^1/(K32)","v":2.4041611656971038},{"$f":"R32/(B32*E32/$D$8*D32)","v":0.88351603685942004},{"$f":"(T32*8.314*F32/4*LN(H32/G32)/1000)/V32","v":0.46024656159820609},{"$f":"T32*3600/1000/0.17625","v":4845.3900709219861},{"$f":"T32/J32*3.6","v":5035.1578940618347},854,{"$f":"S32/3.6","v":237.22222222222223},{"$f":"T32*8.314*F32/4*LN(H32/G32)/1000","v":203.88922678800529},{"$f":"W32*B32","v":443},443,"each",{"$f":"H32-G32","v":3.1555991271539439}]
[null,1,"VMY536H (DP<20 b)",5699,2950,298,1.05,4.2,null,0.16960739225420454,1.6659999999999999,4,3,2.4009603841536618,0.89075797158777581,{"$f":"(T33*8.314*F33/4*LN(H33/G33)/1000)/V33","v":0.49247744537033772},{"$f":"T33*3600/1000/0.17625","v":4885.1063829787236},{"$f":"T33/J33*3.6","v":5076.4296800787342},861,{"$f":"S33/3.6","v":239.16666666666666},{"$f":"T33*8.314*F33/4*LN(H33/G33)/1000","v":205.36309471943082},{"$f":"W33*B33","v":417},417,"each",{"$f":"H33-G33","v":3.1500000000000004}]
[null,1,"VMY536H (DP<20 b)",5699,2950,298,1.05,4.2,null,0.16960739225420454,1.6659999999999999,4,4.8,2.4009603841536618,0.90731096525258925,{"$f":"(T34*8.314*F34/4*LN(H34/G34)/1000)/V34","v":0.49451386745562459},{"$f":"T34*3600/1000/0.17625","v":4975.8865248226957},{"$f":"T34/J34*3.6","v":5170.7651909745064},877,{"$f":"S34/3.6","v":243.61111111111111},{"$f":"T34*8.314*F34/4*LN(H34/G34)/1000","v":209.1793659337292},{"$f":"W34*B34","v":423},423,"each",{"$f":"H34-G34","v":3.1500000000000004}]
[]
[null,1,"VMY536H (DP<20 b)",5699,2950,298,1.05,6.55,null,{"$f":"$D$4*G36*273.15/(F36)*4/$D$3","v":0.16960739225420454},1.6659999999999999,{"$f":"H36/G36","v":6.2380952380952372},2.2999999999999998,3.744354884811067,{"$f":"R36/(B36*E36/$D$8*D36)","v":0.85661742215409808},{"$f":"(T36*8.314*F36/4*LN(H36/G36)/1000)/V36","v":0.42544642438558322},{"$f":"T36*3600/1000/0.17625","v":4697.8723404255325},{"$f":"T36/J36*3.6","v":4881.8626888562048},828,{"$f":"S36/3.6","v":230},{"$f":"T36*8.314*F36/4*LN(H36/G36)/1000","v":260.79865814836251},{"$f":"W36*B36","v":613},613,"each",{"$f":"H36-G36","v":5.5}]
[null,1,"VMY536H (DP<20 b)",5699,2950,298,1.05,{"$f":"M37^K37*G37","v":6.5474668677091667},null,0.16960739225420454,1.6659999999999999,6.235682731151587,3,3.7429068014115168,0.86696304319460649,{"$f":"(T37*8.314*F37/4*LN(H37/G37)/1000)/V37","v":0.48420665945666219},{"$f":"T37*3600/1000/0.17625","v":4754.6099290780148},{"$f":"T37/J37*3.6","v":4940.8223831660625},838,{"$f":"S37/3.6","v":232.77777777777777},{"$f":"T37*8.314*F37/4*LN(H37/G37)/1000","v":263.8926294038809},{"$f":"W37*B37","v":545},545,"each",{"$f":"H37-G37","v":5.4974668677091669},null,{"$f":"[3]!h_(11,H37,F37)-[3]!h_(11,G37,F37)","v":{"$error":"#VALUE!"}}]
[null,1,"VMY536H (DP<20 b)",5699,2950,298,1.05,6.55,null,0.16960739225420454,1.6659999999999999,6.2380952380952372,4.8,3.744354884811067,0.85247917373789461,{"$f":"(T38*8.314*F38/4*LN(H38/G38)/1000)/V38","v":0.33882344810586829},{"$f":"T38*3600/1000/0.17625","v":4675.177304964539},{"$f":"T38/J38*3.6","v":4858.2788111322616},824,{"$f":"S38/3.6","v":228.88888888888889},{"$f":"T38*8.314*F38/4*LN(H38/G38)/1000","v":259.5387612490951},{"$f":"W38*B38","v":766},766,"each",{"$f":"H38-G38","v":5.5}]
[]
[null,1,"VMY536H (DP<20 b)",5699,2950,298,1.05,14.31,null,{"$f":"$D$4*G40*273.15/(F40)*4/$D$3","v":0.16960739225420454},1.6659999999999999,{"$f":"H40/G40","v":13.628571428571428},2.2999999999999998,{"$f":"L40^1/(K40)","v":8.1804150231521184},{"$f":"R40/(B40*E40/$D$8*D40)","v":0.76557595699762371},{"$f":"(T40*8.314*F40/4*LN(H40/G40)/1000)/V40","v":0.28280648658189489},{"$f":"T40*3600/1000/0.17625","v":4198.5815602836883},{"$f":"T40/J40*3.6","v":4363.0173789294577},740,{"$f":"S40/3.6","v":205.55555555555554},{"$f":"T40*8.314*F40/4*LN(H40/G40)/1000","v":332.58042822030842},{"$f":"W40*B40","v":1176},1176,"each",{"$f":"H40-G40","v":13.26}]
[null,1,"VMY536H (DP<20 b)",5699,2950,298,1.05,14.31,null,0.16960739225420454,1.6659999999999999,13.628571428571428,3,8.1804150231521184,0.78937088539079314,{"$f":"(T41*8.314*F41/4*LN(H41/G41)/1000)/V41","v":0.35134978224979968},{"$f":"T41*3600/1000/0.17625","v":4329.078014184397},{"$f":"T41/J41*3.6","v":4498.6246758421303},763,{"$f":"S41/3.6","v":211.94444444444443},{"$f":"T41*8.314*F41/4*LN(H41/G41)/1000","v":342.9173874758045},{"$f":"W41*B41","v":976},976,"each",{"$f":"H41-G41","v":13.26}]
[null,1,"VMY536H (DP<20 b)",5699,2950,298,1.05,{"$f":"M42^K42*G42","v":14.326404216967706},null,0.16960739225420454,1.6659999999999999,13.644194492350195,4.8,8.1897926124550988,0.85247917373789461,{"$f":"(T42*8.314*F42/4*LN(H42/G42)/1000)/V42","v":0.48367523250044192},{"$f":"T42*3600/1000/0.17625","v":4675.177304964539},{"$f":"T42/J42*3.6","v":4858.2788111322616},824,{"$f":"S42/3.6","v":228.88888888888889},{"$f":"T42*8.314*F42/4*LN(H42/G42)/1000","v":370.49522809533852},{"$f":"W42*B42","v":766},766,"each",{"$f":"H42-G42","v":13.276404216967705}]
[]
[null,null,"TMCP"]
[]
[null,2,"VMY536H (DP<20 b)",5699,2280,298,3.4,20,null,{"$f":"$D$4*G46*273.15/(F46)*4/$D$3","v":0.54920488920409083},1.6659999999999999,{"$f":"H46/G46","v":5.882352941176471},4.8,{"$f":"L46^1/(K46)","v":3.53082409434362},{"$f":"R46/(B46*E46/$D$8*D46)","v":0.86190654083659157},{"$f":"(T46*8.314*F46/4*LN(H46/G46)/1000)/V46","v":0.58424377804482497},{"$f":"T46*3600/1000/0.17625","v":23659.574468085102},{"$f":"T46/J46*3.6","v":7592.7947510503309},{"$f":"2*2085","v":4170},{"$f":"S46/3.6","v":1158.3333333333333},{"$f":"T46*8.314*F46/4*LN(H46/G46)/1000","v":1271.3144610255392},{"$f":"W46*B46","v":2176},1088,"each",{"$f":"H46-G46","v":16.600000000000001}]
[null,2,"VMY536H (DP<20 b)",5699,2950,298,2.5,{"$f":"M47^K47*G47","v":15.589206827878968},null,0.40382712441477275,1.6659999999999999,6.235682731151587,3,3.7429068014115168,0.8294912037858847,{"$f":"(T47*8.314*F47/4*LN(H47/G47)/1000)/V47","v":0.51381089440875571},{"$f":"T47*3600/1000/0.17625","v":21662.411347517729},{"$f":"T47/J47*3.6","v":9454.540740751514},{"$f":"2*1909","v":3818},{"$f":"S47/3.6","v":1060.5555555555554},{"$f":"T47*8.314*F47/4*LN(H47/G47)/1000","v":1202.3174929164884},{"$f":"W47*B47","v":2340},{"$f":"1170","v":1170},"each",{"$f":"H47-G47","v":13.089206827878968}]
[]
[null,null,"LPcompressor        (1,05 - 4,2bara, Vi=2,3,t1=25°C)"]
[null,1,"VMY536B (DP<8 b)",9937,3600,298,1.05,{"$f":"M50^K50*G50","v":4.2055991271539437},null,{"$f":"$D$4*G50*273.15/(F50)*4/$D$3","v":0.16960739225420454},1.6659999999999999,{"$f":"H50/G50","v":4.0053325020513748},2.2999999999999998,{"$f":"L50^1/(K50)","v":2.4041611656971038},{"$f":"R50/(B50*E50/$D$8*D50)","v":0.87565526115515968},{"$f":"(T50*8.314*F50/4*LN(H50/G50)/1000)/V50","v":0.4507147244502348},{"$f":"T50*3600/1000/0.17625","v":10218.439716312057},{"$f":"T50/J50*3.6","v":10618.640945205343},1801,{"$f":"S50/3.6","v":500.27777777777777},{"$f":"T50*8.314*F50/4*LN(H50/G50)/1000","v":429.98184712552398},{"$f":"W50*B50","v":954},954,"each",{"$f":"H50-G50","v":3.1555991271539439}]
[null,1,"VMY536B (DP<8 b)",9937,2950,298,1.05,4.2055991271539437,null,0.16960739225420454,1.6659999999999999,4.0053325020513748,2.2999999999999998,2.4041611656971038,0.87516905612397988,{"$f":"(T51*8.314*F51/4*LN(H51/G51)/1000)/V51","v":0.44917167936049418},{"$f":"T51*3600/1000/0.17625","v":8368.7943262411354},{"$f":"T51/J51*3.6","v":8696.5549107039878},1475,{"$f":"S51/3.6","v":409.72222222222223},{"$f":"T51*8.314*F51/4*LN(H51/G51)/1000","v":352.15059661862745},{"$f":"W51*B51","v":784},784,"each",{"$f":"H51-G51","v":3.1555991271539439}]
[]
[null,2,"VMY536H (DP<20 b)",5699,3600,298,1.05,{"$f":"M53^K53*G53","v":4.2055991271539437},null,{"$f":"$D$4*G53*273.15/(F53)*4/$D$3","v":0.16960739225420454},1.6659999999999999,{"$f":"H53/G53","v":4.0053325020513748},2.2999999999999998,{"$f":"L53^1/(K53)","v":2.4041611656971038},{"$f":"R53/(B53*E53/$D$8*D53)","v":0.88930671085848212},{"$f":"(T53*8.314*F53/4*LN(H53/G53)/1000)/V53","v":0.46207514647937969},{"$f":"T53*3600/1000/0.17625","v":11903.546099290781},{"$f":"T53/J53*3.6","v":12369.743866208111},{"$f":"2*1049","v":2098},{"$f":"S53/3.6","v":582.77777777777771},{"$f":"T53*8.314*F53/4*LN(H53/G53)/1000","v":500.88945878364757},{"$f":"W53*B53","v":1084},542,"each",{"$f":"H53-G53","v":3.1555991271539439}]
[null,2,"VMY536H (DP<20 b)",5699,2950,298,1.05,4.2055991271539437,null,0.16960739225420454,1.6659999999999999,4.0053325020513748,2.2999999999999998,2.4041611656971038,{"$f":"R54/(B54*E54/$D$8*D54)","v":0.88351603685942004},{"$f":"(T54*8.314*F54/4*LN(H54/G54)/1000)/V54","v":0.46024656159820609},{"$f":"T54*3600/1000/0.17625","v":9690.7801418439722},{"$f":"T54/J54*3.6","v":10070.315788123669},{"$f":"2*854","v":1708},{"$f":"S54/3.6","v":474.44444444444446},{"$f":"T54*8.314*F54/4*LN(H54/G54)/1000","v":407.77845357601058},{"$f":"W54*B54","v":886},443,"each",{"$f":"H54-G54","v":3.1555991271539439}]
[]
[null,null,"HPcompressor        (4,2 - 16,84bara, Vi=2,3,t1=30°C)"]
[null,1,"VMY536H (DP<20 b)",5699,2950,{"$f":"273+30","v":303},4.2,{"$f":"M57^K57*G57","v":16.822396508615775},null,{"$f":"$D$4*G57*273.15/(F57)*4/$D$3","v":0.66723436160729976},1.6659999999999999,{"$f":"H57/G57","v":4.0053325020513748},2.2999999999999998,{"$f":"L57^1/(K57)","v":2.4041611656971038},{"$f":"R57/(B57*E57/$D$8*D57)","v":0.37632456911217882},{"$f":"(T57*8.314*F57/4*LN(H57/G57)/1000)/V57","v":0.24275197537355045},{"$f":"T57*3600/1000/0.17625","v":8119.1489361702133},{"$f":"T57/J57*3.6","v":2144.673719370307},1431,{"$f":"S57/3.6","v":397.5},{"$f":"T57*8.314*F57/4*LN(H57/G57)/1000","v":347.37807675955071},{"$f":"W57*B57","v":1431},1431,"each",{"$f":"H57-G57","v":12.622396508615775}]
[null,1,"VMY536M (DP<16 b)",7459,2950,298,4.2,16.822396508615775,null,0.67842956901681817,1.6659999999999999,4.0053325020513748,2.2999999999999998,2.4041611656971038,{"$f":"R58/(B58*E58/$D$8*D58)","v":0.82424214025477882},{"$f":"(T58*8.314*F58/4*LN(H58/G58)/1000)/V58","v":0.53423297392023528},{"$f":"T58*3600/1000/0.17625","v":23665.248226950356},{"$f":"T58/J58*3.6","v":6148.0221241603949},4171,{"$f":"S58/3.6","v":1158.6111111111111},{"$f":"T58*8.314*F58/4*LN(H58/G58)/1000","v":995.81026338731863},{"$f":"W58*B58","v":1864},1864,"each",{"$f":"H58-G58","v":12.622396508615775}]
[]
[]
[]
[null,null,null,null,"Pin stage 1","bar abs",1.05,1.05,null,"Pin stage 1","bar abs",1.05,1.05,1.05,null,null,3.5]
[null,null,null,null,"Vi stage 1",null,2.2999999999999998,3,null,"Vi stage 1",null,2.2999999999999998,3,4.8,null,null,4.8]
[null,null,null,null,"Gamme",null,1.6659999999999999,1.6659999999999999,null,"Gamme",null,1,1,1,null,null,1.1000000000000001]
[null,null,null,null,"Pint","bar abs",{"$f":"G62*G63^G64","v":4.2055991271539437},6.5474668677091667,null,"Pint","bar abs",{"$f":"L62*L63^L64","v":2.415},3.1500000000000004,5.04,null,null,{"$f":"Q62*Q63^Q64","v":19.653205960249572}]
[null,null,null,null,"Vi stage 2",null,2.2999999999999998,3,null,"Vi stage 2",null,2.2999999999999998,3,3,null,null,3]
[null,null,null,null,"gamma",null,1.6659999999999999,1.6659999999999999,null,"gamma",null,1,1,1,null,null,1]
[null,null,null,null,"Pout stage 2","bar abs",{"$f":"G65*G66^G67","v":16.844822874588584},40.827926079761227,null,"Pout stage 2","bar abs",{"$f":"L65*L66^L67","v":5.5545},9.4500000000000011,15.120000000000001,null,null,{"$f":"Q65*Q66^Q67","v":58.959617880748716}]
[]
[]
[]
[null,null,null,null,null,null,null,null,null,null,null,1.05,1.05,1.05]
[null,null,null,null,null,null,null,null,null,null,null,2.2999999999999998,3,4.8]
[null,null,null,null,null,null,null,null,null,null,null,1.1000000000000001,1.1000000000000001,1.1000000000000001]
[null,null,null,null,null,null,null,null,null,null,null,{"$f":"L72*L73^L74","v":2.6247619321015989},3.5157879982067994,5.8959617880748727]
[null,null,null,null,null,null,null,null,null,null,null,2.2999999999999998,3,3]
[null,null,null,null,null,null,null,null,null,null,null,1.1000000000000001,1.1000000000000001,1.1000000000000001]
[null,null,null,null,null,null,null,null,null,null,null,{"$f":"L75*L76^L77","v":6.5613097144854455},11.772157379366641,19.741858754666229]
[]
[null,null,null,null,null,null,null,null,null,null,null,1.05,1.05,1.05]
[null,null,null,null,null,null,null,null,null,null,null,2.2999999999999998,3,4.8]
[null,null,null,null,null,null,null,null,null,null,null,1.2,1.2,1.2]
[null,null,null,null,null,null,null,null,null,null,null,{"$f":"L80*L81^L82","v":2.8527433541241067},3.92405245978888,6.8972947234998063]
[null,null,null,null,null,null,null,null,null,null,null,2.2999999999999998,3,3]
[null,null,null,null,null,null,null,null,null,null,null,1.2,1.2,1.2]
[null,null,null,null,null,null,null,null,null,null,null,{"$f":"L83*L84^L85","v":7.75061394714215},14.664940673500151,25.776520310131691]

{"sheet":"Howden_results_JLAB","index":9,"n_rows":123,"n_cols":46,"rows_kept":123,"cut":false,"hidden":false,"merged":[[6,1,6,3],[28,1,28,3],[51,1,51,2],[75,1,75,3]]}
[null,null,null,null,null,null,null,null,"Pressure Ratio",null,"P suction","Pdischarge","P ratio","rdt isoT calc","IsoT_","Vol_",null,"IsoT_","Vol_",null,null,null,null,null,null,null,"rdt soT corrigé","rdt vol corrigé"]
[null,null,null,null,null,{"$f":"F4","v":1.05},2.37,null,null,"MP_HP",{"$f":"[1]ExergySLAC!D16","v":6.06},{"$f":"[1]ExergySLAC!E16","v":19},{"$f":"L2/K2","v":3.1353135313531357},{"$f":" 0.0012*M2^6 - 0.0429*M2^5 + 0.6099*M2^4 - 4.185*M2^3 + 13.77*M2^2 - 19.318*M2 + 60.184","v":53.071570809579342},{"$f":"((INDEX(LINEST(INDIRECT(O$1&$J2),INDIRECT(\"Pressure_ratio\")^{1,2,3,4,5,6,7}),1)*$M2^7)+(INDEX(LINEST(INDIRECT(O$1&$J2),INDIRECT(\"Pressure_ratio\")^{1,2,3,4,5,6,7}),1,2)*$M2^6)+(INDEX(LINEST(INDIRECT(O$1&$J2),INDIRECT(\"Pressure_ratio\")^{1,2,3,4,5,6,7}),1,3)*$M2^5)+(INDEX(LINEST(INDIRECT(O$1&$J2),INDIRECT(\"Pressure_ratio\")^{1,2,3,4,5,6,7}),1,4)*$M2^4)+(INDEX(LINEST(INDIRECT(O$1&$J2),INDIRECT(\"Pressure_ratio\")^{1,2,3,4,5,6,7}),1,5)*$M2^3)+(INDEX(LINEST(INDIRECT(O$1&$J2),INDIRECT(\"Pressure_ratio\")^{1,2,3,4,5,6,7}),1,6)*$M2^2)+(INDEX(LINEST(INDIRECT(O$1&$J2),INDIRECT(\"Pressure_ratio\")^{1,2,3,4,5,6,7}),1,7)*$M2)+INDEX(LINEST(INDIRECT(O$1&$J2),INDIRECT(\"Pressure_ratio\")^{1,2,3,4,5,6,7}),1,8))","v":55.59438371242959},{"$f":"((INDEX(LINEST(INDIRECT(P$1&$J2),INDIRECT(\"Pressure_ratio\")^{1,2,3,4,5,6,7}),1)*$M2^7)+(INDEX(LINEST(INDIRECT(P$1&$J2),INDIRECT(\"Pressure_ratio\")^{1,2,3,4,5,6,7}),1,2)*$M2^6)+(INDEX(LINEST(INDIRECT(P$1&$J2),INDIRECT(\"Pressure_ratio\")^{1,2,3,4,5,6,7}),1,3)*$M2^5)+(INDEX(LINEST(INDIRECT(P$1&$J2),INDIRECT(\"Pressure_ratio\")^{1,2,3,4,5,6,7}),1,4)*$M2^4)+(INDEX(LINEST(INDIRECT(P$1&$J2),INDIRECT(\"Pressure_ratio\")^{1,2,3,4,5,6,7}),1,5)*$M2^3)+(INDEX(LINEST(INDIRECT(P$1&$J2),INDIRECT(\"Pressure_ratio\")^{1,2,3,4,5,6,7}),1,6)*$M2^2)+(INDEX(LINEST(INDIRECT(P$1&$J2),INDIRECT(\"Pressure_ratio\")^{1,2,3,4,5,6,7}),1,7)*$M2)+INDEX(LINEST(INDIRECT(P$1&$J2),INDIRECT(\"Pressure_ratio\")^{1,2,3,4,5,6,7}),1,8))","v":82.891708783557078},null,{"$f":"extrapol_($M2,Pressure_ratio,INDIRECT(R$1&$J2))/100","v":0.52927062706270622},{"$f":"extrapol_($M2,Pressure_ratio,INDIRECT(S$1&$J2))/100","v":0.79},null,null,null,null,null,null,null,{"$f":"N2","v":53.071570809579342},{"$f":"P2","v":82.891708783557078},null,{"$f":"extrapol_(AD1,Vol_ratio,Vol_MP_HP)/100","v":0},null,null,null,"7 Order Polynomial Trendline"]
[null,{"$f":"13.92+24.23+12.63+7.26","v":58.04},null,null,null,null,{"$f":"G2/F2","v":2.2571428571428571},null,null,"LPR_MP",{"$f":"[1]ExergySLAC!D17","v":2.3079999999999998},{"$f":"[1]ExergySLAC!E17","v":6.06},{"$f":"L3/K3","v":2.6256499133448874},{"$f":" 0.1067*M3^6 - 2.0738*M3^5 + 16*M3^4 - 61.153*M3^3 + 115.21*M3^2 - 86.125*M3 + 57.983","v":55.773482098098548},{"$f":"((INDEX(LINEST(INDIRECT(O$1&$J3),INDIRECT(\"Pressure_ratio\")^{1,2,3,4,5,6,7}),1)*$M3^7)+(INDEX(LINEST(INDIRECT(O$1&$J3),INDIRECT(\"Pressure_ratio\")^{1,2,3,4,5,6,7}),1,2)*$M3^6)+(INDEX(LINEST(INDIRECT(O$1&$J3),INDIRECT(\"Pressure_ratio\")^{1,2,3,4,5,6,7}),1,3)*$M3^5)+(INDEX(LINEST(INDIRECT(O$1&$J3),INDIRECT(\"Pressure_ratio\")^{1,2,3,4,5,6,7}),1,4)*$M3^4)+(INDEX(LINEST(INDIRECT(O$1&$J3),INDIRECT(\"Pressure_ratio\")^{1,2,3,4,5,6,7}),1,5)*$M3^3)+(INDEX(LINEST(INDIRECT(O$1&$J3),INDIRECT(\"Pressure_ratio\")^{1,2,3,4,5,6,7}),1,6)*$M3^2)+(INDEX(LINEST(INDIRECT(O$1&$J3),INDIRECT(\"Pressure_ratio\")^{1,2,3,4,5,6,7}),1,7)*$M3)+INDEX(LINEST(INDIRECT(O$1&$J3),INDIRECT(\"Pressure_ratio\")^{1,2,3,4,5,6,7}),1,8))","v":54.937811867497885},{"$f":"((INDEX(LINEST(INDIRECT(P$1&$J3),INDIRECT(\"Pressure_ratio\")^{1,2,3,4,5,6,7}),1)*$M3^7)+(INDEX(LINEST(INDIRECT(P$1&$J3),INDIRECT(\"Pressure_ratio\")^{1,2,3,4,5,6,7}),1,2)*$M3^6)+(INDEX(LINEST(INDIRECT(P$1&$J3),INDIRECT(\"Pressure_ratio\")^{1,2,3,4,5,6,7}),1,3)*$M3^5)+(INDEX(LINEST(INDIRECT(P$1&$J3),INDIRECT(\"Pressure_ratio\")^{1,2,3,4,5,6,7}),1,4)*$M3^4)+(INDEX(LINEST(INDIRECT(P$1&$J3),INDIRECT(\"Pressure_ratio\")^{1,2,3,4,5,6,7}),1,5)*$M3^3)+(INDEX(LINEST(INDIRECT(P$1&$J3),INDIRECT(\"Pressure_ratio\")^{1,2,3,4,5,6,7}),1,6)*$M3^2)+(INDEX(LINEST(INDIRECT(P$1&$J3),INDIRECT(\"Pressure_ratio\")^{1,2,3,4,5,6,7}),1,7)*$M3)+INDEX(LINEST(INDIRECT(P$1&$J3),INDIRECT(\"Pressure_ratio\")^{1,2,3,4,5,6,7}),1,8))","v":86.231929124105363},null,{"$f":"extrapol_($M3,Pressure_ratio,INDIRECT(R$1&$J3))/100","v":0.55624090121317149},{"$f":"extrapol_($M3,Pressure_ratio,INDIRECT(S$1&$J3))/100","v":0.875},null,null,null,null,null,null,null,{"$f":"N3","v":55.773482098098548},{"$f":"P3","v":86.231929124105363},{"$f":"extrapol_(AC1,IsoT_ratio,IsoT_LPL_MP)/100","v":{"$error":"#VALUE!"}},{"$f":"extrapol_(AD1,IsoT_ratio,IsoT_MP_HP)/100","v":{"$error":"#VALUE!"}},null,null,null,"Equation: y = (c3 * x^3) + (c2 * x^2) + (c1 * x^1) + b"]
[null,null,null,null,"Patm",1.05,{"$f":"K2","v":6.06},{"$f":"L2","v":19},null,"LPL_MP",{"$f":"[1]ExergySLAC!D18","v":1.05},{"$f":"[1]ExergySLAC!E18","v":6.06},5.7714285714285705,{"$f":"O4","v":48.671292292121962},{"$f":"((INDEX(LINEST(INDIRECT(O$1&$J4),INDIRECT(\"Pressure_ratio\")^{1,2,3,4,5,6,7}),1)*$M4^7)+(INDEX(LINEST(INDIRECT(O$1&$J4),INDIRECT(\"Pressure_ratio\")^{1,2,3,4,5,6,7}),1,2)*$M4^6)+(INDEX(LINEST(INDIRECT(O$1&$J4),INDIRECT(\"Pressure_ratio\")^{1,2,3,4,5,6,7}),1,3)*$M4^5)+(INDEX(LINEST(INDIRECT(O$1&$J4),INDIRECT(\"Pressure_ratio\")^{1,2,3,4,5,6,7}),1,4)*$M4^4)+(INDEX(LINEST(INDIRECT(O$1&$J4),INDIRECT(\"Pressure_ratio\")^{1,2,3,4,5,6,7}),1,5)*$M4^3)+(INDEX(LINEST(INDIRECT(O$1&$J4),INDIRECT(\"Pressure_ratio\")^{1,2,3,4,5,6,7}),1,6)*$M4^2)+(INDEX(LINEST(INDIRECT(O$1&$J4),INDIRECT(\"Pressure_ratio\")^{1,2,3,4,5,6,7}),1,7)*$M4)+INDEX(LINEST(INDIRECT(O$1&$J4),INDIRECT(\"Pressure_ratio\")^{1,2,3,4,5,6,7}),1,8))","v":48.671292292121962},{"$f":"((INDEX(LINEST(INDIRECT(P$1&$J4),INDIRECT(\"Pressure_ratio\")^{1,2,3,4,5,6,7}),1)*$M4^7)+(INDEX(LINEST(INDIRECT(P$1&$J4),INDIRECT(\"Pressure_ratio\")^{1,2,3,4,5,6,7}),1,2)*$M4^6)+(INDEX(LINEST(INDIRECT(P$1&$J4),INDIRECT(\"Pressure_ratio\")^{1,2,3,4,5,6,7}),1,3)*$M4^5)+(INDEX(LINEST(INDIRECT(P$1&$J4),INDIRECT(\"Pressure_ratio\")^{1,2,3,4,5,6,7}),1,4)*$M4^4)+(INDEX(LINEST(INDIRECT(P$1&$J4),INDIRECT(\"Pressure_ratio\")^{1,2,3,4,5,6,7}),1,5)*$M4^3)+(INDEX(LINEST(INDIRECT(P$1&$J4),INDIRECT(\"Pressure_ratio\")^{1,2,3,4,5,6,7}),1,6)*$M4^2)+(INDEX(LINEST(INDIRECT(P$1&$J4),INDIRECT(\"Pressure_ratio\")^{1,2,3,4,5,6,7}),1,7)*$M4)+INDEX(LINEST(INDIRECT(P$1&$J4),INDIRECT(\"Pressure_ratio\")^{1,2,3,4,5,6,7}),1,8))","v":84.525890197385365},null,{"$f":"extrapol_($M4,Pressure_ratio,INDIRECT(R$1&$J4))/100","v":0.48619999999999997},{"$f":"extrapol_($M4,Pressure_ratio,INDIRECT(S$1&$J4))/100","v":0.84520000000000006},null,null,null,null,null,null,null,{"$f":"N4","v":48.671292292121962},{"$f":"P4","v":84.525890197385365},null,null,null,null,null,"Xs","Pressure_ratio"]
[5.77,{"$f":"extrapol_(A5,IsoT_ratio,IsoT_LPL_MP)","v":{"$error":"#VALUE!"}},{"$f":"extrapol_(A5,A9:A26,C9:C26)","v":0},{"$f":"extrapol_(A5,A9:A26,C9:C26)","v":0},null,null,{"$f":"G4/F4","v":5.7714285714285705},{"$f":"H4/G4","v":3.1353135313531357},null,null,null,null,{"$f":"INDIRECT(J4)","v":{"$error":"#REF!"}},null,null,null,null,null,null,null,null,null,null,null,null,null,null,null,null,null,null,null,null,"Ys","IsoT_LPL_MP"]
[null,null,null,null,null,null,null,null,null,null,null,null,null,null,null,null,null,null,null,null,null,null,null,null,null,null,null,null,null,null,null,null,null,"Order",7]
[null,"isoT efficiency",null,null,null,null,null,null,null,null,null,null,null,null,{"$f":"O1&J3","v":"IsoT_LPR_MP"},null,null,null,null,null,null,null,null,null,null,null,null,null,null,null,null,null,null,"Round Significants Digits",5,null,null,null,"X=",2.5]
["ratio pressure","LPL to MP","LPR to MP","MP to HP"]
[1.5,30.4,48.1,0,null,null,null,null,null,null,null,null,null,null,null,null,null,null,null,null,null,null,null,null,null,null,null,null,null,null,null,null,null,1,{"$f":"\"a\"&8-AH9&\"=\"","v":"a7="},{"$f":"INDEX(LINEST(INDIRECT($AI$5),INDIRECT($AI$4)^{1,2,3,4,5,6,7}),1,AH9)","v":5.9312817423113641E-4},7,{"$f":"\"a\"&8-AH9&\"=\"&AJ9","v":"a7=0.000593128174231136"},{"$f":"ROUND(AJ9,$AI$7-1-INT(LOG10(ABS(AJ9))))","v":5.9312999999999998E-4},{"$f":"AM9*$AN$7^AK9","v":0.36201782226562501}]
[{"$f":"A9+0.5","v":2},43.7,53.8,0,null,null,null,null,null,null,null,null,null,null,null,null,null,null,null,null,null,null,null,null,null,null,null,null,null,null,null,null,null,2,"a6=",{"$f":"INDEX(LINEST(INDIRECT($AI$5),INDIRECT($AI$4)^{1,2,3,4,5,6,7}),1,AH10)","v":-2.7634246172488535E-2},{"$f":"AK9-1","v":6},"a6=-0.0276342461724885",-2.7633999999999999E-2,-6.74658203125]
[2.5,49.6,55.8,52.5,null,null,null,null,null,null,null,null,null,null,null,null,null,null,null,null,null,null,null,null,null,null,null,null,null,null,null,null,null,3,"a5=",{"$f":"INDEX(LINEST(INDIRECT($AI$5),INDIRECT($AI$4)^{1,2,3,4,5,6,7}),1,AH11)","v":0.53891446433790124},{"$f":"AK10-1","v":5},"a5=0.538914464337901",0.53891,52.6279296875]
[{"$f":"A11+0.5","v":3},50.9,55.1,52.9,null,null,null,null,null,null,null,null,null,null,null,null,null,null,null,null,null,null,null,null,null,null,null,null,null,null,null,null,null,4,"a4=",{"$f":"INDEX(LINEST(INDIRECT($AI$5),INDIRECT($AI$4)^{1,2,3,4,5,6,7}),1,AH12)","v":-5.6917729817718046},4,"a4=-5.6917729817718",-5.6917999999999997,-222.3359375]
[3.5,50.8,53.9,53,null,null,null,null,null,null,null,null,null,null,null,null,null,null,null,null,null,null,null,null,null,null,null,null,null,null,null,null,null,5,"a3=",{"$f":"INDEX(LINEST(INDIRECT($AI$5),INDIRECT($AI$4)^{1,2,3,4,5,6,7}),1,AH13)","v":35.112506543499876},3,"a3=35.1125065434999",35.113,548.640625]
[{"$f":"A13+0.5","v":4},50.6,52.3,52.4,null,null,null,null,null,null,null,null,null,null,null,null,null,null,null,null,null,null,null,null,null,null,null,null,null,null,null,null,null,6,"a2=",{"$f":"INDEX(LINEST(INDIRECT($AI$5),INDIRECT($AI$4)^{1,2,3,4,5,6,7}),1,AH14)","v":-126.55479297869834},2,"a2=-126.554792978698",-126.55,-790.9375]
[4.5,50.2,50.8,51.3,null,null,null,null,null,null,null,null,null,null,null,null,null,null,null,null,null,null,null,null,null,null,null,null,null,null,null,null,null,7,"a1=",{"$f":"INDEX(LINEST(INDIRECT($AI$5),INDIRECT($AI$4)^{1,2,3,4,5,6,7}),1,AH15)","v":246.12930681387928},1,"a1=246.129306813879",246.13,615.32500000000005]
[{"$f":"A15+0.5","v":5},49.6,49.4,50.1,null,null,null,null,null,null,null,null,null,null,null,null,null,null,null,null,null,null,null,null,null,null,null,null,null,null,null,null,null,8,{"$f":"\"a\"&8-AH16&\"=\"","v":"a0="},{"$f":"INDEX(LINEST(INDIRECT($AI$5),INDIRECT($AI$4)^{1,2,3,4,5,6,7}),1,AH16)","v":-147.55744754068519},null,"a0=-147.557447540685",-147.56,-147.56]
[5.5,49,0,48.7,null,null,null,null,null,null,null,null,null,null,null,null,null,null,null,null,null,null,null,null,null,null,null,null,null,null,null,null,null,null,null,null,null,null,null,{"$f":"SUM(AN9:AN16)","v":49.375552978515657},"%"]
[{"$f":"A17+0.5","v":6},48.3,0,47.4,null,null,null,null,null,null,null,null,null,null,null,null,null,null,null,null,null,null,null,null,null,null,null,null,null,null,null,null,null,"variable","x",null,null,null,null,{"$f":"SUM(($AM$11:$AM$16)*AN7^($AK$11:$AK$16))","v":55.760117187500043}]
[6.5,47.5,0,46.2,null,null,null,null,null,null,null,null,null,null,null,null,null,null,null,null,null,null,null,null,null,null,null,null,null,null,null,null,null,"Equation",{"$f":"TEXT(AM9,\"#0.000E+0\")&\"*x^\"&AK9&\"+(\"&AM10&\")*x^\"&AK10&\"+(\"&AM11&\")*x^\"&AK11&AK10&\"+é\"&AM11&\")*x^\"&AK12","v":"5.931E-4*x^7+(-0.027634)*x^6+(0.53891)*x^56+é0.53891)*x^4"}]
[{"$f":"A19+0.5","v":7},46.7,0,45.4,null,null,null,null,null,null,null,null,null,null,null,null,null,null,null,null,null,null,null,null,null,null,null,null,null,null,null,null,null,null,"Xs",{"$f":"CELL(\"address\",A9)&\":\"&CELL(\"address\",A26)","v":"$A$9:$A$26"},"Pressure_ratio","Pressure_ratio","Pressure_ratio","Pressure_ratio"]
[7.5,45.8,0,44.5,null,null,null,null,null,null,null,null,null,null,null,null,null,null,null,null,null,null,null,null,null,null,null,null,null,null,null,null,null,null,"Ys",{"$f":"CELL(\"address\",B9)&\":\"&CELL(\"address\",B26)","v":"$B$9:$B$26"},"IsoT_LPL_MP","IsoT_LPL_MP","IsoT_LPL_MP","IsoT_LPL_MP"]
[{"$f":"A21+0.5","v":8},45,0,43.7,null,null,null,null,null,null,null,null,null,null,null,null,null,null,null,null,null,null,null,null,null,null,null,null,null,null,null,null,null,null,"Pressure Ratio",2.5,2.5,3.5,4.5,5.5]
[8.5,44.1,0,42.9,null,null,null,null,null,null,null,null,null,null,null,null,null,null,null,null,null,null,null,null,null,null,null,null,null,null,null,null,null,null,"Iso_eff",{"$f":"((INDEX(LINEST(INDIRECT(AJ$21),INDIRECT(AJ$20)^{1,2,3,4,5,6,7}),1)*AJ22^7)+(INDEX(LINEST(INDIRECT(AJ$21),INDIRECT(AJ$20)^{1,2,3,4,5,6,7}),1,2)*AJ22^6)+(INDEX(LINEST(INDIRECT(AJ$21),INDIRECT(AJ$20)^{1,2,3,4,5,6,7}),1,3)*AJ22^5)+(INDEX(LINEST(INDIRECT(AJ$21),INDIRECT(AJ$20)^{1,2,3,4,5,6,7}),1,4)*AJ22^4)+(INDEX(LINEST(INDIRECT(AJ$21),INDIRECT(AJ$20)^{1,2,3,4,5,6,7}),1,5)*AJ22^3)+(INDEX(LINEST(INDIRECT(AJ$21),INDIRECT(AJ$20)^{1,2,3,4,5,6,7}),1,6)*AJ22^2)+(INDEX(LINEST(INDIRECT(AJ$21),INDIRECT(AJ$20)^{1,2,3,4,5,6,7}),1,7)*AJ22)+INDEX(LINEST(INDIRECT(AJ$21),INDIRECT(AJ$20)^{1,2,3,4,5,6,7}),1,8))","v":49.340136252820457},{"$f":"((INDEX(LINEST(INDIRECT(AK$21),INDIRECT(AK$20)^{1,2,3,4,5,6,7}),1)*AK22^7)+(INDEX(LINEST(INDIRECT(AK$21),INDIRECT(AK$20)^{1,2,3,4,5,6,7}),1,2)*AK22^6)+(INDEX(LINEST(INDIRECT(AK$21),INDIRECT(AK$20)^{1,2,3,4,5,6,7}),1,3)*AK22^5)+(INDEX(LINEST(INDIRECT(AK$21),INDIRECT(AK$20)^{1,2,3,4,5,6,7}),1,4)*AK22^4)+(INDEX(LINEST(INDIRECT(AK$21),INDIRECT(AK$20)^{1,2,3,4,5,6,7}),1,5)*AK22^3)+(INDEX(LINEST(INDIRECT(AK$21),INDIRECT(AK$20)^{1,2,3,4,5,6,7}),1,6)*AK22^2)+(INDEX(LINEST(INDIRECT(AK$21),INDIRECT(AK$20)^{1,2,3,4,5,6,7}),1,7)*AK22)+INDEX(LINEST(INDIRECT(AK$21),INDIRECT(AK$20)^{1,2,3,4,5,6,7}),1,8))","v":49.340136252820457},{"$f":"((INDEX(LINEST(INDIRECT(AL$21),INDIRECT(\"Pressure_ratio\")^{1,2,3,4,5,6,7}),1)*AL22^7)+(INDEX(LINEST(INDIRECT(AL$21),INDIRECT(\"Pressure_ratio\")^{1,2,3,4,5,6,7}),1,2)*AL22^6)+(INDEX(LINEST(INDIRECT(AL$21),INDIRECT(\"Pressure_ratio\")^{1,2,3,4,5,6,7}),1,3)*AL22^5)+(INDEX(LINEST(INDIRECT(AL$21),INDIRECT(\"Pressure_ratio\")^{1,2,3,4,5,6,7}),1,4)*AL22^4)+(INDEX(LINEST(INDIRECT(AL$21),INDIRECT(\"Pressure_ratio\")^{1,2,3,4,5,6,7}),1,5)*AL22^3)+(INDEX(LINEST(INDIRECT(AL$21),INDIRECT(\"Pressure_ratio\")^{1,2,3,4,5,6,7}),1,6)*AL22^2)+(INDEX(LINEST(INDIRECT(AL$21),INDIRECT(\"Pressure_ratio\")^{1,2,3,4,5,6,7}),1,7)*AL22)+INDEX(LINEST(INDIRECT(AL$21),INDIRECT(\"Pressure_ratio\")^{1,2,3,4,5,6,7}),1,8))","v":50.990988767740191},{"$f":"((INDEX(LINEST(INDIRECT(AM$21),INDIRECT(AM$20)^{1,2,3,4,5,6,7}),1)*AM22^7)+(INDEX(LINEST(INDIRECT(AM$21),INDIRECT(AM$20)^{1,2,3,4,5,6,7}),1,2)*AM22^6)+(INDEX(LINEST(INDIRECT(AM$21),INDIRECT(AM$20)^{1,2,3,4,5,6,7}),1,3)*AM22^5)+(INDEX(LINEST(INDIRECT(AM$21),INDIRECT(AM$20)^{1,2,3,4,5,6,7}),1,4)*AM22^4)+(INDEX(LINEST(INDIRECT(AM$21),INDIRECT(AM$20)^{1,2,3,4,5,6,7}),1,5)*AM22^3)+(INDEX(LINEST(INDIRECT(AM$21),INDIRECT(AM$20)^{1,2,3,4,5,6,7}),1,6)*AM22^2)+(INDEX(LINEST(INDIRECT(AM$21),INDIRECT(AM$20)^{1,2,3,4,5,6,7}),1,7)*AM22)+INDEX(LINEST(INDIRECT(AM$21),INDIRECT(AM$20)^{1,2,3,4,5,6,7}),1,8))","v":50.078216748178193},{"$f":"((INDEX(LINEST(INDIRECT(AN$21),INDIRECT(AN$20)^{1,2,3,4,5,6,7}),1)*AN22^7)+(INDEX(LINEST(INDIRECT(AN$21),INDIRECT(AN$20)^{1,2,3,4,5,6,7}),1,2)*AN22^6)+(INDEX(LINEST(INDIRECT(AN$21),INDIRECT(AN$20)^{1,2,3,4,5,6,7}),1,3)*AN22^5)+(INDEX(LINEST(INDIRECT(AN$21),INDIRECT(AN$20)^{1,2,3,4,5,6,7}),1,4)*AN22^4)+(INDEX(LINEST(INDIRECT(AN$21),INDIRECT(AN$20)^{1,2,3,4,5,6,7}),1,5)*AN22^3)+(INDEX(LINEST(INDIRECT(AN$21),INDIRECT(AN$20)^{1,2,3,4,5,6,7}),1,6)*AN22^2)+(INDEX(LINEST(INDIRECT(AN$21),INDIRECT(AN$20)^{1,2,3,4,5,6,7}),1,7)*AN22)+INDEX(LINEST(INDIRECT(AN$21),INDIRECT(AN$20)^{1,2,3,4,5,6,7}),1,8))","v":49.025093851422525}]
[{"$f":"A23+0.5","v":9},43.2,0,42.2]
[9.5,42.4,0,41.5,null,null,null,null,null,null,null,null,null,null,null,null,null,null,null,null,null,null,null,null,null,null,null,null,null,null,null,null,null,"Nom des indirect($L$27):","IsoT_LPL_MP",{"$f":"CELL(\"address\",AH31)&\":\"&CELL(\"address\",R97)","v":"$AH$31:$R$97"}]
[{"$f":"A25+0.5","v":10},41.5,0,40.9,null,null,null,null,null,null,null,null,null,null,null,null,null,null,null,null,null,null,null,null,null,null,null,null,null,null,null,null,null,"Nom des indirect($L$28)","IsoT_ratio",null,null,null,null,"b = =INDEX(LINEST(y,x^{1,2}),1,3)"]
[]
[]
[null,"volumetric efficiency",null,null,null,null,null,null,null,null,null,null,null,null,null,null,null,null,null,null,null,null,null,null,null,null,null,null,null,null,null,null,null,"X","Y",null,1,1,1,1,1,1,1,1,1,1]
["ratio pressure","LPL to MP","LPR to MP","MP to HP",null,null,null,null,null,null,null,null,null,null,null,null,null,null,null,null,null,null,null,null,null,null,null,null,null,null,null,null,null,"T","ALU k",null,"Linear","Log","Power","Exp","2nd Order Poly","3rd Order Poly","4th Order Poly","5th Order Poly","6th Order Poly","7th Order Poly"]
[1.5,86.1,86.7,0,null,null,null,null,null,null,null,null,null,null,null,null,null,null,null,null,null,null,null,null,null,null,null,null,null,null,null,null,null,2.5,30.4,null,{"$f":"(AH31*SLOPE(INDIRECT($AJ$21),INDIRECT($AJ$20))+INTERCEPT(INDIRECT($AJ$21),INDIRECT($AJ$20)))*AK$29","v":46.736979704162366},{"$f":"((INDEX(LINEST(INDIRECT($AJ$21),LN(INDIRECT($AJ$20))),1)*LN(AH31))+INDEX(LINEST(INDIRECT($AJ$21),LN(INDIRECT($AJ$20))),1,2))","v":45.361651919216499},{"$f":"(EXP(INDEX(LINEST(LN(INDIRECT($AJ$21)),LN(INDIRECT($AJ$20)),,),1,2))*AH31^INDEX(LINEST(LN(INDIRECT($AJ$21)),LN(INDIRECT($AJ$20)),,),1))","v":44.525267562656992},{"$f":"(EXP(INDEX(LINEST(LN(INDIRECT($AJ$21)),INDIRECT($AJ$20)),1,2))*EXP(1)^(AH31*INDEX(LINEST(LN(INDIRECT($AJ$21)),INDIRECT($AJ$20)),1) ))","v":46.030458917842843},{"$f":"((INDEX(LINEST(INDIRECT($AJ$21),INDIRECT($AJ$20)^{1,2}),1)*AH31^2)+(INDEX(LINEST(INDIRECT($AJ$21),INDIRECT($AJ$20)^{1,2}),1,2)*AH31)+INDEX(LINEST(INDIRECT($AJ$21),INDIRECT($AJ$20)^{1,2}),1,3))","v":44.481682146542838},{"$f":"((INDEX(LINEST(INDIRECT($AJ$21),INDIRECT($AJ$20)^{1,2,3}),1)*AH31^3)+(INDEX(LINEST(INDIRECT($AJ$21),INDIRECT($AJ$20)^{1,2,3}),1,2)*AH31^2)+(INDEX(LINEST(INDIRECT($AJ$21),INDIRECT($AJ$20)^{1,2,3}),1,3)*AH31)+INDEX(LINEST(INDIRECT($AJ$21),INDIRECT($AJ$20)^{1,2,3}),1,4))","v":45.40849673202613},{"$f":"((INDEX(LINEST(INDIRECT($AJ$21),INDIRECT($AJ$20)^{1,2,3,4}),1)*AH31^4)+(INDEX(LINEST(INDIRECT($AJ$21),INDIRECT($AJ$20)^{1,2,3,4}),1,2)*AH31^3)+(INDEX(LINEST(INDIRECT($AJ$21),INDIRECT($AJ$20)^{1,2,3,4}),1,3)*AH31^2)+(INDEX(LINEST(INDIRECT($AJ$21),INDIRECT($AJ$20)^{1,2,3,4}),1,4)*AH31)+INDEX(LINEST(INDIRECT($AJ$21),INDIRECT($AJ$20)^{1,2,3,4}),1,5))","v":47.410924258060604},{"$f":"((INDEX(LINEST(INDIRECT($AJ$21),INDIRECT($AJ$20)^{1,2,3,4,5}),1)*AH31^5)+(INDEX(LINEST(INDIRECT($AJ$21),INDIRECT($AJ$20)^{1,2,3,4,5}),1,2)*AH31^4)+(INDEX(LINEST(INDIRECT($AJ$21),INDIRECT($AJ$20)^{1,2,3,4,5}),1,3)*AH31^3)+(INDEX(LINEST(INDIRECT($AJ$21),INDIRECT($AJ$20)^{1,2,3,4,5}),1,4)*AH31^2)+(INDEX(LINEST(INDIRECT($AJ$21),INDIRECT($AJ$20)^{1,2,3,4,5}),1,5)*AH31)+INDEX(LINEST(INDIRECT($AJ$21),INDIRECT($AJ$20)^{1,2,3,4,5}),1,6))","v":48.85289080058871},{"$f":"((INDEX(LINEST(INDIRECT($AJ$21),INDIRECT($AJ$20)^{1,2,3,4,5,6}),1)*AH31^6)+(INDEX(LINEST(INDIRECT($AJ$21),INDIRECT($AJ$20)^{1,2,3,4,5,6}),1,2)*AH31^5)+(INDEX(LINEST(INDIRECT($AJ$21),INDIRECT($AJ$20)^{1,2,3,4,5,6}),1,3)*AH31^4)+(INDEX(LINEST(INDIRECT($AJ$21),INDIRECT($AJ$20)^{1,2,3,4,5,6}),1,4)*AH31^3)+(INDEX(LINEST(INDIRECT($AJ$21),INDIRECT($AJ$20)^{1,2,3,4,5,6}),1,5)*AH31^2)+(INDEX(LINEST(INDIRECT($AJ$21),INDIRECT($AJ$20)^{1,2,3,4,5,6}),1,6)*AH31)+INDEX(LINEST(INDIRECT($AJ$21),INDIRECT($AJ$20)^{1,2,3,4,5,6}),1,7))","v":49.336243849176356},{"$f":"((INDEX(LINEST(INDIRECT($AJ$21),INDIRECT($AJ$20)^{1,2,3,4,5,6,7}),1)*AH31^7)+(INDEX(LINEST(INDIRECT($AJ$21),INDIRECT($AJ$20)^{1,2,3,4,5,6,7}),1,2)*AH31^6)+(INDEX(LINEST(INDIRECT($AJ$21),INDIRECT($AJ$20)^{1,2,3,4,5,6,7}),1,3)*AH31^5)+(INDEX(LINEST(INDIRECT($AJ$21),INDIRECT($AJ$20)^{1,2,3,4,5,6,7}),1,4)*AH31^4)+(INDEX(LINEST(INDIRECT($AJ$21),INDIRECT($AJ$20)^{1,2,3,4,5,6,7}),1,5)*AH31^3)+(INDEX(LINEST(INDIRECT($AJ$21),INDIRECT($AJ$20)^{1,2,3,4,5,6,7}),1,6)*AH31^2)+(INDEX(LINEST(INDIRECT($AJ$21),INDIRECT($AJ$20)^{1,2,3,4,5,6,7}),1,7)*AH31)+INDEX(LINEST(INDIRECT($AJ$21),INDIRECT($AJ$20)^{1,2,3,4,5,6,7}),1,8))","v":49.340136252820457}]
[{"$f":"A31+0.5","v":2},86.8,87.2,0,null,null,null,null,null,null,null,null,null,null,null,null,null,null,null,null,null,null,null,null,null,null,null,null,null,null,null,null,null,2,43.7,null,{"$f":"(AH32*SLOPE(INDIRECT($AJ$21),INDIRECT($AJ$20))+INTERCEPT(INDIRECT($AJ$21),INDIRECT($AJ$20)))*AK$29","v":46.839250085999311},{"$f":"((INDEX(LINEST(INDIRECT($AJ$21),LN(INDIRECT($AJ$20))),1)*LN(AH32))+INDEX(LINEST(INDIRECT($AJ$21),LN(INDIRECT($AJ$20))),1,2))","v":45.136436240048099},{"$f":"(EXP(INDEX(LINEST(LN(INDIRECT($AJ$21)),LN(INDIRECT($AJ$20)),,),1,2))*AH32^INDEX(LINEST(LN(INDIRECT($AJ$21)),LN(INDIRECT($AJ$20)),,),1))","v":44.136308844353223},{"$f":"(EXP(INDEX(LINEST(LN(INDIRECT($AJ$21)),INDIRECT($AJ$20)),1,2))*EXP(1)^(AH32*INDEX(LINEST(LN(INDIRECT($AJ$21)),INDIRECT($AJ$20)),1) ))","v":46.06987599232059},{"$f":"((INDEX(LINEST(INDIRECT($AJ$21),INDIRECT($AJ$20)^{1,2}),1)*AH32^2)+(INDEX(LINEST(INDIRECT($AJ$21),INDIRECT($AJ$20)^{1,2}),1,2)*AH32)+INDEX(LINEST(INDIRECT($AJ$21),INDIRECT($AJ$20)^{1,2}),1,3))","v":42.524767801857593},{"$f":"((INDEX(LINEST(INDIRECT($AJ$21),INDIRECT($AJ$20)^{1,2,3}),1)*AH32^3)+(INDEX(LINEST(INDIRECT($AJ$21),INDIRECT($AJ$20)^{1,2,3}),1,2)*AH32^2)+(INDEX(LINEST(INDIRECT($AJ$21),INDIRECT($AJ$20)^{1,2,3}),1,3)*AH32)+INDEX(LINEST(INDIRECT($AJ$21),INDIRECT($AJ$20)^{1,2,3}),1,4))","v":41.098899208806309},{"$f":"((INDEX(LINEST(INDIRECT($AJ$21),INDIRECT($AJ$20)^{1,2,3,4}),1)*AH32^4)+(INDEX(LINEST(INDIRECT($AJ$21),INDIRECT($AJ$20)^{1,2,3,4}),1,2)*AH32^3)+(INDEX(LINEST(INDIRECT($AJ$21),INDIRECT($AJ$20)^{1,2,3,4}),1,3)*AH32^2)+(INDEX(LINEST(INDIRECT($AJ$21),INDIRECT($AJ$20)^{1,2,3,4}),1,4)*AH32)+INDEX(LINEST(INDIRECT($AJ$21),INDIRECT($AJ$20)^{1,2,3,4}),1,5))","v":41.610157300559763},{"$f":"((INDEX(LINEST(INDIRECT($AJ$21),INDIRECT($AJ$20)^{1,2,3,4,5}),1)*AH32^5)+(INDEX(LINEST(INDIRECT($AJ$21),INDIRECT($AJ$20)^{1,2,3,4,5}),1,2)*AH32^4)+(INDEX(LINEST(INDIRECT($AJ$21),INDIRECT($AJ$20)^{1,2,3,4,5}),1,3)*AH32^3)+(INDEX(LINEST(INDIRECT($AJ$21),INDIRECT($AJ$20)^{1,2,3,4,5}),1,4)*AH32^2)+(INDEX(LINEST(INDIRECT($AJ$21),INDIRECT($AJ$20)^{1,2,3,4,5}),1,5)*AH32)+INDEX(LINEST(INDIRECT($AJ$21),INDIRECT($AJ$20)^{1,2,3,4,5}),1,6))","v":42.72929551267022},{"$f":"((INDEX(LINEST(INDIRECT($AJ$21),INDIRECT($AJ$20)^{1,2,3,4,5,6}),1)*AH32^6)+(INDEX(LINEST(INDIRECT($AJ$21),INDIRECT($AJ$20)^{1,2,3,4,5,6}),1,2)*AH32^5)+(INDEX(LINEST(INDIRECT($AJ$21),INDIRECT($AJ$20)^{1,2,3,4,5,6}),1,3)*AH32^4)+(INDEX(LINEST(INDIRECT($AJ$21),INDIRECT($AJ$20)^{1,2,3,4,5,6}),1,4)*AH32^3)+(INDEX(LINEST(INDIRECT($AJ$21),INDIRECT($AJ$20)^{1,2,3,4,5,6}),1,5)*AH32^2)+(INDEX(LINEST(INDIRECT($AJ$21),INDIRECT($AJ$20)^{1,2,3,4,5,6}),1,6)*AH32)+INDEX(LINEST(INDIRECT($AJ$21),INDIRECT($AJ$20)^{1,2,3,4,5,6}),1,7))","v":43.562662837821847},{"$f":"((INDEX(LINEST(INDIRECT($AJ$21),INDIRECT($AJ$20)^{1,2,3,4,5,6,7}),1)*AH32^7)+(INDEX(LINEST(INDIRECT($AJ$21),INDIRECT($AJ$20)^{1,2,3,4,5,6,7}),1,2)*AH32^6)+(INDEX(LINEST(INDIRECT($AJ$21),INDIRECT($AJ$20)^{1,2,3,4,5,6,7}),1,3)*AH32^5)+(INDEX(LINEST(INDIRECT($AJ$21),INDIRECT($AJ$20)^{1,2,3,4,5,6,7}),1,4)*AH32^4)+(INDEX(LINEST(INDIRECT($AJ$21),INDIRECT($AJ$20)^{1,2,3,4,5,6,7}),1,5)*AH32^3)+(INDEX(LINEST(INDIRECT($AJ$21),INDIRECT($AJ$20)^{1,2,3,4,5,6,7}),1,6)*AH32^2)+(INDEX(LINEST(INDIRECT($AJ$21),INDIRECT($AJ$20)^{1,2,3,4,5,6,7}),1,7)*AH32)+INDEX(LINEST(INDIRECT($AJ$21),INDIRECT($AJ$20)^{1,2,3,4,5,6,7}),1,8))","v":43.866270322005278}]
[2.5,87.3,87.5,78.7]
[{"$f":"A33+0.5","v":3},87.4,87.5,79]
[3.5,87.3,87.1,79]
[{"$f":"A35+0.5","v":4},86.9,86.5,78.7]
[4.5,86.4,85.6,78.3]
[{"$f":"A37+0.5","v":5},85.6,84.4,77.8]
[5.5,84.9,0,77.3,null,null,null,null,null,null,null,null,null,null,null,null,null,null,null,null,null,null,null,null,null,null,null,null,null,null,null,null,null,null,{"$f":"tex","v":{"$error":"#NAME?"}},2.5,{"$f":"[3]!f_reg_(AJ39,Pressure_ratio,IsoT_LPL_MP,6,\"form\")","v":"-3.76E-03* x^6 + 14.564E-2*x^5 -22.783E-1*x^4 + 18.388E+0*x^3 -80.719E+0*x^2 + 18.168E+1*x - 111.988"}]
[{"$f":"A39+0.5","v":6},84.2,0,76.900000000000006,null,null,null,null,null,null,null,null,null,null,null,null,null,null,null,null,null,null,null,null,null,null,null,null,null,null,null,null,null,null,{"$f":"TEXT(AM9,\"0.0\")","v":"0.0"},2.5,{"$f":"[3]!f_reg_(AJ40,Pressure_ratio,IsoT_LPL_MP,6,\"value\")","v":49.336243849176348}]
[6.5,83.5,0,76.599999999999994]
[{"$f":"A41+0.5","v":7},82.9,0,76.3,null,null,null,null,null,null,null,null,null,null,null,null,null,null,null,null,null,null,null,null,null,null,null,null,null,null,null,null,null,null,null,2.5,{"$f":"[3]!f_reg_(AJ42,Pressure_ratio,IsoT_LPL_MP,7,\"form\")","v":"5.93E-04* x^7 -27.634E-3*x^6 + 53.891E-2*x^5 -56.918E-1*x^4 + 35.113E+0*x^3 -12.655E+1*x^2 + 24.613E+1*x - 147.557"}]
[7.5,82.3,0,76,null,null,null,null,null,null,null,null,null,null,null,null,null,null,null,null,null,null,null,null,null,null,null,null,null,null,null,null,null,null,null,2.5,{"$f":"[3]!f_reg_(AJ43,Pressure_ratio,IsoT_LPL_MP,6,\"value\")","v":49.336243849176348}]
[{"$f":"A43+0.5","v":8},81.7,0,75.8]
[8.5,81.099999999999994,0,75.7]
[{"$f":"A45+0.5","v":9},80.599999999999994,0,75.5]
[9.5,80.099999999999994,0,75.400000000000006]
[{"$f":"A47+0.5","v":10},79.599999999999994,0,75.3]
[]
[]
[]
[null,"volumetric efficiency"]
["ratio pressure","LP to MP","MP to HP"]
[2.5,87.3,78.7]
[{"$f":"A54+0.5","v":3},87.4,79]
[3.5,87.3,79]
[{"$f":"A56+0.5","v":4},86.9,78.7]
[4.5,86.4,78.3]
[{"$f":"A58+0.5","v":5},85.6,77.8]
[5.5,84.9,77.3]
[{"$f":"A60+0.5","v":6},84.2,76.900000000000006]
[6.5,83.5,76.599999999999994]
[{"$f":"A62+0.5","v":7},82.9,76.3]
[7.5,82.3,76]
[{"$f":"A64+0.5","v":8},81.7,75.8]
[8.5,81.099999999999994,75.7]
[{"$f":"A66+0.5","v":9},80.599999999999994,75.5]
[9.5,80.099999999999994,75.400000000000006]
[{"$f":"A68+0.5","v":10},79.599999999999994,75.3]
[]
[]
[]
[]
[]
[]
[null,"isoT efficiency"]
["ratio pressure","LP to MP","LPR to MP","MP to HP"]
[1.5,30.4,48.1]
[{"$f":"A78+0.5","v":2},43.7,53.8]
[2.5,49.6,55.8,52.5]
[{"$f":"A80+0.5","v":3},50.9,55.1,52.9]
[3.5,50.8,53.9,53]
[{"$f":"A82+0.5","v":4},50.6,52.3,52.4]
[4.5,50.2,50.8,51.3]
[{"$f":"A84+0.5","v":5},49.6,49.4,50.1]
[5.5,49,null,48.7]
[{"$f":"A86+0.5","v":6},48.3,null,47.4]
[6.5,47.5,null,46.2]
[{"$f":"A88+0.5","v":7},46.7,null,45.4]
[7.5,45.8,null,44.5]
[{"$f":"A90+0.5","v":8},45,null,43.7]
[8.5,44.1,null,42.9]
[{"$f":"A92+0.5","v":9},43.2,null,42.2]
[9.5,42.4,null,41.5]
[{"$f":"A94+0.5","v":10},41.5,null,40.9]
[]
[]
[]
[]
[null,null,null,null,null,null,null,null,null,null,null,null,null,"Isothermal Power m.R.T.ln(P2/P1)"]
[null,null,null,null,null,null,null,null,null,null,null,null,null,"Isothermal Power P.Qv.ln(P2/P1)"]
[]
[]
[]
[]
[]
[]
[null,null,null,null,null,null,null,null,null,null,null,null,"WRVI321/132",null,null,null,"WRVI321/165",null,null,null,"WRVI321/193"]
[null,null,null,null,null,null,null,null,null,null,null,null,4541,null,null,null,5676,null,null,null,6386]
[null,null,null,"Tin","P suction","Pdischarge","P ratio","rdt isoT calc","rdt vol calc",null,null,"Rho","Am3/h","g/s","Power /unit","nb unit","Am3/h","g/s","Power /unit","nb unit","Am3/h","g/s","Power /unit","nb unit"]
[null,"MP_HP",1321.4,300,6.06,19,{"$f":"F111/E111","v":3.1353135313531357},{"$f":" 0.0012*G111^6 - 0.0429*G111^5 + 0.6099*G111^4 - 4.185*G111^3 + 13.77*G111^2 - 19.318*G111 + 60.184","v":53.071570809579342},{"$f":" 0.00006*G111^6 - 0.0012*G111^5 - 0.0081*G111^4 + 0.3679*G111^3 - 3.3791*G111^2 + 11.852*G111 + 64.85","v":79.042186730743012},null,null,{"$f":"1.27581621531631*E111*273.15/(D111)*4/28.958600656","v":0.97235110325086826},{"$f":"M$109*$I111/100","v":3589.3056994430399},{"$f":"M111*$L111/3600*1000","v":969.46259909946377},{"$f":"$E111*10^5*M111/3600*LN($F111/$E111)/($H111/100)/1000","v":1300.9540185611659},{"$f":"$C111/N111","v":1.3630231854508383},{"$f":"Q$109*$I111/100","v":4486.4345188369734},{"$f":"Q111*$L111/3600*1000","v":1211.7748761260859},{"$f":"$E111*10^5*Q111/3600*LN($F111/$E111)/($H111/100)/1000","v":1626.1209005402281},{"$f":"$C111/R111","v":1.0904665759570573},{"$f":"U$109*$I111/100","v":5047.6340446252489},{"$f":"U111*$L111/3600*1000","v":1363.353481138334},{"$f":"$E111*10^5*U111/3600*LN($F111/$E111)/($H111/100)/1000","v":1829.5292584302149},{"$f":"$C111/V111","v":0.96922773021175346},{"$f":"ROUND(X111,0)","v":1},{"$f":"Y111*W111","v":1829.5292584302149}]
[null,"LPR_MP",562.70000000000005,297,2.31,6.06,{"$f":"F112/E112","v":2.6233766233766231},{"$f":" 0.1067*G112^6 - 2.0738*G112^5 + 16*G112^4 - 61.153*G112^3 + 115.21*G112^2 - 86.125*G112 + 57.983","v":55.774222680834207},{"$f":" 0.0044*G112^6 - 0.1103*G112^5 + 1.0778*G112^4 - 5.3213*G112^3 + 13.394*G112^2 - 15.328*G112 + 92.846","v":87.518637103281989},null,null,{"$f":"1.27581621531631*E112*273.15/(D112)*4/28.958600656","v":0.37439261401298568},{"$f":"M$109*$I112/100","v":3974.2213108600349},{"$f":"M112*$L112/3600*1000","v":413.31086256638974},440.97426574943631,{"$f":"$C112/N112","v":1.3614449823699324},{"$f":"Q$109*$I112/100","v":4967.5578419822859},{"$f":"Q112*$L112/3600*1000","v":516.61582381123731},551.19355481035041,{"$f":"$C112/R112","v":1.0892039578826396},{"$f":"U$109*$I112/100","v":5588.9401654155881},{"$f":"U112*$L112/3600*1000","v":581.23831058114183},{"$f":"$E112*10^5*U112/3600*LN($F112/$E112)/($H112/100)/1000","v":620.14130391453455},{"$f":"$C112/V112","v":0.96810549090852849},{"$f":"ROUND(X112,0)","v":1},{"$f":"Y112*W112","v":620.14130391453455}]
[null,"LPL_MP",748.6,297,1.05,6.06,{"$f":"F113/E113","v":5.7714285714285705},{"$f":"-0.0037608*G113^6 + 0.14564*G113^5 - 2.2783*G113^4 + 18.388*G113^3 - 80.719*G113^2 + 181.68*G113 - 111.99","v":48.628787444824425},{"$f":"0.0003*G113^6 - 0.0107*G113^5 + 0.1444*G113^4 - 0.8896*G113^3 + 2.1316*G113^2 - 0.4678*G113 + 84.351","v":84.418132560750152},null,null,{"$f":"1.27581621531631*E113*273.15/(D113)*4/28.958600656","v":0.17017846091499347},{"$f":"M$109*$I113/100","v":3833.4273995836643},{"$f":"M113*$L113/3600*1000","v":181.21299302514268},403.0348551631908,{"$f":"$C113/N113","v":4.1310503595960935},{"$f":"Q$109*$I113/100","v":4791.5732041481788},{"$f":"Q113*$L113/3600*1000","v":226.50626478985026},503.77138029206577,{"$f":"$C113/R113","v":3.3049858497050488},{"$f":"U$109*$I113/100","v":5390.941945329505},{"$f":"U113*$L113/3600*1000","v":254.83950087173778},{"$f":"$E113*10^5*U113/3600*LN($F113/$E113)/($H113/100)/1000","v":566.78718015241952},{"$f":"$C113/V113","v":2.9375351836714465},3,{"$f":"Y113*W113","v":1700.3615404572586}]
[null,null,null,null,null,null,null,null,null,null,null,null,null,null,null,null,null,null,null,null,null,null,null,null,null,{"$f":"SUM(Z111:Z113)","v":4150.032102802008}]
[]
[null,null,null,"Tin","P suction","Pdischarge","P ratio","rdt isoT calc","rdt vol calc",null,null,"Rho","Am3/h","g/s","Power /unit","nb unit","Am3/h","g/s","Power /unit","nb unit","Am3/h","g/s","Power /unit","nb unit"]
[null,"MP_HP",1321.4,310,6.06,19,{"$f":"F117/E117","v":3.1353135313531357},{"$f":" 0.0012*G117^6 - 0.0429*G117^5 + 0.6099*G117^4 - 4.185*G117^3 + 13.77*G117^2 - 19.318*G117 + 60.184","v":53.071570809579342},{"$f":" 0.00006*G117^6 - 0.0012*G117^5 - 0.0081*G117^4 + 0.3679*G117^3 - 3.3791*G117^2 + 11.852*G117 + 64.85","v":79.042186730743012},null,null,{"$f":"1.27581621531631*E117*273.15/(D117)*4/28.958600656","v":0.94098493862987254},{"$f":"M$109*$I117/100","v":3589.3056994430399},{"$f":"M117*$L117/3600*1000","v":938.1896120317391},{"$f":"$E117*10^5*M117/3600*LN($F117/$E117)/($H117/100)/1000","v":1300.9540185611659},{"$f":"$C117/N117","v":1.4084572916325329},{"$f":"Q$109*$I117/100","v":4486.4345188369734},{"$f":"Q117*$L117/3600*1000","v":1172.6853639929864},{"$f":"$E117*10^5*Q117/3600*LN($F117/$E117)/($H117/100)/1000","v":1626.1209005402281},{"$f":"$C117/R117","v":1.1268154618222925},{"$f":"U$109*$I117/100","v":5047.6340446252489},{"$f":"U117*$L117/3600*1000","v":1319.3743365854846},{"$f":"$E117*10^5*U117/3600*LN($F117/$E117)/($H117/100)/1000","v":1829.5292584302149},{"$f":"$C117/V117","v":1.0015353212188118},{"$f":"ROUND(X117,0)","v":1},{"$f":"Y117*W117","v":1829.5292584302149}]
[null,"LPR_MP",562.70000000000005,305.39999999999998,2.3079999999999998,6.06,{"$f":"F118/E118","v":2.6256499133448874},{"$f":" 0.1067*G118^6 - 2.0738*G118^5 + 16*G118^4 - 61.153*G118^3 + 115.21*G118^2 - 86.125*G118 + 57.983","v":55.773482098098548},{"$f":" 0.0044*G118^6 - 0.1103*G118^5 + 1.0778*G118^4 - 5.3213*G118^3 + 13.394*G118^2 - 15.328*G118 + 92.846","v":87.51880831297521},null,null,{"$f":"1.27581621531631*E118*273.15/(D118)*4/28.958600656","v":0.3637797445166871},{"$f":"M$109*$I118/100","v":3974.2290854922044},{"$f":"M118*$L118/3600*1000","v":401.59556704753919},440.99488075591131,{"$f":"$C118/N118","v":1.4011608846603378},{"$f":"Q$109*$I118/100","v":4967.5675598444732},{"$f":"Q118*$L118/3600*1000","v":501.97234938600144},551.21932243350625,{"$f":"$C118/R118","v":1.1209780791477439},{"$f":"U$109*$I118/100","v":5588.951098866597},{"$f":"U118*$L118/3600*1000","v":564.7631119060967},{"$f":"$E118*10^5*U118/3600*LN($F118/$E118)/($H118/100)/1000","v":620.17029476045991},{"$f":"$C118/V118","v":0.99634694288170911},{"$f":"ROUND(X118,0)","v":1},{"$f":"Y118*W118","v":620.17029476045991}]
[null,"LPL_MP",748.6,305.27,1.05,6.06,{"$f":"F119/E119","v":5.7714285714285705},{"$f":"-0.0037608*G119^6 + 0.14564*G119^5 - 2.2783*G119^4 + 18.388*G119^3 - 80.719*G119^2 + 181.68*G119 - 111.99","v":48.628787444824425},{"$f":"0.0003*G119^6 - 0.0107*G119^5 + 0.1444*G119^4 - 0.8896*G119^3 + 2.1316*G119^2 - 0.4678*G119 + 84.351","v":84.418132560750152},null,null,{"$f":"1.27581621531631*E119*273.15/(D119)*4/28.958600656","v":0.16556819501344078},{"$f":"M$109*$I119/100","v":3833.4273995836643},{"$f":"M119*$L119/3600*1000","v":176.30379312892646},403.0348551631908,{"$f":"$C119/N119","v":4.2460799436831627},{"$f":"Q$109*$I119/100","v":4791.5732041481788},{"$f":"Q119*$L119/3600*1000","v":220.37003519043972},503.77138029206577,{"$f":"$C119/R119","v":3.3970135701665325},{"$f":"U$109*$I119/100","v":5390.941945329505},{"$f":"U119*$L119/3600*1000","v":247.93570203068145},{"$f":"$E119*10^5*U119/3600*LN($F119/$E119)/($H119/100)/1000","v":566.78718015241952},{"$f":"$C119/V119","v":3.0193311970349579},3,{"$f":"Y119*W119","v":1700.3615404572586}]
[null,null,null,null,null,null,null,null,null,null,null,null,null,null,null,null,null,null,null,null,null,null,null,null,null,{"$f":"SUM(Z117:Z119)","v":4150.0610936479334}]
[null,"MP_HP",403.1,300,4.2699999999999996,13.8,{"$f":"F121/E121","v":3.2318501170960192},{"$f":" 0.0012*G121^6 - 0.0429*G121^5 + 0.6099*G121^4 - 4.185*G121^3 + 13.77*G121^2 - 19.318*G121 + 60.184","v":53.085843726352579},{"$f":" 0.00006*G121^6 - 0.0012*G121^5 - 0.0081*G121^4 + 0.3679*G121^3 - 3.3791*G121^2 + 11.852*G121 + 64.85","v":79.040190763975104},null,null,{"$f":"1.27581621531631*E121*273.15/(D121)*4/28.958600656","v":0.68513848364376362},{"$f":"M$109*$I121/100","v":3589.2150625921095},{"$f":"M121*$L121/3600*1000","v":683.08593484880942},{"$f":"$E121*10^5*M121/3600*LN($F121/$E121)/($H121/100)/1000","v":940.72875588303759},{"$f":"$C121/N121","v":0.59011608852584563},{"$f":"Q$109*$I121/100","v":4486.3212277632274},{"$f":"Q121*$L121/3600*1000","v":853.81981198014603},{"$f":"$E121*10^5*Q121/3600*LN($F121/$E121)/($H121/100)/1000","v":1175.8591540172038},{"$f":"$C121/R121","v":0.47211366419941231},{"$f":"U$109*$I121/100","v":5047.5065821874505},{"$f":"U121*$L121/3600*1000","v":960.62250163939598},{"$f":"$E121*10^5*U121/3600*LN($F121/$E121)/($H121/100)/1000","v":1322.9451299425407},{"$f":"$C121/V121","v":0.41962373285246862}]
[null,"LPR_MP",172.2,297,2.31,4.2699999999999996,{"$f":"F122/E122","v":1.8484848484848482},{"$f":" 0.1067*G122^6 - 2.0738*G122^5 + 16*G122^4 - 61.153*G122^3 + 115.21*G122^2 - 86.125*G122 + 57.983","v":52.499516367203306},{"$f":" 0.0044*G122^6 - 0.1103*G122^5 + 1.0778*G122^4 - 5.3213*G122^3 + 13.394*G122^2 - 15.328*G122 + 92.846","v":87.047180898312007},null,null,{"$f":"1.27581621531631*E122*273.15/(D122)*4/28.958600656","v":0.37439261401298568},{"$f":"M$109*$I122/100","v":3952.8124845923485},{"$f":"M122*$L122/3600*1000","v":411.08438855824835},296.8163199097109,{"$f":"$C122/N122","v":0.4188920931878205},{"$f":"Q$109*$I122/100","v":4940.7979877881899},{"$f":"Q122*$L122/3600*1000","v":513.8328538772555},371.00405897545016,{"$f":"$C122/R122","v":0.33512843466629549},{"$f":"U$109*$I122/100","v":5558.8329721662049},{"$f":"U122*$L122/3600*1000","v":578.10722425302231},417.41224817075829,{"$f":"$C122/V122","v":0.29786861809675741}]
[null,"LPL_MP",220.8,297,1.05,4.2699999999999996,{"$f":"F123/E123","v":4.0666666666666664},{"$f":"-0.0037608*G123^6 + 0.14564*G123^5 - 2.2783*G123^4 + 18.388*G123^3 - 80.719*G123^2 + 181.68*G123 - 111.99","v":50.452394651325349},{"$f":"0.0003*G123^6 - 0.0107*G123^5 + 0.1444*G123^4 - 0.8896*G123^3 + 2.1316*G123^2 - 0.4678*G123 + 84.351","v":86.820937761343217},null,null,{"$f":"1.27581621531631*E123*273.15/(D123)*4/28.958600656","v":0.17017846091499347},{"$f":"M$109*$I123/100","v":3942.5387837425956},{"$f":"M123*$L123/3600*1000","v":186.37088397638479},319.73050334895157,{"$f":"$C123/N123","v":1.1847344139226048},{"$f":"Q$109*$I123/100","v":4927.956427333841},{"$f":"Q123*$L123/3600*1000","v":232.95334451661748},399.64552675812581,{"$f":"$C123/R123","v":0.9478292765367422},{"$f":"U$109*$I123/100","v":5544.3850854393786},{"$f":"U123*$L123/3600*1000","v":262.09303348892166},449.636422459019,{"$f":"$C123/V123","v":0.84244894669942816}]

{"sheet":"GEA","index":10,"n_rows":0,"n_cols":0,"rows_kept":0,"cut":false,"hidden":false,"merged":[]}

{"sheet":"Frick","index":11,"n_rows":130,"n_cols":45,"rows_kept":130,"cut":false,"hidden":false,"merged":[[114,16,114,31],[115,16,116,18],[115,19,116,21],[115,22,116,23],[115,24,116,24],[115,25,115,27],[115,29,116,29],[115,31,116,31],[117,16,117,18],[117,19,117,21],[117,22,117,23],[118,16,118,18],[118,19,118,21],[118,22,118,23],[119,16,119,18],[119,19,119,21],[119,22,119,23],[120,16,120,18],[120,19,120,21],[120,22,120,23],[121,16,121,18],[121,19,121,21],[121,22,121,23],[122,16,122,18],[122,19,122,21],[122,22,122,23],[123,16,123,18],[123,19,123,21],[123,22,123,23],[124,16,124,18],[124,19,124,21],[124,22,124,23],[125,16,125,18],[125,19,125,21],[125,22,125,23],[126,16,126,18],[126,19,126,21],[126,22,126,23],[129,16,129,18],[129,19,129,21],[129,22,129,23],[127,16,127,18],[127,19,127,21],[127,22,127,23],[128,16,128,18],[128,19,128,21],[128,22,128,23]]}
[]
[]
[]
[]
[]
[]
[]
[null,null,null,null,null,null,null,null,null,null,null,null,null,null,null,null,null,null,null,"JCI","JCI","JCI","JCI","JCI",null,null,null,null,null,"JCI"]
[null,null,null,null,null,null,null,null,null,null,null,null,null,null,null,null,null,null,"P1",1.05,3.6,4.88,1.01,4.88,null,null,null,null,null,1.25]
[null,null,null,null,null,null,null,null,null,null,null,null,null,null,null,null,null,null,"P2",7.2433472512127803,13.453702923291274,22.5,5,22.5,null,null,null,null,null,5]
[null,null,null,null,null,null,null,null,null,null,null,null,null,null,null,null,null,null,"Vi",5,3,3.77,4.46,3.77,null,null,null,null,null,3.61]
[null,null,null,null,null,null,null,null,null,null,null,null,null,null,null,null,null,null,"gamma",{"$f":"LN(T10/T9)/LN(T11)","v":1.199979973121462},{"$f":"LN(U10/U9)/LN(U11)","v":1.1999870623830293},{"$f":"LN(V10/V9)/LN(V11)","v":1.1516832791394263},{"$f":"LN(W10/W9)/LN(W11)","v":1.0697849056357569},{"$f":"LN(X10/X9)/LN(X11)","v":1.1516832791394263},null,null,null,null,null,{"$f":"LN(AD10/AD9)/LN(AD11)","v":1.0799142849993957}]
[]
[null,null,null,null,null,null,null,null,null,null,null,null,null,null,null,null,null,null,null,null,null,null,null,null,null,null,null,null,null,null,null,null,null,null,null,null,null,null,null,null,null,null,1.05,5,{"$f":"AR14/AQ14","v":4.7619047619047619}]
[]
[]
[]
[]
[]
[null,null,null,null,null,null,null,null,null,null,null,null,null,null,null,null,null,{"$f":"1.27581621531631*1.013*273.15/(273.15+15)*4/28.958600656","v":0.16922423648181203}]
[null,null,null,"Displ @ 2950rpm","Rotation","Tin","Pin","Pout","Pout ideal","Rho_in","gamma","Pr","Vi","Vi\nideal","Vol_%","Iso_%","Nm3/h","Sm3/h","A_m3/h","kg/h","g/s",null,null,null,null,null,"Tout","Main flow\nlpm","Bearing\nlpm","oil total flow m3/h","kg/h","Rho_in",null,"%he volume","%he mass","gamma",null,"Vi Ideal"]
[null,null,"FIXED Vi=2,2"]
[null,1,"SGCB3511",4120,2950,298,1.05,2.5,{"$f":"M23^K23*G23","v":3.6099004678715674},{"$f":"1.27581621531631*G23*273.15/(F23)*4/28.958600656","v":0.1696073922542049},{"$f":"LN(H23/G23)/LN(N23)","v":1.5662102970261165},{"$f":"H23/G23","v":2.3809523809523809},2.2000000000000002,1.74,{"$f":"S23/(B23*E23/2950*D23)","v":0.92630073766769339},{"$f":"(U23*8.314*F23/4*LN(H23/G23)/1000)/W23","v":0.56201989039493916},{"$f":"U23*3600/1000/0.17625","v":3672.5259832223037},3825,{"$f":"R23*$R$20/J23","v":3816.359039190897},{"$f":"S23*J23","v":647.28270454293101},{"$f":"T23/3.6","v":179.80075126192529},{"$f":"U23*8.314*F23/4*LN(H23/G23)/1000","v":96.611219158890037},{"$f":"X23*B23","v":171.9},171.9,"each",{"$f":"H23-G23","v":1.45},null,null,null,null,null,{"$f":"1.27581621531631*AB23*273.15/(Z23)*4/28.958600656","v":0}]
[null,1,"SGCB3511",4120,2950,298,1.05,3,{"$f":"M24^K24*G24","v":2.7150303024408236},0.1696073922542049,1.2049008583486125,{"$f":"H24/G24","v":2.8571428571428572},2.2000000000000002,2.39,0.92775375843266239,0.58725817957876791,3678.2868082940254,3831,3822.3454847425692,648.2980499618219,180.08279165606163,117.09928100800633,199.4,199.4,"each",1.95,null,null,null,null,null,0]
[null,1,"SGCB3511",4120,2950,298,1.05,4,{"$f":"M25^K25*G25","v":2.496015004019744},0.1696073922542049,1.0982271725455,{"$f":"H25/G25","v":3.8095238095238093},2.2000000000000002,3.38,0.92484771690272449,0.52775235325650693,3666.7651581505825,3819,3810.3725936392248,646.26735912404013,179.51871086778891,148.72061314768365,281.8,281.8,"each",2.95,null,null,null,null,null,0]
[null,1,"SGCB3511",4120,2950,298,1.05,5,{"$f":"M26^K26*G26","v":2.4576872897165281},0.1696073922542049,1.0786006450047023,{"$f":"H26/G26","v":4.7619047619047619},2.2000000000000002,4.25,0.92097299486280748,0.45071858105428197,3651.4029579593262,3803,3794.4087388347666,643.55977134033117,178.76660315009198,172.8055039762117,383.4,383.4,"each",3.95,null,null,null,null,null,0]
[null,1,"SGCB3511",4120,2950,298,1.05,6,{"$f":"M27^K27*G27","v":2.4382307644072063},0.1696073922542049,1.068520072134747,{"$f":"H27/G27","v":5.7142857142857144},2.2000000000000002,5.1100000000000003,0.91152835989050929,0.375347267225557,3613.9575949931377,3764,3755.4968427488984,{"$f":"S27*J27","v":636.96002611754045},176.93334058820568,191.01422429108595,508.9,508.9,"each",4.95,null,null,null,null,null,0]
[null,1,"SGCB3511",4120,2950,298,1.05,7,{"$f":"M28^K28*G28","v":2.4272022853852318},0.1696073922542049,1.0627703527655687,{"$f":"H28/G28","v":6.6666666666666661},2.2000000000000002,5.96,0.91152835989050929,0.32318948153220084,3613.9575949931377,3764,3755.4968427488984,{"$f":"S28*J28","v":636.96002611754045},176.93334058820568,207.9077934696648,643.29999999999995,643.29999999999995,"each",5.95,null,null,null,null,null,0]
[null,null,"FIXED Vi=2,8"]
[null,1,"SGCB3511",4120,2950,298,1.05,3,{"$f":"M30^K30*G30","v":3.6305330517332148},{"$f":"1.27581621531631*G30*273.15/(F30)*4/28.958600656","v":0.1696073922542049},{"$f":"LN(H30/G30)/LN(N30)","v":1.2049008583486125},{"$f":"H30/G30","v":2.8571428571428572},2.8,2.39,{"$f":"S30/(B30*E30/2950*D30)","v":0.92557422728520911},{"$f":"(U30*8.314*F30/4*LN(H30/G30)/1000)/W30","v":0.56738312195936436},{"$f":"U30*3600/1000/0.17625","v":3669.6455706864435},3822,{"$f":"R30*$R$20/J30","v":3813.3658164150615},{"$f":"S30*J30","v":646.77503183348563},{"$f":"T30/3.6","v":179.65973106485711},{"$f":"U30*8.314*F30/4*LN(H30/G30)/1000","v":116.82418481143313},{"$f":"X30*B30","v":205.9},205.9,"each",{"$f":"H30-G30","v":1.95},null,null,null,null,null,{"$f":"1.27581621531631*AB30*273.15/(Z30)*4/28.958600656","v":0}]
[null,1,"SGCB3511",4120,2950,298,1.05,4,3.2528976557468425,{"$f":"1.27581621531631*G31*273.15/(F31)*4/28.958600656","v":0.1696073922542049},{"$f":"LN(H31/G31)/LN(N31)","v":1.0982271725455},3.8095238095238093,2.8,3.38,{"$f":"S31/(B31*E31/2950*D31)","v":0.9241212065202401},{"$f":"(U31*8.314*F31/4*LN(H31/G31)/1000)/W31","v":0.57822484930616291},{"$f":"U31*3600/1000/0.17625","v":3663.8847456147223},3816,3807.3793708633893,645.75968641459474,{"$f":"T31/3.6","v":179.37769067072077},{"$f":"U31*8.314*F31/4*LN(H31/G31)/1000","v":148.60378627168387},{"$f":"X31*B31","v":257},257,"each",{"$f":"H31-G31","v":2.95},null,null,null,null,null,{"$f":"1.27581621531631*AB31*273.15/(Z31)*4/28.958600656","v":0}]
[null,1,"SGCB3511",4120,2950,298,1.05,5,3.1878232963604174,{"$f":"1.27581621531631*G32*273.15/(F32)*4/28.958600656","v":0.1696073922542049},{"$f":"LN(H32/G32)/LN(N32)","v":1.0786006450047023},4.7619047619047619,2.8,4.25,{"$f":"S32/(B32*E32/2950*D32)","v":0.92097299486280748},{"$f":"(U32*8.314*F32/4*LN(H32/G32)/1000)/W32","v":0.52748932837671458},{"$f":"U32*3600/1000/0.17625","v":3651.4029579593262},3803,3794.4087388347666,643.55977134033117,{"$f":"T32/3.6","v":178.76660315009198},{"$f":"U32*8.314*F32/4*LN(H32/G32)/1000","v":172.8055039762117},{"$f":"X32*B32","v":327.60000000000002},327.60000000000002,"each",{"$f":"H32-G32","v":3.95},null,null,null,null,null,{"$f":"1.27581621531631*AB32*273.15/(Z32)*4/28.958600656","v":0}]
[null,1,"SGCB3511",4120,2950,298,1.05,6,3.1549075033624892,{"$f":"1.27581621531631*G33*273.15/(F33)*4/28.958600656","v":0.1696073922542049},{"$f":"LN(H33/G33)/LN(N33)","v":1.068520072134747},5.7142857142857144,2.8,5.1100000000000003,{"$f":"S33/(B33*E33/2950*D33)","v":0.91201270014549907},{"$f":"(U33*8.314*F33/4*LN(H33/G33)/1000)/W33","v":0.45809137015368256},{"$f":"U33*3600/1000/0.17625","v":3615.8778700170446},3766,3757.492324599456,{"$f":"S33*J33","v":637.29847459050416},{"$f":"T33/3.6","v":177.02735405291781},{"$f":"U33*8.314*F33/4*LN(H33/G33)/1000","v":191.11571962811635},{"$f":"X33*B33","v":417.2},417.2,"each",{"$f":"H33-G33","v":4.95},null,null,null,null,null,{"$f":"1.27581621531631*AB33*273.15/(Z33)*4/28.958600656","v":0}]
[null,1,"SGCB3511",4120,2950,298,1.05,7,3.1362855548730804,{"$f":"1.27581621531631*G34*273.15/(F34)*4/28.958600656","v":0.1696073922542049},{"$f":"LN(H34/G34)/LN(N34)","v":1.0627703527655687},6.6666666666666661,2.8,5.96,{"$f":"S34/(B34*E34/2950*D34)","v":0.91152835989050929},{"$f":"(U34*8.314*F34/4*LN(H34/G34)/1000)/W34","v":0.40480489382722895},{"$f":"U34*3600/1000/0.17625","v":3613.9575949931377},3764,3755.4968427488984,{"$f":"S34*J34","v":636.96002611754045},{"$f":"T34/3.6","v":176.93334058820568},{"$f":"U34*8.314*F34/4*LN(H34/G34)/1000","v":207.9077934696648},{"$f":"X34*B34","v":513.6},513.6,"each",{"$f":"H34-G34","v":5.95},null,null,null,null,null,{"$f":"1.27581621531631*AB34*273.15/(Z34)*4/28.958600656","v":0}]
[null,null,"FIXED Vi=5"]
[null,1,"SGCB3511",4120,2950,298,1.05,3,{"$f":"M36^K36*G36","v":7.3009413092938944},{"$f":"1.27581621531631*G36*273.15/(F36)*4/28.958600656","v":0.1696073922542049},{"$f":"LN(H36/G36)/LN(N36)","v":1.2049008583486125},{"$f":"H36/G36","v":2.8571428571428572},5,2.39,{"$f":"S36/(B36*E36/2950*D36)","v":0.91709827282289025},{"$f":"(U36*8.314*F36/4*LN(H36/G36)/1000)/W36","v":0.43763465508205623},{"$f":"U36*3600/1000/0.17625","v":3636.0407577680689},3787,{"$f":"R36*$R$20/J36","v":3778.444884030308},{"$f":"S36*J36","v":640.85218355662221},{"$f":"T36/3.6","v":178.01449543239505},{"$f":"U36*8.314*F36/4*LN(H36/G36)/1000","v":115.75436626920387},{"$f":"X36*B36","v":264.5},264.5,"each",{"$f":"H36-G36","v":1.95},null,null,null,null,null,{"$f":"1.27581621531631*AB36*273.15/(Z36)*4/28.958600656","v":0}]
[null,1,"SGCB3511",4120,2950,298,1.05,4,6.1491792161889913,0.1696073922542049,1.0982271725455,3.8095238095238093,5,3.38,0.92169950524529176,0.53545651499886093,3654.2833704951863,3806,{"$f":"R37*$R$20/J37","v":3797.401961610602},{"$f":"S37*J37","v":644.06744404977655},178.90762334716015,148.21436335168471,276.8,276.8,"each",2.95,null,null,null,null,null,0]
[null,1,"SGCB3511",4120,2950,298,1.05,5,5.957976646620831,0.1696073922542049,1.0786006450047023,4.7619047619047619,5,4.25,0.92097299486280748,0.56490847981762571,3651.4029579593262,3803,3794.4087388347666,643.55977134033117,178.76660315009198,172.8055039762117,305.89999999999998,305.89999999999998,"each",3.95,null,null,null,null,null,0]
[null,1,"SGCB3511",4120,2950,298,1.05,6,5.8620940047893866,0.1696073922542049,1.068520072134747,5.7142857142857144,5,5.1100000000000003,0.91322355078297301,0.54896574288781452,3620.6785575768122,3771,3762.4810292258489,{"$f":"S39*J39","v":638.14459577291314},177.26238771469809,191.36945797069214,348.6,348.6,"each",4.95,null,null,null,null,null,0]
[null,1,"SGCB3511",4120,2950,298,1.05,7,5.8080974857679948,0.1696073922542049,1.0627703527655687,6.6666666666666661,5,5.96,0.9057162768306336,0.52246366394766319,3590.9142947062528,3740,3731.5510605422105,{"$f":"S40*J40","v":632.89864444197701},175.80517901166027,206.58213272490602,395.4,395.4,"each",5.95,null,null,null,null,null,0]
[null,1,"SGCB3511",4120,2950,298,1.05,8,{"$f":"M41^K41*G41","v":5.7760157947195179},0.1696073922542049,1.0593288245470087,{"$f":"H41/G41","v":7.6190476190476186},5,6.8,0.89990419377075803,0.50092049779609782,3567.8709944193679,3716,3707.6052783355231,{"$f":"S41*J41","v":628.83726276641357},174.67701743511489,219.70373033336853,438.6,438.6,"each",6.95,null,null,null,null,null,0]
[]
[null,null,"VARIABLE Vi"]
[null,1,"SGCB3511",4120,2950,298,1.05,3,{"$f":"M44^K44*G44","v":2.9999999999999996},{"$f":"1.27581621531631*G44*273.15/(F44)*4/28.958600656","v":0.1696073922542049},{"$f":"LN(H44/G44)/LN(N44)","v":1.2049008583486125},{"$f":"H44/G44","v":2.8571428571428572},2.39,2.39,{"$f":"S44/(B44*E44/2950*D44)","v":0.927027248050178},{"$f":"(U44*8.314*F44/4*LN(H44/G44)/1000)/W44","v":0.58709273595491851},{"$f":"U44*3600/1000/0.17625","v":3675.4063957581648},3828,{"$f":"R44*$R$20/J44","v":3819.3522619667333},{"$f":"S44*J44","v":647.79037725237652},{"$f":"T44/3.6","v":179.94177145899349},{"$f":"U44*8.314*F44/4*LN(H44/G44)/1000","v":117.00758227581527},{"$f":"X44*B44","v":199.3},199.3,"each",{"$f":"H44-G44","v":1.95},82.5,107.7,36.6,{"$f":"(AB44+AC44)*60/1000","v":8.6579999999999995},{"$f":"AD44*835.2","v":7231.1616000000004},{"$f":"1.27581621531631*Z44*273.15/(AA44)*4/28.958600656","v":1.1377645672602421},{"$f":"R44*$R$20/AF44","v":569.3536219116645},{"$f":"AD44/AG44","v":1.5206718051480654E-2},{"$f":"T44/AE44","v":8.9583169770729013E-2},{"$f":"1.667*AI44+(1-AI44)*1","v":1.0597519742370762},{"$f":"(H44/G44)^(1/AJ44)","v":2.6929305509841686},{"$f":"AK44*(1-AH44)","v":2.651979915363134}]
[null,1,"SGCB3511",4120,2950,298,1.05,4,4,0.1696073922542049,1.0982271725455,3.8095238095238093,3.38,3.38,0.9233946961377556,0.58644138781865773,3661.0043330788612,3813,{"$f":"R45*$R$20/J45","v":3804.386148087553},{"$f":"S45*J45","v":645.25201370514924},179.23667047365257,148.48695939568412,253.2,253.2,"each",2.95,82.5,138.80000000000001,61.5,{"$f":"(AB45+AC45)*60/1000","v":12.018000000000001},{"$f":"AD45*835.2","v":10037.4336},{"$f":"1.27581621531631*Z45*273.15/(AA45)*4/28.958600656","v":1.7212335761116484},{"$f":"R45*$R$20/AF45","v":374.87765905822346},{"$f":"AD45/AG45","v":3.2058458832121141E-2},{"$f":"T45/AE45","v":6.4284561115816416E-2},{"$f":"1.667*AI45+(1-AI45)*1","v":1.0428778022642495},{"$f":"(H45/G45)^(1/AJ45)","v":3.6056889569230695},{"$f":"AK45*(1-AH45)","v":3.4900961259361174}]
[null,1,"SGCB3511",4120,2950,298,1.05,5,5,0.1696073922542049,1.0786006450047023,4.7619047619047619,4.25,4.25,0.92097299486280748,0.57563459019390972,3651.4029579593262,3803,3794.4087388347666,643.55977134033117,178.76660315009198,172.8055039762117,300.2,300.2,"each",3.95,null,null,null,null,null,{"$f":"1.27581621531631*AB46*273.15/(Z46)*4/28.958600656","v":0}]
[null,1,"SGCB3511",4120,2950,298,1.05,6,5.8620940047893866,0.1696073922542049,1.068520072134747,5.7142857142857144,5,5.1100000000000003,0.91322355078297301,0.54896574288781452,3620.6785575768122,3771,3762.4810292258489,638.14459577291314,177.26238771469809,191.36945797069214,348.6,348.6,"each",4.95,null,null,null,null,null,{"$f":"1.27581621531631*AB47*273.15/(Z47)*4/28.958600656","v":0}]
[null,1,"SGCB3511",4120,2950,298,1.05,7,5.8080974857679948,0.1696073922542049,1.0627703527655687,6.6666666666666661,5,5.96,0.9057162768306336,0.52246366394766319,3590.9142947062528,3740,3731.5510605422105,{"$f":"S48*J48","v":632.89864444197701},175.80517901166027,206.58213272490602,395.4,395.4,"each",5.95,null,null,null,null,null,{"$f":"1.27581621531631*AB48*273.15/(Z48)*4/28.958600656","v":0}]
[null,1,"SGCB3511",4120,2950,298,1.05,8,5.7760157947195179,0.1696073922542049,1.0593288245470087,7.6190476190476186,5,6.8,0.89990419377075803,0.50092049779609782,3567.8709944193679,3716,3707.6052783355231,{"$f":"S49*J49","v":628.83726276641357},174.67701743511489,219.70373033336853,438.6,438.6,"each",6.95,null,null,null,null,null,{"$f":"1.27581621531631*AB49*273.15/(Z49)*4/28.958600656","v":0}]
[null,null,"VARIABLE Vi"]
[null,1,"SGCB3511",4120,2950,298,4.7,15,{"$f":"M51^K51*G51","v":15},{"$f":"1.27581621531631*G51*273.15/(F51)*4/28.958600656","v":0.7591949938997743},{"$f":"LN(H51/G51)/LN(N51)","v":1.1640396022131752},{"$f":"H51/G51","v":3.1914893617021276},2.71,2.71,{"$f":"S51/(B51*E51/2950*D51)","v":0.93147132751750317},{"$f":"(U51*8.314*F51/4*LN(H51/G51)/1000)/W51","v":0.63997128882633758},{"$f":"U51*3600/1000/0.17625","v":16530.687543304157},17217,{"$f":"R51*$R$20/J51","v":3837.661869372113},{"$f":"S51*J51","v":2913.5336795073576},{"$f":"T51/3.6","v":809.31491097426601},{"$f":"U51*8.314*F51/4*LN(H51/G51)/1000","v":581.73390154314086},{"$f":"X51*B51","v":909},909,"each",{"$f":"H51-G51","v":10.3}]
[null,1,"SGCB3511",4120,2950,298,4.7,16,16,0.7591949938997743,1.1580993135417617,3.4042553191489362,2.88,2.88,0.9307139017995939,0.63210743282372883,16517.245618136811,17203,{"$f":"R52*$R$20/J52","v":3834.5412754143267},2911.1645401966125,808.65681672128119,613.58668504199363,970.7,970.7,"each",11.3]
[null,1,"SGCB3511",4120,2950,298,4.7,17,17,0.7591949938997743,1.1529036726414146,3.6170212765957444,3.05,3.05,0.93011878159266514,0.62431157122847136,16506.684105505319,17192,3832.0893801617804,2909.3030735953125,808.13974266536457,643.54036762230828,1030.8,1030.8,"each",12.3]
[null,1,"SGCB3511",4120,2950,298,4.7,18,18,0.7591949938997743,1.1513698973506568,3.8297872340425529,3.21,3.21,0.92974006873371029,0.61600594393602803,16499.963142921646,17185,3830.5290831828866,2908.1185039399397,807.8106955388721,671.87768305102577,1090.7,1090.7,"each",13.3]
[null,1,"SGCB3511",4120,2950,298,4.7,19,19.000000000000004,0.7591949938997743,1.1469778562458848,4.042553191489362,3.38,3.38,0.92800880994991763,0.60705610034254331,16469.238742539132,17153,3823.3962969936606,2902.7033283725218,806.30648010347829,697.62887051365078,1149.2,1149.2,"each",14.3]
[null,1,"SGCB3511",4120,2950,298,4.7,20,20,0.7591949938997743,1.1455890724720712,4.2553191489361701,3.54,3.54,0.92595294014416385,0.59723872464202599,16432.753517084897,17115,{"$f":"R56*$R$20/J56","v":3814.9261133939549},2896.2728073862131,804.52022427394809,721.64355098496003,1208.3,1208.3,"each",15.3]
[]
[null,1,"SGCB3511",4120,2950,298,1,4,{"$f":"M58^K58*G58","v":4},{"$f":"1.27581621531631*G58*273.15/(F58)*4/28.958600656","v":0.16153084976590942},{"$f":"LN(H58/G58)/LN(N58)","v":1.0917762145999257},{"$f":"H58/G58","v":4},3.56,3.56,{"$f":"S58/(B58*E58/2950*D58)","v":0.92176004777716569},{"$f":"(U58*8.314*F58/4*LN(H58/G58)/1000)/W58","v":0.57786464167924345},{"$f":"U58*3600/1000/0.17625","v":3480.4984808315958},3625,{"$f":"R58*$R$20/J58","v":3797.6513968419226},{"$f":"S58*J58","v":613.43785724656868},{"$f":"T58/3.6","v":170.39940479071353},{"$f":"U58*8.314*F58/4*LN(H58/G58)/1000","v":146.31532727318444},{"$f":"X58*B58","v":253.2},253.2,"each",{"$f":"H58-G58","v":3}]
[null,1,"SGCB3511",4120,2950,298,1.1399999999999999,4,3.9999999999999996,{"$f":"1.27581621531631*G59*273.15/(F59)*4/28.958600656","v":0.18414516873313672},{"$f":"LN(H59/G59)/LN(N59)","v":1.1094783065758493},3.5087719298245617,3.1,3.1,{"$f":"S59/(B59*E59/2950*D59)","v":0.9261095507249345},{"$f":"(U59*8.314*F59/4*LN(H59/G59)/1000)/W59","v":0.60121547362000838},{"$f":"U59*3600/1000/0.17625","v":3986.4909496311125},4152,{"$f":"R59*$R$20/J59","v":3815.5713489867303},{"$f":"S59*J59","v":702.61902987248357},{"$f":"T59/3.6","v":195.17195274235655},{"$f":"U59*8.314*F59/4*LN(H59/G59)/1000","v":151.74678554169012},{"$f":"X59*B59","v":252.4},252.4,"each",{"$f":"H59-G59","v":2.8600000000000003}]
[null,1,"SGCB3511",4120,2950,298,1.33,4,4,{"$f":"1.27581621531631*G60*273.15/(F60)*4/28.958600656","v":0.21483603018865954},{"$f":"LN(H60/G60)/LN(N60)","v":1.1387112858452502},3.007518796992481,2.63,2.63,{"$f":"S60/(B60*E60/2950*D60)","v":0.93184515900770648},{"$f":"(U60*8.314*F60/4*LN(H60/G60)/1000)/W60","v":0.62032110442709776},{"$f":"U60*3600/1000/0.17625","v":4679.7102332615705},4874,3839.2020551117507,{"$f":"S60*J60","v":824.7989286123518},{"$f":"T60/3.6","v":229.11081350343105},{"$f":"U60*8.314*F60/4*LN(H60/G60)/1000","v":156.25888620518592},{"$f":"X60*B60","v":251.9},251.9,"each",{"$f":"H60-G60","v":2.67}]
[null,1,"SGCB3511",4120,2950,298,1.6,4,4.2365381512916382,{"$f":"1.27581621531631*G61*273.15/(F61)*4/28.958600656","v":0.25844935962545507},{"$f":"LN(H61/G61)/LN(N61)","v":1.234997454142672},2.5,2.2000000000000002,2.1,{"$f":"S61/(B61*E61/2950*D61)","v":0.93733461410167629},{"$f":"(U61*8.314*F61/4*LN(H61/G61)/1000)/W61","v":0.6326865938151176},{"$f":"U61*3600/1000/0.17625","v":5662.8910455019995},5898,3861.8186100989064,{"$f":"S61*J61","v":998.08454676972735},{"$f":"T61/3.6","v":277.24570743603539},{"$f":"U61*8.314*F61/4*LN(H61/G61)/1000","v":157.34915588181974},{"$f":"X61*B61","v":248.7},248.7,"each",{"$f":"H61-G61","v":2.4}]
[null,1,"SGCB3511",4120,2950,298,2,4,6.9599832381776929,{"$f":"1.27581621531631*G62*273.15/(F62)*4/28.958600656","v":0.32306169953181885},{"$f":"LN(H62/G62)/LN(N62)","v":1.5816072601561455},2,2.2000000000000002,1.55,{"$f":"S62/(B62*E62/2950*D62)","v":0.94324659233914376},{"$f":"(U62*8.314*F62/4*LN(H62/G62)/1000)/W62","v":0.61262679216646243},{"$f":"U62*3600/1000/0.17625","v":7123.2602011833396},7419,3886.1759604372724,{"$f":"S62*J62","v":1255.4746104585636},{"$f":"T62/3.6","v":348.74294734960097},{"$f":"U62*8.314*F62/4*LN(H62/G62)/1000","v":149.72598800548343},{"$f":"X62*B62","v":244.4},244.4,"each",{"$f":"H62-G62","v":2}]
[]
[null,1,"SGCB3511",4120,2950,298,1,4,{"$f":"M64^K64*G64","v":2.3650968968107864},{"$f":"1.27581621531631*G64*273.15/(F64)*4/28.958600656","v":0.16153084976590942},{"$f":"LN(H64/G64)/LN(N64)","v":1.0917762145999257},{"$f":"H64/G64","v":4},2.2000000000000002,3.56,{"$f":"S64/(B64*E64/2950*D64)","v":0.92277716231264384},{"$f":"(U64*8.314*F64/4*LN(H64/G64)/1000)/W64","v":0.50561539064133998},{"$f":"U64*3600/1000/0.17625","v":3484.3390308794092},3629,{"$f":"R64*$R$20/J64","v":3801.8419087280927},{"$f":"S64*J64","v":614.11475419249587},{"$f":"T64/3.6","v":170.58743172013774},{"$f":"U64*8.314*F64/4*LN(H64/G64)/1000","v":146.47677866879619},{"$f":"X64*B64","v":289.7},289.7,"each",{"$f":"H64-G64","v":3}]
[null,1,"SGCB3511",4120,2950,298,1.1399999999999999,4,2.7341062482813947,{"$f":"1.27581621531631*G65*273.15/(F65)*4/28.958600656","v":0.18414516873313672},{"$f":"LN(H65/G65)/LN(N65)","v":1.1094783065758493},3.5087719298245617,2.2000000000000002,3.1,{"$f":"S65/(B65*E65/2950*D65)","v":0.92767091075746699},{"$f":"(U65*8.314*F65/4*LN(H65/G65)/1000)/W65","v":0.56318125483916592},{"$f":"U65*3600/1000/0.17625","v":3993.2119122147874},4159,3822.0041523207642,{"$f":"S65*J65","v":703.80359952785625},{"$f":"T65/3.6","v":195.50099986884896},{"$f":"U65*8.314*F65/4*LN(H65/G65)/1000","v":152.00262068109086},{"$f":"X65*B65","v":269.89999999999998},269.89999999999998,"each",{"$f":"H65-G65","v":2.8600000000000003}]
[null,1,"SGCB3511",4120,2950,298,1.33,4,3.2641658147142927,{"$f":"1.27581621531631*G66*273.15/(F66)*4/28.958600656","v":0.21483603018865954},{"$f":"LN(H66/G66)/LN(N66)","v":1.1387112858452502},3.007518796992481,2.2000000000000002,2.63,{"$f":"S66/(B66*E66/2950*D66)","v":0.93184515900770648},{"$f":"(U66*8.314*F66/4*LN(H66/G66)/1000)/W66","v":0.61205987546097107},{"$f":"U66*3600/1000/0.17625","v":4679.7102332615705},4874,3839.2020551117507,{"$f":"S66*J66","v":824.7989286123518},{"$f":"T66/3.6","v":229.11081350343105},{"$f":"U66*8.314*F66/4*LN(H66/G66)/1000","v":156.25888620518592},{"$f":"X66*B66","v":255.3},255.3,"each",{"$f":"H66-G66","v":2.67}]
[null,1,"SGCB3511",4120,2950,298,1.6,4,4.2365381512916382,{"$f":"1.27581621531631*G67*273.15/(F67)*4/28.958600656","v":0.25844935962545507},{"$f":"LN(H67/G67)/LN(N67)","v":1.234997454142672},2.5,2.2000000000000002,2.1,{"$f":"S67/(B67*E67/2950*D67)","v":0.93733461410167629},{"$f":"(U67*8.314*F67/4*LN(H67/G67)/1000)/W67","v":0.6326865938151176},{"$f":"U67*3600/1000/0.17625","v":5662.8910455019995},5898,3861.8186100989064,{"$f":"S67*J67","v":998.08454676972735},{"$f":"T67/3.6","v":277.24570743603539},{"$f":"U67*8.314*F67/4*LN(H67/G67)/1000","v":157.34915588181974},{"$f":"X67*B67","v":248.7},248.7,"each",{"$f":"H67-G67","v":2.4}]
[null,1,"SGCB3511",4120,2950,298,2,4,6.9599832381776929,{"$f":"1.27581621531631*G68*273.15/(F68)*4/28.958600656","v":0.32306169953181885},{"$f":"LN(H68/G68)/LN(N68)","v":1.5816072601561455},2,2.2000000000000002,1.55,{"$f":"S68/(B68*E68/2950*D68)","v":0.94324659233914376},{"$f":"(U68*8.314*F68/4*LN(H68/G68)/1000)/W68","v":0.61262679216646243},{"$f":"U68*3600/1000/0.17625","v":7123.2602011833396},7419,3886.1759604372724,{"$f":"S68*J68","v":1255.4746104585636},{"$f":"T68/3.6","v":348.74294734960097},{"$f":"U68*8.314*F68/4*LN(H68/G68)/1000","v":149.72598800548343},{"$f":"X68*B68","v":244.4},244.4,"each",{"$f":"H68-G68","v":2}]
[]
[null,1,"SGCB3511",4120,2950,298,{"$f":"H70/L64","v":1.25},5,{"$f":"M70^K70*G70","v":2.9620268410558994},{"$f":"1.27581621531631*G70*273.15/(F70)*4/28.958600656","v":0.20191356220738677},{"$f":"LN(H70/G70)/LN(N70)","v":1.0942002315676351},{"$f":"H70/G70","v":4},2.2000000000000002,3.55,{"$f":"S70/(B70*E70/2950*D70)","v":0.92781187926326125},{"$f":"(U70*8.314*F70/4*LN(H70/G70)/1000)/W70","v":0.53283633530055907},{"$f":"U70*3600/1000/0.17625","v":4379.187192020112},4561,{"$f":"R70*$R$20/J70","v":3822.5849425646365},{"$f":"S70*J70","v":771.83174259354473},{"$f":"T70/3.6","v":214.39770627598463},{"$f":"U70*8.314*F70/4*LN(H70/G70)/1000","v":184.09495384634315},{"$f":"X70*B70","v":345.5},345.5,"each",{"$f":"H70-G70","v":3.75}]
[null,1,"SGCB3511",4120,2950,298,{"$f":"H71/L65","v":1.4249999999999998},5,3.426205780664878,{"$f":"1.27581621531631*G71*273.15/(F71)*4/28.958600656","v":0.23018146091642092},{"$f":"LN(H71/G71)/LN(N71)","v":1.1126557920406865},3.5087719298245617,2.2000000000000002,3.09,{"$f":"S71/(B71*E71/2950*D71)","v":0.93574537263999169},{"$f":"(U71*8.314*F71/4*LN(H71/G71)/1000)/W71","v":0.59687657205918421},{"$f":"U71*3600/1000/0.17625","v":5034.9611126843829},5244,3855.2709352767656,{"$f":"S71*J71","v":887.41189611062237},{"$f":"T71/3.6","v":246.50330447517288},{"$f":"U71*8.314*F71/4*LN(H71/G71)/1000","v":191.65706728820405},{"$f":"X71*B71","v":321.10000000000002},321.10000000000002,"each",{"$f":"H71-G71","v":3.5750000000000002}]
[null,1,"SGCB3511",4120,2950,298,1.6625000000000001,5,4.0802072683928658,{"$f":"1.27581621531631*G72*273.15/(F72)*4/28.958600656","v":0.26854503773582444},{"$f":"LN(H72/G72)/LN(N72)","v":1.1387112858452502},3.007518796992481,2.2000000000000002,2.63,{"$f":"S72/(B72*E72/2950*D72)","v":0.93635717085682058},{"$f":"(U72*8.314*F72/4*LN(H72/G72)/1000)/W72","v":0.64098422061431293},{"$f":"U72*3600/1000/0.17625","v":5877.9618481795942},6122,3857.7915439301009,{"$f":"S72*J72","v":1035.9907757416534},{"$f":"T72/3.6","v":287.77521548379258},{"$f":"U72*8.314*F72/4*LN(H72/G72)/1000","v":196.26936835210262},{"$f":"X72*B72","v":306.2},306.2,"each",{"$f":"H72-G72","v":3.3374999999999999}]
[null,1,"SGCB3511",4120,2950,298,2,5,5.2956726891145474,{"$f":"1.27581621531631*G73*273.15/(F73)*4/28.958600656","v":0.32306169953181885},{"$f":"LN(H73/G73)/LN(N73)","v":1.234997454142672},2.5,2.2000000000000002,2.1,{"$f":"S73/(B73*E73/2950*D73)","v":0.94235661712060026},{"$f":"(U73*8.314*F73/4*LN(H73/G73)/1000)/W73","v":0.66444973566994636},{"$f":"U73*3600/1000/0.17625","v":7116.5392385996647},7412,3882.5092625368729,{"$f":"S73*J73","v":1254.2900408031908},{"$f":"T73/3.6","v":348.41390022310856},{"$f":"U73*8.314*F73/4*LN(H73/G73)/1000","v":197.74024133537606},{"$f":"X73*B73","v":297.60000000000002},297.60000000000002,"each",{"$f":"H73-G73","v":3}]
[null,1,"SGCB3511",4120,2950,298,2.5,5,8.6999790477221168,{"$f":"1.27581621531631*G74*273.15/(F74)*4/28.958600656","v":0.40382712441477353},{"$f":"LN(H74/G74)/LN(N74)","v":1.5816072601561455},2,2.2000000000000002,1.55,{"$f":"S74/(B74*E74/2950*D74)","v":0.94723876689089581},{"$f":"(U74*8.314*F74/4*LN(H74/G74)/1000)/W74","v":0.64476708719236575},{"$f":"U74*3600/1000/0.17625","v":8941.7606488233505},9313,3902.623719590491,{"$f":"S74*J74","v":1575.9853143551154},{"$f":"T74/3.6","v":437.77369843197647},{"$f":"U74*8.314*F74/4*LN(H74/G74)/1000","v":187.94960591657463},{"$f":"X74*B74","v":291.5},291.5,"each",{"$f":"H74-G74","v":2.5}]
[]
[]
[]
[]
[null,null,"Volumetric efficiency ~90%"]
[]
[]
[]
[null,null,null,null,null,null,null,null,null,null,null,null,null,null,null,null,null,null,25.1,"kg/min"]
[null,null,null,null,null,null,null,null,null,null,null,null,null,null,null,null,null,null,{"$f":"S83*60*1000/3600","v":418.33333333333331},"g/s"]
[]
[]
[]
[]
[]
[]
[]
[]
[]
[]
[]
[]
[]
[]
[]
[]
[]
[]
[]
[]
[]
[]
[]
[]
[]
[]
[]
[]
[]
[]
[null,null,null,null,null,null,null,null,null,null,null,null,null,null,null,null,"GEOMETRICAL SWEPT VOLUME"]
[null,null,null,null,null,null,null,null,null,null,null,null,null,null,null,null,"Compressor\nModel",null,null,"Rotor Diameter mm",null,null,"Rotor\nL/D",null,"Max Speed RPM","Geometrical\nSwept Volume\nDrive Shaft  End",null,null,null,"CFM\n3550 RPM",null,"m³/h\n2950 RPM","Rotor"]
[null,null,null,null,null,null,null,null,null,null,null,null,null,null,null,null,null,null,null,null,null,null,null,null,null,"ft³/  Rev",null,"m³/Rev",null,null,null,null,"L"]
[null,null,null,null,null,null,null,null,null,null,null,null,null,null,null,null,"SGC1913",null,null,193,null,null,1.35,null,".4,500.",0.16653000000000001,null,4.7130000000000002E-3,null,591,null,834,{"$f":"T118*W118","v":260.55}]
[null,"HOUSING: Cast Iron",null,null,null,null,null,null,null,null,null,null,null,null,null,null,"SGC.1918",null,null,193,null,null,1.8,null,".4,500.",0.22203999999999999,null,6.2839999999999997E-3,null,788,null,1112,{"$f":"T119*W119","v":347.40000000000003}]
[null,"ROTORS: Asymmetric 4+6",null,null,null,null,null,null,null,null,null,null,null,null,null,null,"SGC.2313",null,null,233,null,null,1.35,null,".4,500.",0.29300999999999999,null,8.2920000000000008E-3,null,1040,null,1468,314.55]
[null,"BEARINGS: Antifriction",null,null,null,null,null,null,null,null,null,null,null,null,null,null,"SGC.2317",null,null,233,null,null,1.7,null,".4,500.",0.36897000000000002,null,1.0442E-2,null,1310,null,1848,396.09999999999997]
[null,"SHAFT SEAL: Stationary carbon",null,null,null,null,null,null,null,null,null,null,null,null,null,null,"SGC.2321",null,null,233,null,null,2.1,null,".4,500.",0.45579999999999998,null,1.2899000000000001E-2,null,1618,null,2283,489.3]
[null,"VOLUME RATIO CONTROL: Variable 2.2 – 5.0",null,null,null,null,null,null,null,null,null,null,null,null,null,null,"SGC.2813",null,null,283,null,null,1.35,null,".4,200.",0.52500999999999998,null,1.4858E-2,null,1864,null,2630,382.05]
[null,"CAPACITY CONTROL: Variable 12% - 100%",null,null,null,null,null,null,null,null,null,null,null,null,null,null,"SGC.2817",null,null,283,null,null,1.7,null,".4,200.",0.66115000000000002,null,1.8710999999999998E-2,null,2347,null,3312,481.09999999999997]
[null,"LUBRICATION SYSTEM: No Oil Pump",null,null,null,null,null,null,null,null,null,null,null,null,null,null,"SGC.2821",null,null,283,null,null,2.1,null,".4,200.",0.79545999999999994,null,2.2512000000000001E-2,null,2824,null,3985,594.30000000000007]
[null,"OIL SEPARATOR/RESERVOIR: ASME 300 psi DWP",null,null,null,null,null,null,null,null,null,null,null,null,null,null,"SGC.2824",null,null,283,null,null,2.4,null,".4,200.",0.89858000000000005,null,2.5430000000000001E-2,null,3190,null,4501,679.19999999999993]
[null,"OIL FILTERS: 5 Micron Absolute",null,null,null,null,null,null,null,null,null,null,null,null,null,null,"SGCH/B.3511",null,null,355,null,null,1.1000000000000001,null,".4,200.",0.82247999999999999,null,2.3276000000000002E-2,null,2920,null,4120,390.50000000000006]
[null,null,null,null,null,null,null,null,null,null,null,null,null,null,null,null,"SGCH/B.3515",null,null,355,null,null,1.5,null,".4,200.",1.12154,null,3.1739000000000003E-2,null,3981,null,5618,532.5]
[null,null,null,null,null,null,null,null,null,null,null,null,null,null,null,null,"SGCH/B.3519",null,null,355,null,null,1.9,null,".4,200.",1.4274800000000001,null,4.0398000000000003E-2,null,5068,null,7150,674.5]
[null,null,null,null,null,null,null,null,null,null,null,null,null,null,null,null,"SGCB.3524",null,null,355,null,null,2.4,null,".4,200.",1.80328,null,5.1033000000000002E-2,null,6402,null,9033,852]

{"sheet":"Frick_calc","index":12,"n_rows":40,"n_cols":51,"rows_kept":40,"cut":false,"hidden":false,"merged":[]}
[]
[]
[]
[]
[]
[]
[]
[]
[]
[]
[]
[]
[]
[]
[]
[]
[]
[]
[]
[]
[]
[]
[]
[]
[]
[]
[]
[]
[]
[]
[]
[]
[]
[]
[]
[]
[null,null,null,null,null,null,null,null,null,null,null,null,null,null,null,null,null,null,null,null,null,null,null,null,null,null,null,null,null,null,null,null,null,null,null,null,null,null,null,null,null,null,null,null,null,null,null,null,null,null,63.4]
[]
[]
[null,null,null,null,null,null,null,null,null,null,null,null,null,null,null,null,null,null,null,null,null,null,null,null,null,null,null,null,null,null,null,null,null,null,null,null,null,null,null,null,null,null,null,null,null,null,null,null,null,null,{"$f":"AY37/19.8","v":3.202020202020202}]

{"sheet":"Kobelco","index":13,"n_rows":39,"n_cols":12,"rows_kept":39,"cut":false,"hidden":false,"merged":[[3,1,4,1],[3,2,4,2]]}
[]
[]
[null,"LP Compressor - KS50LVS"]
[null,null,null,"Helium :","Hydrogen :","Methane :"]
[null,null,null,1,1,1]
[null,"Molecular Weight",null,"4.003","2.016","16.043"]
[null,"Specific Heat Ratio (k)",null,"1.665","1.402","1.292"]
[null,"Specific Heat (Cp)","kcal/kmol/C","4.971","6.929","8.849"]
[null,"Compressibility",null,"1.0005","1.0005","0.9986"]
[null,"Suction Pressure","barA","1.05","-->","-->"]
[null,"Suction Temperature","deg.C",50,"-->","-->"]
[null,"Suction Volume Flow","m3/h",10360,"-->","-->"]
[null,"Discharge Pressure","barA","4.10","-->","-->"]
[null,"Discharge Temperature","deg.C",85,"-->","-->"]
[null,"Speed","rpm",1637,1658,1633]
[null,"Volumetric Efficiency (*)","%","86.9","85.8","87.1"]
[null,"Shaft Power (*)","kW",875,836,803]
[null,"Lube Oil Temperature","deg.C",50,"-->","-->"]
[null,"Lube Oil Flow","litter/min",738,670,608]
[]
[null,null,"(*) The figure indicated includes design margin. "]
[]
[]
[]
[]
[]
[]
[]
[]
[]
[]
[]
[]
[]
[]
[]
[]
[]
[null,null,null,null,null,null,null,null,null,null,"L",{"$f":"1.65*510","v":841.5}]

{"sheet":"Sheet1","index":14,"n_rows":0,"n_cols":0,"rows_kept":0,"cut":false,"hidden":false,"merged":[]}

{"sheet":"Sheet2","index":15,"n_rows":15,"n_cols":36,"rows_kept":15,"cut":false,"hidden":false,"merged":[]}
["air molar mass",28.958600656000002]
["air density",1.2758162153163073,null,null,null,null,null,null,null,null,null,null,null,null,null,null,null,"Actual flow\n(process need)",null," ",null,null,null,null,"NEED\n(screw displacement)"]
[null,null,null,null,"Power @4,5K","Tmoy","Rdt W/W","Rdt %","Rdt expected (Green)","Power WCS\n(kW)","T\n(K)","LP\n(bar abs)","MP\n(bar abs)","HP\n(bar abs)","m_LP","m_HP","LP/HP","LP\n(Am3/h)","HP\n(Am3/h)"," ","%vol\nLP","%vol\nHP","Nb_LP","Nb_HP","LP\n(Am3/h)","HP\n(Am3/h)",null,"Screw LP","Screw HP","RPM","RPM","LP Am3/h","HP Am3/h"]
[null,null,"KSTAR","4,5K",9.6,28,268,0.245,{"$f":"15.5*(E4)^0.23/100","v":0.26076787129287671},{"$f":"(300-4.5)/4.5/H4*E4","v":2573.0612244897961},312,1.03,5.2,22,496.3,996.3,{"$f":"O4/P4","v":0.49814312957944396},{"$f":"O4/1000*3600/($B$2*L4*273.15/(K4)*4/$B$1)","v":11243.263873016251},{"$f":"P4/1000*3600/($B$2*M4*273.15/(K4)*4/$B$1)","v":4470.6651182545729}," ",0.8,0.75,2,2,{"$f":"R4/W4/U4","v":7027.0399206351567},{"$f":"S4/X4/V4","v":2980.4434121697154},null,"400SUD-MB","320SUD-L"]
[null,null,"Qatar 1",null,null,null,null,null,null,null,318,1.071,3.9569999999999999,20.62,463.1,1547,{"$f":"O5/P5","v":0.2993535875888817},{"$f":"O5/1000*3600/($B$2*L5*273.15/(K5)*4/$B$1)","v":10283.552961267214},{"$f":"P5/1000*3600/($B$2*M5*273.15/(K5)*4/$B$1)","v":9297.8415819809725}," ",0.8,0.75,2,2,{"$f":"R5/W5/U5","v":6427.2206007920086},{"$f":"S5/X5/V5","v":6198.561054653982},null,"400MUD-LB","400SUD-L",2985,2975,8027,6463,{"$f":"AF5/Y5","v":1.2489068757046951},{"$f":"AG5/Z5","v":1.0426613439819994}]
[null,null,"Qatar 2",null,null,null,null,null,null,null,320.5,1.05,4.8250000000000002,21,886.5,4067,{"$f":"O6/P6","v":0.21797393656257683},{"$f":"O6/1000*3600/($B$2*L6*273.15/(K6)*4/$B$1)","v":20237.097945893838},{"$f":"P6/1000*3600/($B$2*M6*273.15/(K6)*4/$B$1)","v":20203.920339519449}," ",0.8,0.75,2,2,{"$f":"R6/W6/U6","v":12648.186216183649},{"$f":"S6/X6/V6","v":13469.2802263463}]
[null,null,"Qatar 3",null,null,null,null,null,null,null,320,1.05,4.8250000000000002,21,254.3,1243,{"$f":"O7/P7","v":0.20458567980691875},{"$f":"O7/1000*3600/($B$2*L7*273.15/(K7)*4/$B$1)","v":5796.125739252444},{"$f":"P7/1000*3600/($B$2*M7*273.15/(K7)*4/$B$1)","v":6165.3047447817353}," ",0.8,0.75,2,2,{"$f":"R7/W7/U7","v":3622.5785870327772},{"$f":"S7/X7/V7","v":4110.2031631878235}]
[null,null,"ESS",null,null,null,null,null,null,null,311,1.05,4,16,424.2,1034,{"$f":"O8/P8","v":0.4102514506769826},{"$f":"O8/1000*3600/($B$2*L8*273.15/(K8)*4/$B$1)","v":9396.6383639127707},{"$f":"P8/1000*3600/($B$2*M8*273.15/(K8)*4/$B$1)","v":6012.4530125530973}," ",0.8,0.75,2,2,{"$f":"R8/W8/U8","v":5872.8989774454813},{"$f":"S8/X8/V8","v":4008.3020083687315}]
[]
[null,null,"TMCP","20K",null,null,null,null,null,null,297,3.4,20,null,1196,null,null,{"$f":"O10/1000*3600/($B$2*L10*273.15/(K10)*4/$B$1)","v":7813.3894329875629},{"$f":"P10/1000*3600/($B$2*M10*273.15/(K10)*4/$B$1)","v":0}," ",0.8,0.75,2,2,{"$f":"R10/W10/U10","v":4883.3683956172263},{"$f":"S10/X10/V10","v":0},null,null,null,null,null,null,null,null,"L",2.63]
[null,null,"LEP 12kW",null,null,null,null,null,null,null,307.8,1.04,4.3,17.600000000000001,570.70000000000005,977.7,{"$f":"O11/P11","v":0.58371688657052268},{"$f":"O11/1000*3600/($B$2*L11*273.15/(K11)*4/$B$1)","v":12632.052083794515},{"$f":"P11/1000*3600/($B$2*M11*273.15/(K11)*4/$B$1)","v":5234.0339343437608}," ",0.8,0.75,2,2,{"$f":"R11/W11/U11","v":7895.0325523715719},{"$f":"S11/X11/V11","v":3489.3559562291739},null,null,null,null,null,null,null,null,"M",3.65]
[null,null,"ITER",null,25,null,null,null,null,null,307.8,1.04,4.3,17.600000000000001,570.70000000000005,977.7,{"$f":"O12/P12","v":0.58371688657052268},{"$f":"O12/1000*3600/($B$2*L12*273.15/(K12)*4/$B$1)","v":12632.052083794515},{"$f":"P12/1000*3600/($B$2*M12*273.15/(K12)*4/$B$1)","v":5234.0339343437608}," ",0.8,0.75,2,2,{"$f":"R12/W12/U12","v":7895.0325523715719},{"$f":"S12/X12/V12","v":3489.3559562291739},null,null,null,null,null,null,null,null,"M",3.65]
[]
[]
[null,null,"SNS20K"]

{"sheet":"SSLC-SULL","index":16,"n_rows":28,"n_cols":19,"rows_kept":28,"cut":false,"hidden":false,"merged":[]}
[]
[]
[]
[]
[]
[]
[]
[]
[]
[]
[]
[]
[]
[null,null,null,null,null,null,null,null,null,null,null,null,null,null,null,"Pin stage 1","bar abs",1.05,1.05]
[null,null,null,null,null,null,null,null,null,null,null,null,null,null,null,"Vi stage 1",null,2.2999999999999998,3]
[null,null,null,null,null,null,null,null,null,null,null,"Vi^g=Pr",null,null,null,"Gamme",null,1.4,1.4]
[null,null,null,null,null,null,null,null,null,null,"Pr",3,3.5,null,null,"Pint","bar abs",{"$f":"R14*R15^R16","v":3.3698321509313698},4.8883135578333823]
[null,null,null,null,null,null,null,null,null,null,"Vi",2.2000000000000002,2.6,null,null,"Vi stage 2",null,2.6,3]
[null,null,null,null,null,null,null,null,null,null,"gamma",{"$f":"LN(L17)/LN(L18)","v":1.3933693106251768},{"$f":"LN(M17)/LN(M18)","v":1.3110915363859368},null,null,"gamma",null,1.4,1.4]
[null,null,null,null,null,null,null,null,null,null,null,null,null,null,null,"Pout stage 2","bar abs",{"$f":"R17*R18^R19","v":12.840175409146559},22.757723275902535]
[]
[]
[]
[]
[]
[null,null,null,null,null,null,null,null,null,null,null,"Pin",{"$f":"M27/M28","v":2},{"$f":"N27/N28","v":1.6},1.3333333333333333,1.1428571428571428,1]
[null,null,null,null,null,null,null,null,null,null,null,"Pout",4,4,4,4,4]
[null,null,null,null,null,null,null,null,null,null,null,null,2,2.5,3,3.5,4]

{"sheet":"JLAB-HOWDEN","index":17,"n_rows":23,"n_cols":10,"rows_kept":23,"cut":false,"hidden":false,"merged":[]}
[]
[]
[]
[]
[]
[]
[]
[]
[]
[]
[]
[]
[]
[]
[]
[]
[]
[]
[]
[null,null,null,null,null,null,null,null,null,"Vi^g=Pr"]
[null,null,null,null,null,null,null,null,"Pr",7.24]
[null,null,null,null,null,null,null,null,"Vi",3.5]
[null,null,null,null,null,null,null,null,"gamma",{"$f":"LN(J21)/LN(J22)","v":1.5802041217543736}]

{"sheet":"SNS","index":18,"n_rows":66,"n_cols":13,"rows_kept":66,"cut":false,"hidden":false,"merged":[]}
[]
[]
[]
[]
[]
[]
[]
[]
[]
[]
[]
[]
[]
[]
[]
[]
[]
[]
[]
[]
[]
[]
[]
[]
[]
[]
[]
[]
[]
[]
[]
[]
[]
[]
[]
[]
[]
[]
[]
[]
[]
[]
[]
[]
[]
[]
[]
[]
[]
[]
[]
[]
[]
[]
[]
[]
[null,null,"Vi^g=Pr"]
[null,"Pr",3,3.5,null,null,null,null,null,"Pin stage 1","bar abs",1.05,1.05]
[null,"Vi",2.2000000000000002,2.6,null,null,null,null,null,"Vi stage 1",null,2.2999999999999998,3]
[null,"gamma",{"$f":"LN(C58)/LN(C59)","v":1.3933693106251768},{"$f":"LN(D58)/LN(D59)","v":1.3110915363859368},null,null,null,null,null,"Gamme",null,1.35,1.4]
[null,null,null,null,null,null,null,null,null,"Pint","bar abs",{"$f":"L58*L59^L60","v":3.2323760310498533},4.8883135578333823]
[null,null,null,null,null,null,null,null,null,"Pr",null,{"$f":"L61/L58","v":3.078453362904622}]
[null,null,"Vi^g=Pr",null,null,null,null,null,null,"Vi stage 2",null,3.2,3]
[null,"Pr",3,3.7,null,null,null,null,null,"gamma",null,1.35,1.4]
[null,"gamma",1.6659999999999999,1.6659999999999999,null,null,null,null,null,"Pout stage 2","bar abs",{"$f":"L61*L63^L64","v":15.540834962232454},{"$f":"M61*M63^M64","v":22.757723275902535}]
[null,"Vi",{"$f":"C64^(1/C65)","v":1.9336920323693891},{"$f":"D64^(1/D65)","v":2.1930950639640496},null,null,null,null,null,"Pr",null,{"$f":"L65/L62","v":5.0482606459138184}]

{"sheet":"EAST","index":19,"n_rows":12,"n_cols":5,"rows_kept":12,"cut":false,"hidden":false,"merged":[]}
[]
[]
[]
[]
[]
[]
[]
[null,null,"Pin",0.105,0.51]
[null,null,"Pout",0.51,2]
[null,null,"Pr",{"$f":"D9/D8","v":4.8571428571428577},{"$f":"E9/E8","v":3.9215686274509802}]
[null,null,"Vi",null,3.5]
[null,null,"g",null,{"$f":"LN(E10)/LN(E11)","v":1.0907823492459525}]